Workbook

Sheet Turniertagebuch
A1: Turniertagebuch
A2: Spieler:in | D2: Alterskategorie 2026
D3: Alterskategorie 2027
A5: Datum Turnierstart | B5: Turniername | C5: Teilnehmerfeld | D5: Turnierkategorie | E5: Resultat Einzel | F5: Punkte | G5: Resultat Doppel | H5: Punkte | I5: Resultat Mixed | J5: Punkte
F6: =IF(AND($D6=1,E6=Wertetabelle!$C$2),Wertetabelle!$E$3,IF(AND($D6=1,E6=Wertetabelle!$C$3),Wertetabelle!$E$3,IF(AND($D6=1,E6=Wertetabelle!$C$4),Wertetabelle!$F$3,IF(AND($D6=1,E6=Wertetabelle!$C$5),Wertetabelle!$G$3,IF(AND($D6=1,E6=Wertetabelle!$C$6),Wertetabelle!$H$3,IF(AND($D6=1,E6=Wertetabelle!$C$7),Wertetabelle!$I$3,IF(AND($D6=1,E6=Wertetabelle!$C$8),Wertetabelle!J3,IF(AND($D6=2,E6=Wertetabelle!$C$2),Wertetabelle!$E$4,IF(AND($D6=2,E6=Wertetabelle!$C$3),Wertetabelle!$E$4,IF(AND($D6=2,E6=Wertetabelle!$C$4),Wertetabelle!$F$4,IF(AND($D6=2,E6=Wertetabelle!$C$5),Wertetabelle!$G$4,IF(AND($D6=2,E6=Wertetabelle!$C$6),Wertetabelle!$H$4,IF(AND($D6=2,E6=Wertetabelle!C7),Wertetabelle!$I$4,IF(AND($D6=2,E6=Wertetabelle!$C$8),Wertetabelle!$J$4,IF(AND($D6=3,E6=Wertetabelle!$C$2),Wertetabelle!$E$5,IF(AND($D6=3,E6=Wertetabelle!$C$3),Wertetabelle!$E$5,IF(AND($D6=3,E6=Wertetabelle!$C$4),Wertetabelle!$F$5,IF(AND($D6=3,E6=Wertetabelle!$C$5),Wertetabelle!$G$5,IF(AND($D6=3,E6=Wertetabelle!$C$6),Wertetabelle!$H$5,IF(AND($D6=3,E6=Wertetabelle!$C$7),Wertetabelle!$I$5,IF(AND($D6=3,E6=Wertetabelle!$C$8),Wertetabelle!$J$5,IF(AND($D6=4,E6=Wertetabelle!$C$2),Wertetabelle!$E$6,IF(AND($D6=4,E6=Wertetabelle!$C$3),Wertetabelle!$E$6,IF(AND($D6=4,E6=Wertetabelle!$C$4),Wertetabelle!$F$6,IF(AND($D6=4,E6=Wertetabelle!$C$5),Wertetabelle!$G$6,IF(AND($D6=4,E6=Wertetabelle!$C$6),Wertetabelle!$H$6,IF(AND($D6=4,E6=Wertetabelle!$C$7),Wertetabelle!$I$6,IF(AND($D6=4,E6=Wertetabelle!$C$8),Wertetabelle!$J$6,IF(AND($D6=5,E6=Wertetabelle!$C$2),Wertetabelle!$E$7,IF(AND($D6=5,E6=Wertetabelle!$C$3),Wertetabelle!$E$7,IF(AND($D6=5,E6=Wertetabelle!$C$4),Wertetabelle!$F$7,IF(AND($D6=5,E6=Wertetabelle!$C$5),Wertetabelle!$G$7,IF(AND($D6=5,E6=Wertetabelle!$C$6),Wertetabelle!$H$7,IF(AND($D6=5,E6=Wertetabelle!$C$7),Wertetabelle!$I$7,IF(AND($D6=5,E6=Wertetabelle!$C$8),Wertetabelle!$J$7,IF(AND($D6=6,E6=Wertetabelle!$C$2),Wertetabelle!$E$8,IF(AND($D6=6,E6=Wertetabelle!$C$3),Wertetabelle!$E$8,IF(AND($D6=6,E6=Wertetabelle!$C$4),Wertetabelle!$F$8,IF(AND($D6=6,E6=Wertetabelle!$C$5),Wertetabelle!$G$8,IF(AND($D6=6,E6=Wertetabelle!$C$6),Wertetabelle!$H$8,IF(AND($D6=6,E6=Wertetabelle!$C$7),Wertetabelle!$I$8,IF(AND($D6=6,E6=Wertetabelle!$C$8),Wertetabelle!$J$8,IF(AND($D6=7,E6=Wertetabelle!$C$2),Wertetabelle!$E$9,IF(AND($D6=7,E6=Wertetabelle!$C$3),Wertetabelle!$E$9,IF(AND($D6=7,E6=Wertetabelle!$C$4),Wertetabelle!$F$9,IF(AND($D6=7,E6=Wertetabelle!$C$5),Wertetabelle!$G$9,IF(AND($D6=7,E6=Wertetabelle!$C$6),Wertetabelle!$H$9,IF(AND($D6=7,E6=Wertetabelle!$C$7),Wertetabelle!$I$9,IF(AND($D6=7,E6=Wertetabelle!$C$8),Wertetabelle!$J$9,IF(AND($D6=8,E6=Wertetabelle!$C$2),Wertetabelle!$E$10,IF(AND($D6=8,E6=Wertetabelle!$C$3),Wertetabelle!$E$10,IF(AND($D6=8,E6=Wertetabelle!$C$4),Wertetabelle!$F$10,IF(AND($D6=8,E6=Wertetabelle!$C$5),Wertetabelle!$G$10,IF(AND($D6=8,E6=Wertetabelle!$C$6),Wertetabelle!$H$10,IF(AND($D6=8,E6=Wertetabelle!$C$7),Wertetabelle!$I$10,IF(AND($D6=8,E6=Wertetabelle!$C$8),Wertetabelle!$J$10,0)))))))))))))))))))))))))))))))))))))))))))))))))))))))) -> 0 | H6: =IF(AND($D6=1,G6=Wertetabelle!$C$2),Wertetabelle!$E$3,IF(AND($D6=1,G6=Wertetabelle!$C$3),Wertetabelle!$E$3,IF(AND($D6=1,G6=Wertetabelle!$C$4),Wertetabelle!$F$3,IF(AND($D6=1,G6=Wertetabelle!$C$5),Wertetabelle!$G$3,IF(AND($D6=1,G6=Wertetabelle!$C$6),Wertetabelle!$H$3,IF(AND($D6=1,G6=Wertetabelle!$C$7),Wertetabelle!$I$3,IF(AND($D6=1,G6=Wertetabelle!$C$8),Wertetabelle!L3,IF(AND($D6=2,G6=Wertetabelle!$C$2),Wertetabelle!$E$4,IF(AND($D6=2,G6=Wertetabelle!$C$3),Wertetabelle!$E$4,IF(AND($D6=2,G6=Wertetabelle!$C$4),Wertetabelle!$F$4,IF(AND($D6=2,G6=Wertetabelle!$C$5),Wertetabelle!$G$4,IF(AND($D6=2,G6=Wertetabelle!$C$6),Wertetabelle!$H$4,IF(AND($D6=2,G6=Wertetabelle!E7),Wertetabelle!$I$4,IF(AND($D6=2,G6=Wertetabelle!$C$8),Wertetabelle!$J$4,IF(AND($D6=3,G6=Wertetabelle!$C$2),Wertetabelle!$E$5,IF(AND($D6=3,G6=Wertetabelle!$C$3),Wertetabelle!$E$5,IF(AND($D6=3,G6=Wertetabelle!$C$4),Wertetabelle!$F$5,IF(AND($D6=3,G6=Wertetabelle!$C$5),Wertetabelle!$G$5,IF(AND($D6=3,G6=Wertetabelle!$C$6),Wertetabelle!$H$5,IF(AND($D6=3,G6=Wertetabelle!$C$7),Wertetabelle!$I$5,IF(AND($D6=3,G6=Wertetabelle!$C$8),Wertetabelle!$J$5,IF(AND($D6=4,G6=Wertetabelle!$C$2),Wertetabelle!$E$6,IF(AND($D6=4,G6=Wertetabelle!$C$3),Wertetabelle!$E$6,IF(AND($D6=4,G6=Wertetabelle!$C$4),Wertetabelle!$F$6,IF(AND($D6=4,G6=Wertetabelle!$C$5),Wertetabelle!$G$6,IF(AND($D6=4,G6=Wertetabelle!$C$6),Wertetabelle!$H$6,IF(AND($D6=4,G6=Wertetabelle!$C$7),Wertetabelle!$I$6,IF(AND($D6=4,G6=Wertetabelle!$C$8),Wertetabelle!$J$6,IF(AND($D6=5,G6=Wertetabelle!$C$2),Wertetabelle!$E$7,IF(AND($D6=5,G6=Wertetabelle!$C$3),Wertetabelle!$E$7,IF(AND($D6=5,G6=Wertetabelle!$C$4),Wertetabelle!$F$7,IF(AND($D6=5,G6=Wertetabelle!$C$5),Wertetabelle!$G$7,IF(AND($D6=5,G6=Wertetabelle!$C$6),Wertetabelle!$H$7,IF(AND($D6=5,G6=Wertetabelle!$C$7),Wertetabelle!$I$7,IF(AND($D6=5,G6=Wertetabelle!$C$8),Wertetabelle!$J$7,IF(AND($D6=6,G6=Wertetabelle!$C$2),Wertetabelle!$E$8,IF(AND($D6=6,G6=Wertetabelle!$C$3),Wertetabelle!$E$8,IF(AND($D6=6,G6=Wertetabelle!$C$4),Wertetabelle!$F$8,IF(AND($D6=6,G6=Wertetabelle!$C$5),Wertetabelle!$G$8,IF(AND($D6=6,G6=Wertetabelle!$C$6),Wertetabelle!$H$8,IF(AND($D6=6,G6=Wertetabelle!$C$7),Wertetabelle!$I$8,IF(AND($D6=6,G6=Wertetabelle!$C$8),Wertetabelle!$J$8,IF(AND($D6=7,G6=Wertetabelle!$C$2),Wertetabelle!$E$9,IF(AND($D6=7,G6=Wertetabelle!$C$3),Wertetabelle!$E$9,IF(AND($D6=7,G6=Wertetabelle!$C$4),Wertetabelle!$F$9,IF(AND($D6=7,G6=Wertetabelle!$C$5),Wertetabelle!$G$9,IF(AND($D6=7,G6=Wertetabelle!$C$6),Wertetabelle!$H$9,IF(AND($D6=7,G6=Wertetabelle!$C$7),Wertetabelle!$I$9,IF(AND($D6=7,G6=Wertetabelle!$C$8),Wertetabelle!$J$9,IF(AND($D6=8,G6=Wertetabelle!$C$2),Wertetabelle!$E$10,IF(AND($D6=8,G6=Wertetabelle!$C$3),Wertetabelle!$E$10,IF(AND($D6=8,G6=Wertetabelle!$C$4),Wertetabelle!$F$10,IF(AND($D6=8,G6=Wertetabelle!$C$5),Wertetabelle!$G$10,IF(AND($D6=8,G6=Wertetabelle!$C$6),Wertetabelle!$H$10,IF(AND($D6=8,G6=Wertetabelle!$C$7),Wertetabelle!$I$10,IF(AND($D6=8,G6=Wertetabelle!$C$8),Wertetabelle!$J$10,0)))))))))))))))))))))))))))))))))))))))))))))))))))))))) -> 0 | J6: =IF(AND($D6=1,I6=Wertetabelle!$C$2),Wertetabelle!$E$3,IF(AND($D6=1,I6=Wertetabelle!$C$3),Wertetabelle!$E$3,IF(AND($D6=1,I6=Wertetabelle!$C$4),Wertetabelle!$F$3,IF(AND($D6=1,I6=Wertetabelle!$C$5),Wertetabelle!$G$3,IF(AND($D6=1,I6=Wertetabelle!$C$6),Wertetabelle!$H$3,IF(AND($D6=1,I6=Wertetabelle!$C$7),Wertetabelle!$I$3,IF(AND($D6=1,I6=Wertetabelle!$C$8),Wertetabelle!N3,IF(AND($D6=2,I6=Wertetabelle!$C$2),Wertetabelle!$E$4,IF(AND($D6=2,I6=Wertetabelle!$C$3),Wertetabelle!$E$4,IF(AND($D6=2,I6=Wertetabelle!$C$4),Wertetabelle!$F$4,IF(AND($D6=2,I6=Wertetabelle!$C$5),Wertetabelle!$G$4,IF(AND($D6=2,I6=Wertetabelle!$C$6),Wertetabelle!$H$4,IF(AND($D6=2,I6=Wertetabelle!G7),Wertetabelle!$I$4,IF(AND($D6=2,I6=Wertetabelle!$C$8),Wertetabelle!$J$4,IF(AND($D6=3,I6=Wertetabelle!$C$2),Wertetabelle!$E$5,IF(AND($D6=3,I6=Wertetabelle!$C$3),Wertetabelle!$E$5,IF(AND($D6=3,I6=Wertetabelle!$C$4),Wertetabelle!$F$5,IF(AND($D6=3,I6=Wertetabelle!$C$5),Wertetabelle!$G$5,IF(AND($D6=3,I6=Wertetabelle!$C$6),Wertetabelle!$H$5,IF(AND($D6=3,I6=Wertetabelle!$C$7),Wertetabelle!$I$5,IF(AND($D6=3,I6=Wertetabelle!$C$8),Wertetabelle!$J$5,IF(AND($D6=4,I6=Wertetabelle!$C$2),Wertetabelle!$E$6,IF(AND($D6=4,I6=Wertetabelle!$C$3),Wertetabelle!$E$6,IF(AND($D6=4,I6=Wertetabelle!$C$4),Wertetabelle!$F$6,IF(AND($D6=4,I6=Wertetabelle!$C$5),Wertetabelle!$G$6,IF(AND($D6=4,I6=Wertetabelle!$C$6),Wertetabelle!$H$6,IF(AND($D6=4,I6=Wertetabelle!$C$7),Wertetabelle!$I$6,IF(AND($D6=4,I6=Wertetabelle!$C$8),Wertetabelle!$J$6,IF(AND($D6=5,I6=Wertetabelle!$C$2),Wertetabelle!$E$7,IF(AND($D6=5,I6=Wertetabelle!$C$3),Wertetabelle!$E$7,IF(AND($D6=5,I6=Wertetabelle!$C$4),Wertetabelle!$F$7,IF(AND($D6=5,I6=Wertetabelle!$C$5),Wertetabelle!$G$7,IF(AND($D6=5,I6=Wertetabelle!$C$6),Wertetabelle!$H$7,IF(AND($D6=5,I6=Wertetabelle!$C$7),Wertetabelle!$I$7,IF(AND($D6=5,I6=Wertetabelle!$C$8),Wertetabelle!$J$7,IF(AND($D6=6,I6=Wertetabelle!$C$2),Wertetabelle!$E$8,IF(AND($D6=6,I6=Wertetabelle!$C$3),Wertetabelle!$E$8,IF(AND($D6=6,I6=Wertetabelle!$C$4),Wertetabelle!$F$8,IF(AND($D6=6,I6=Wertetabelle!$C$5),Wertetabelle!$G$8,IF(AND($D6=6,I6=Wertetabelle!$C$6),Wertetabelle!$H$8,IF(AND($D6=6,I6=Wertetabelle!$C$7),Wertetabelle!$I$8,IF(AND($D6=6,I6=Wertetabelle!$C$8),Wertetabelle!$J$8,IF(AND($D6=7,I6=Wertetabelle!$C$2),Wertetabelle!$E$9,IF(AND($D6=7,I6=Wertetabelle!$C$3),Wertetabelle!$E$9,IF(AND($D6=7,I6=Wertetabelle!$C$4),Wertetabelle!$F$9,IF(AND($D6=7,I6=Wertetabelle!$C$5),Wertetabelle!$G$9,IF(AND($D6=7,I6=Wertetabelle!$C$6),Wertetabelle!$H$9,IF(AND($D6=7,I6=Wertetabelle!$C$7),Wertetabelle!$I$9,IF(AND($D6=7,I6=Wertetabelle!$C$8),Wertetabelle!$J$9,IF(AND($D6=8,I6=Wertetabelle!$C$2),Wertetabelle!$E$10,IF(AND($D6=8,I6=Wertetabelle!$C$3),Wertetabelle!$E$10,IF(AND($D6=8,I6=Wertetabelle!$C$4),Wertetabelle!$F$10,IF(AND($D6=8,I6=Wertetabelle!$C$5),Wertetabelle!$G$10,IF(AND($D6=8,I6=Wertetabelle!$C$6),Wertetabelle!$H$10,IF(AND($D6=8,I6=Wertetabelle!$C$7),Wertetabelle!$I$10,IF(AND($D6=8,I6=Wertetabelle!$C$8),Wertetabelle!$J$10,0)))))))))))))))))))))))))))))))))))))))))))))))))))))))) -> 0
F7: =IF(AND(D7=1,E7=Wertetabelle!$C$2),Wertetabelle!$E$3,IF(AND(D7=1,E7=Wertetabelle!$C$3),Wertetabelle!$E$3,IF(AND(D7=1,E7=Wertetabelle!$C$4),Wertetabelle!$F$3,IF(AND(D7=1,E7=Wertetabelle!$C$5),Wertetabelle!$G$3,IF(AND(D7=1,E7=Wertetabelle!$C$6),Wertetabelle!$H$3,IF(AND(D7=1,E7=Wertetabelle!$C$7),Wertetabelle!$I$3,IF(AND(D7=1,E7=Wertetabelle!$C$8),Wertetabelle!J4,IF(AND(D7=2,E7=Wertetabelle!$C$2),Wertetabelle!$E$4,IF(AND(D7=2,E7=Wertetabelle!$C$3),Wertetabelle!$E$4,IF(AND(D7=2,E7=Wertetabelle!$C$4),Wertetabelle!$F$4,IF(AND(D7=2,E7=Wertetabelle!$C$5),Wertetabelle!$G$4,IF(AND(D7=2,E7=Wertetabelle!$C$6),Wertetabelle!$H$4,IF(AND(D7=2,E7=Wertetabelle!C8),Wertetabelle!$I$4,IF(AND(D7=2,E7=Wertetabelle!$C$8),Wertetabelle!$J$4,IF(AND(D7=3,E7=Wertetabelle!$C$2),Wertetabelle!$E$5,IF(AND(D7=3,E7=Wertetabelle!$C$3),Wertetabelle!$E$5,IF(AND(D7=3,E7=Wertetabelle!$C$4),Wertetabelle!$F$5,IF(AND(D7=3,E7=Wertetabelle!$C$5),Wertetabelle!$G$5,IF(AND(D7=3,E7=Wertetabelle!$C$6),Wertetabelle!$H$5,IF(AND(D7=3,E7=Wertetabelle!$C$7),Wertetabelle!$I$5,IF(AND(D7=3,E7=Wertetabelle!$C$8),Wertetabelle!$J$5,IF(AND(D7=4,E7=Wertetabelle!$C$2),Wertetabelle!$E$6,IF(AND(D7=4,E7=Wertetabelle!$C$3),Wertetabelle!$E$6,IF(AND(D7=4,E7=Wertetabelle!$C$4),Wertetabelle!$F$6,IF(AND(D7=4,E7=Wertetabelle!$C$5),Wertetabelle!$G$6,IF(AND(D7=4,E7=Wertetabelle!$C$6),Wertetabelle!$H$6,IF(AND(D7=4,E7=Wertetabelle!$C$7),Wertetabelle!$I$6,IF(AND(D7=4,E7=Wertetabelle!$C$8),Wertetabelle!$J$6,IF(AND(D7=5,E7=Wertetabelle!$C$2),Wertetabelle!$E$7,IF(AND(D7=5,E7=Wertetabelle!$C$3),Wertetabelle!$E$7,IF(AND(D7=5,E7=Wertetabelle!$C$4),Wertetabelle!$F$7,IF(AND(D7=5,E7=Wertetabelle!$C$5),Wertetabelle!$G$7,IF(AND(D7=5,E7=Wertetabelle!$C$6),Wertetabelle!$H$7,IF(AND(D7=5,E7=Wertetabelle!$C$7),Wertetabelle!$I$7,IF(AND(D7=5,E7=Wertetabelle!$C$8),Wertetabelle!$J$7,IF(AND(D7=6,E7=Wertetabelle!$C$2),Wertetabelle!$E$8,IF(AND(D7=6,E7=Wertetabelle!$C$3),Wertetabelle!$E$8,IF(AND(D7=6,E7=Wertetabelle!$C$4),Wertetabelle!$F$8,IF(AND(D7=6,E7=Wertetabelle!$C$5),Wertetabelle!$G$8,IF(AND(D7=6,E7=Wertetabelle!$C$6),Wertetabelle!$H$8,IF(AND(D7=6,E7=Wertetabelle!$C$7),Wertetabelle!$I$8,IF(AND(D7=6,E7=Wertetabelle!$C$8),Wertetabelle!$J$8,IF(AND(D7=7,E7=Wertetabelle!$C$2),Wertetabelle!$E$9,IF(AND(D7=7,E7=Wertetabelle!$C$3),Wertetabelle!$E$9,IF(AND(D7=7,E7=Wertetabelle!$C$4),Wertetabelle!$F$9,IF(AND(D7=7,E7=Wertetabelle!$C$5),Wertetabelle!$G$9,IF(AND(D7=7,E7=Wertetabelle!$C$6),Wertetabelle!$H$9,IF(AND(D7=7,E7=Wertetabelle!$C$7),Wertetabelle!$I$9,IF(AND(D7=7,E7=Wertetabelle!$C$8),Wertetabelle!$J$9,IF(AND(D7=8,E7=Wertetabelle!$C$2),Wertetabelle!$E$10,IF(AND(D7=8,E7=Wertetabelle!$C$3),Wertetabelle!$E$10,IF(AND(D7=8,E7=Wertetabelle!$C$4),Wertetabelle!$F$10,IF(AND(D7=8,E7=Wertetabelle!$C$5),Wertetabelle!$G$10,IF(AND(D7=8,E7=Wertetabelle!$C$6),Wertetabelle!$H$10,IF(AND(D7=8,E7=Wertetabelle!$C$7),Wertetabelle!$I$10,IF(AND(D7=8,E7=Wertetabelle!$C$8),Wertetabelle!$J$10,0)))))))))))))))))))))))))))))))))))))))))))))))))))))))) -> 0 | H7: =IF(AND($D7=1,G7=Wertetabelle!$C$2),Wertetabelle!$E$3,IF(AND($D7=1,G7=Wertetabelle!$C$3),Wertetabelle!$E$3,IF(AND($D7=1,G7=Wertetabelle!$C$4),Wertetabelle!$F$3,IF(AND($D7=1,G7=Wertetabelle!$C$5),Wertetabelle!$G$3,IF(AND($D7=1,G7=Wertetabelle!$C$6),Wertetabelle!$H$3,IF(AND($D7=1,G7=Wertetabelle!$C$7),Wertetabelle!$I$3,IF(AND($D7=1,G7=Wertetabelle!$C$8),Wertetabelle!L4,IF(AND($D7=2,G7=Wertetabelle!$C$2),Wertetabelle!$E$4,IF(AND($D7=2,G7=Wertetabelle!$C$3),Wertetabelle!$E$4,IF(AND($D7=2,G7=Wertetabelle!$C$4),Wertetabelle!$F$4,IF(AND($D7=2,G7=Wertetabelle!$C$5),Wertetabelle!$G$4,IF(AND($D7=2,G7=Wertetabelle!$C$6),Wertetabelle!$H$4,IF(AND($D7=2,G7=Wertetabelle!E8),Wertetabelle!$I$4,IF(AND($D7=2,G7=Wertetabelle!$C$8),Wertetabelle!$J$4,IF(AND($D7=3,G7=Wertetabelle!$C$2),Wertetabelle!$E$5,IF(AND($D7=3,G7=Wertetabelle!$C$3),Wertetabelle!$E$5,IF(AND($D7=3,G7=Wertetabelle!$C$4),Wertetabelle!$F$5,IF(AND($D7=3,G7=Wertetabelle!$C$5),Wertetabelle!$G$5,IF(AND($D7=3,G7=Wertetabelle!$C$6),Wertetabelle!$H$5,IF(AND($D7=3,G7=Wertetabelle!$C$7),Wertetabelle!$I$5,IF(AND($D7=3,G7=Wertetabelle!$C$8),Wertetabelle!$J$5,IF(AND($D7=4,G7=Wertetabelle!$C$2),Wertetabelle!$E$6,IF(AND($D7=4,G7=Wertetabelle!$C$3),Wertetabelle!$E$6,IF(AND($D7=4,G7=Wertetabelle!$C$4),Wertetabelle!$F$6,IF(AND($D7=4,G7=Wertetabelle!$C$5),Wertetabelle!$G$6,IF(AND($D7=4,G7=Wertetabelle!$C$6),Wertetabelle!$H$6,IF(AND($D7=4,G7=Wertetabelle!$C$7),Wertetabelle!$I$6,IF(AND($D7=4,G7=Wertetabelle!$C$8),Wertetabelle!$J$6,IF(AND($D7=5,G7=Wertetabelle!$C$2),Wertetabelle!$E$7,IF(AND($D7=5,G7=Wertetabelle!$C$3),Wertetabelle!$E$7,IF(AND($D7=5,G7=Wertetabelle!$C$4),Wertetabelle!$F$7,IF(AND($D7=5,G7=Wertetabelle!$C$5),Wertetabelle!$G$7,IF(AND($D7=5,G7=Wertetabelle!$C$6),Wertetabelle!$H$7,IF(AND($D7=5,G7=Wertetabelle!$C$7),Wertetabelle!$I$7,IF(AND($D7=5,G7=Wertetabelle!$C$8),Wertetabelle!$J$7,IF(AND($D7=6,G7=Wertetabelle!$C$2),Wertetabelle!$E$8,IF(AND($D7=6,G7=Wertetabelle!$C$3),Wertetabelle!$E$8,IF(AND($D7=6,G7=Wertetabelle!$C$4),Wertetabelle!$F$8,IF(AND($D7=6,G7=Wertetabelle!$C$5),Wertetabelle!$G$8,IF(AND($D7=6,G7=Wertetabelle!$C$6),Wertetabelle!$H$8,IF(AND($D7=6,G7=Wertetabelle!$C$7),Wertetabelle!$I$8,IF(AND($D7=6,G7=Wertetabelle!$C$8),Wertetabelle!$J$8,IF(AND($D7=7,G7=Wertetabelle!$C$2),Wertetabelle!$E$9,IF(AND($D7=7,G7=Wertetabelle!$C$3),Wertetabelle!$E$9,IF(AND($D7=7,G7=Wertetabelle!$C$4),Wertetabelle!$F$9,IF(AND($D7=7,G7=Wertetabelle!$C$5),Wertetabelle!$G$9,IF(AND($D7=7,G7=Wertetabelle!$C$6),Wertetabelle!$H$9,IF(AND($D7=7,G7=Wertetabelle!$C$7),Wertetabelle!$I$9,IF(AND($D7=7,G7=Wertetabelle!$C$8),Wertetabelle!$J$9,IF(AND($D7=8,G7=Wertetabelle!$C$2),Wertetabelle!$E$10,IF(AND($D7=8,G7=Wertetabelle!$C$3),Wertetabelle!$E$10,IF(AND($D7=8,G7=Wertetabelle!$C$4),Wertetabelle!$F$10,IF(AND($D7=8,G7=Wertetabelle!$C$5),Wertetabelle!$G$10,IF(AND($D7=8,G7=Wertetabelle!$C$6),Wertetabelle!$H$10,IF(AND($D7=8,G7=Wertetabelle!$C$7),Wertetabelle!$I$10,IF(AND($D7=8,G7=Wertetabelle!$C$8),Wertetabelle!$J$10,0)))))))))))))))))))))))))))))))))))))))))))))))))))))))) -> 0 | J7: =IF(AND($D7=1,I7=Wertetabelle!$C$2),Wertetabelle!$E$3,IF(AND($D7=1,I7=Wertetabelle!$C$3),Wertetabelle!$E$3,IF(AND($D7=1,I7=Wertetabelle!$C$4),Wertetabelle!$F$3,IF(AND($D7=1,I7=Wertetabelle!$C$5),Wertetabelle!$G$3,IF(AND($D7=1,I7=Wertetabelle!$C$6),Wertetabelle!$H$3,IF(AND($D7=1,I7=Wertetabelle!$C$7),Wertetabelle!$I$3,IF(AND($D7=1,I7=Wertetabelle!$C$8),Wertetabelle!N4,IF(AND($D7=2,I7=Wertetabelle!$C$2),Wertetabelle!$E$4,IF(AND($D7=2,I7=Wertetabelle!$C$3),Wertetabelle!$E$4,IF(AND($D7=2,I7=Wertetabelle!$C$4),Wertetabelle!$F$4,IF(AND($D7=2,I7=Wertetabelle!$C$5),Wertetabelle!$G$4,IF(AND($D7=2,I7=Wertetabelle!$C$6),Wertetabelle!$H$4,IF(AND($D7=2,I7=Wertetabelle!G8),Wertetabelle!$I$4,IF(AND($D7=2,I7=Wertetabelle!$C$8),Wertetabelle!$J$4,IF(AND($D7=3,I7=Wertetabelle!$C$2),Wertetabelle!$E$5,IF(AND($D7=3,I7=Wertetabelle!$C$3),Wertetabelle!$E$5,IF(AND($D7=3,I7=Wertetabelle!$C$4),Wertetabelle!$F$5,IF(AND($D7=3,I7=Wertetabelle!$C$5),Wertetabelle!$G$5,IF(AND($D7=3,I7=Wertetabelle!$C$6),Wertetabelle!$H$5,IF(AND($D7=3,I7=Wertetabelle!$C$7),Wertetabelle!$I$5,IF(AND($D7=3,I7=Wertetabelle!$C$8),Wertetabelle!$J$5,IF(AND($D7=4,I7=Wertetabelle!$C$2),Wertetabelle!$E$6,IF(AND($D7=4,I7=Wertetabelle!$C$3),Wertetabelle!$E$6,IF(AND($D7=4,I7=Wertetabelle!$C$4),Wertetabelle!$F$6,IF(AND($D7=4,I7=Wertetabelle!$C$5),Wertetabelle!$G$6,IF(AND($D7=4,I7=Wertetabelle!$C$6),Wertetabelle!$H$6,IF(AND($D7=4,I7=Wertetabelle!$C$7),Wertetabelle!$I$6,IF(AND($D7=4,I7=Wertetabelle!$C$8),Wertetabelle!$J$6,IF(AND($D7=5,I7=Wertetabelle!$C$2),Wertetabelle!$E$7,IF(AND($D7=5,I7=Wertetabelle!$C$3),Wertetabelle!$E$7,IF(AND($D7=5,I7=Wertetabelle!$C$4),Wertetabelle!$F$7,IF(AND($D7=5,I7=Wertetabelle!$C$5),Wertetabelle!$G$7,IF(AND($D7=5,I7=Wertetabelle!$C$6),Wertetabelle!$H$7,IF(AND($D7=5,I7=Wertetabelle!$C$7),Wertetabelle!$I$7,IF(AND($D7=5,I7=Wertetabelle!$C$8),Wertetabelle!$J$7,IF(AND($D7=6,I7=Wertetabelle!$C$2),Wertetabelle!$E$8,IF(AND($D7=6,I7=Wertetabelle!$C$3),Wertetabelle!$E$8,IF(AND($D7=6,I7=Wertetabelle!$C$4),Wertetabelle!$F$8,IF(AND($D7=6,I7=Wertetabelle!$C$5),Wertetabelle!$G$8,IF(AND($D7=6,I7=Wertetabelle!$C$6),Wertetabelle!$H$8,IF(AND($D7=6,I7=Wertetabelle!$C$7),Wertetabelle!$I$8,IF(AND($D7=6,I7=Wertetabelle!$C$8),Wertetabelle!$J$8,IF(AND($D7=7,I7=Wertetabelle!$C$2),Wertetabelle!$E$9,IF(AND($D7=7,I7=Wertetabelle!$C$3),Wertetabelle!$E$9,IF(AND($D7=7,I7=Wertetabelle!$C$4),Wertetabelle!$F$9,IF(AND($D7=7,I7=Wertetabelle!$C$5),Wertetabelle!$G$9,IF(AND($D7=7,I7=Wertetabelle!$C$6),Wertetabelle!$H$9,IF(AND($D7=7,I7=Wertetabelle!$C$7),Wertetabelle!$I$9,IF(AND($D7=7,I7=Wertetabelle!$C$8),Wertetabelle!$J$9,IF(AND($D7=8,I7=Wertetabelle!$C$2),Wertetabelle!$E$10,IF(AND($D7=8,I7=Wertetabelle!$C$3),Wertetabelle!$E$10,IF(AND($D7=8,I7=Wertetabelle!$C$4),Wertetabelle!$F$10,IF(AND($D7=8,I7=Wertetabelle!$C$5),Wertetabelle!$G$10,IF(AND($D7=8,I7=Wertetabelle!$C$6),Wertetabelle!$H$10,IF(AND($D7=8,I7=Wertetabelle!$C$7),Wertetabelle!$I$10,IF(AND($D7=8,I7=Wertetabelle!$C$8),Wertetabelle!$J$10,0)))))))))))))))))))))))))))))))))))))))))))))))))))))))) -> 0
F8: =IF(AND(D8=1,E8=Wertetabelle!$C$2),Wertetabelle!$E$3,IF(AND(D8=1,E8=Wertetabelle!$C$3),Wertetabelle!$E$3,IF(AND(D8=1,E8=Wertetabelle!$C$4),Wertetabelle!$F$3,IF(AND(D8=1,E8=Wertetabelle!$C$5),Wertetabelle!$G$3,IF(AND(D8=1,E8=Wertetabelle!$C$6),Wertetabelle!$H$3,IF(AND(D8=1,E8=Wertetabelle!$C$7),Wertetabelle!$I$3,IF(AND(D8=1,E8=Wertetabelle!$C$8),Wertetabelle!J5,IF(AND(D8=2,E8=Wertetabelle!$C$2),Wertetabelle!$E$4,IF(AND(D8=2,E8=Wertetabelle!$C$3),Wertetabelle!$E$4,IF(AND(D8=2,E8=Wertetabelle!$C$4),Wertetabelle!$F$4,IF(AND(D8=2,E8=Wertetabelle!$C$5),Wertetabelle!$G$4,IF(AND(D8=2,E8=Wertetabelle!$C$6),Wertetabelle!$H$4,IF(AND(D8=2,E8=Wertetabelle!C9),Wertetabelle!$I$4,IF(AND(D8=2,E8=Wertetabelle!$C$8),Wertetabelle!$J$4,IF(AND(D8=3,E8=Wertetabelle!$C$2),Wertetabelle!$E$5,IF(AND(D8=3,E8=Wertetabelle!$C$3),Wertetabelle!$E$5,IF(AND(D8=3,E8=Wertetabelle!$C$4),Wertetabelle!$F$5,IF(AND(D8=3,E8=Wertetabelle!$C$5),Wertetabelle!$G$5,IF(AND(D8=3,E8=Wertetabelle!$C$6),Wertetabelle!$H$5,IF(AND(D8=3,E8=Wertetabelle!$C$7),Wertetabelle!$I$5,IF(AND(D8=3,E8=Wertetabelle!$C$8),Wertetabelle!$J$5,IF(AND(D8=4,E8=Wertetabelle!$C$2),Wertetabelle!$E$6,IF(AND(D8=4,E8=Wertetabelle!$C$3),Wertetabelle!$E$6,IF(AND(D8=4,E8=Wertetabelle!$C$4),Wertetabelle!$F$6,IF(AND(D8=4,E8=Wertetabelle!$C$5),Wertetabelle!$G$6,IF(AND(D8=4,E8=Wertetabelle!$C$6),Wertetabelle!$H$6,IF(AND(D8=4,E8=Wertetabelle!$C$7),Wertetabelle!$I$6,IF(AND(D8=4,E8=Wertetabelle!$C$8),Wertetabelle!$J$6,IF(AND(D8=5,E8=Wertetabelle!$C$2),Wertetabelle!$E$7,IF(AND(D8=5,E8=Wertetabelle!$C$3),Wertetabelle!$E$7,IF(AND(D8=5,E8=Wertetabelle!$C$4),Wertetabelle!$F$7,IF(AND(D8=5,E8=Wertetabelle!$C$5),Wertetabelle!$G$7,IF(AND(D8=5,E8=Wertetabelle!$C$6),Wertetabelle!$H$7,IF(AND(D8=5,E8=Wertetabelle!$C$7),Wertetabelle!$I$7,IF(AND(D8=5,E8=Wertetabelle!$C$8),Wertetabelle!$J$7,IF(AND(D8=6,E8=Wertetabelle!$C$2),Wertetabelle!$E$8,IF(AND(D8=6,E8=Wertetabelle!$C$3),Wertetabelle!$E$8,IF(AND(D8=6,E8=Wertetabelle!$C$4),Wertetabelle!$F$8,IF(AND(D8=6,E8=Wertetabelle!$C$5),Wertetabelle!$G$8,IF(AND(D8=6,E8=Wertetabelle!$C$6),Wertetabelle!$H$8,IF(AND(D8=6,E8=Wertetabelle!$C$7),Wertetabelle!$I$8,IF(AND(D8=6,E8=Wertetabelle!$C$8),Wertetabelle!$J$8,IF(AND(D8=7,E8=Wertetabelle!$C$2),Wertetabelle!$E$9,IF(AND(D8=7,E8=Wertetabelle!$C$3),Wertetabelle!$E$9,IF(AND(D8=7,E8=Wertetabelle!$C$4),Wertetabelle!$F$9,IF(AND(D8=7,E8=Wertetabelle!$C$5),Wertetabelle!$G$9,IF(AND(D8=7,E8=Wertetabelle!$C$6),Wertetabelle!$H$9,IF(AND(D8=7,E8=Wertetabelle!$C$7),Wertetabelle!$I$9,IF(AND(D8=7,E8=Wertetabelle!$C$8),Wertetabelle!$J$9,IF(AND(D8=8,E8=Wertetabelle!$C$2),Wertetabelle!$E$10,IF(AND(D8=8,E8=Wertetabelle!$C$3),Wertetabelle!$E$10,IF(AND(D8=8,E8=Wertetabelle!$C$4),Wertetabelle!$F$10,IF(AND(D8=8,E8=Wertetabelle!$C$5),Wertetabelle!$G$10,IF(AND(D8=8,E8=Wertetabelle!$C$6),Wertetabelle!$H$10,IF(AND(D8=8,E8=Wertetabelle!$C$7),Wertetabelle!$I$10,IF(AND(D8=8,E8=Wertetabelle!$C$8),Wertetabelle!$J$10,0)))))))))))))))))))))))))))))))))))))))))))))))))))))))) -> 0 | H8: =IF(AND($D8=1,G8=Wertetabelle!$C$2),Wertetabelle!$E$3,IF(AND($D8=1,G8=Wertetabelle!$C$3),Wertetabelle!$E$3,IF(AND($D8=1,G8=Wertetabelle!$C$4),Wertetabelle!$F$3,IF(AND($D8=1,G8=Wertetabelle!$C$5),Wertetabelle!$G$3,IF(AND($D8=1,G8=Wertetabelle!$C$6),Wertetabelle!$H$3,IF(AND($D8=1,G8=Wertetabelle!$C$7),Wertetabelle!$I$3,IF(AND($D8=1,G8=Wertetabelle!$C$8),Wertetabelle!L5,IF(AND($D8=2,G8=Wertetabelle!$C$2),Wertetabelle!$E$4,IF(AND($D8=2,G8=Wertetabelle!$C$3),Wertetabelle!$E$4,IF(AND($D8=2,G8=Wertetabelle!$C$4),Wertetabelle!$F$4,IF(AND($D8=2,G8=Wertetabelle!$C$5),Wertetabelle!$G$4,IF(AND($D8=2,G8=Wertetabelle!$C$6),Wertetabelle!$H$4,IF(AND($D8=2,G8=Wertetabelle!E9),Wertetabelle!$I$4,IF(AND($D8=2,G8=Wertetabelle!$C$8),Wertetabelle!$J$4,IF(AND($D8=3,G8=Wertetabelle!$C$2),Wertetabelle!$E$5,IF(AND($D8=3,G8=Wertetabelle!$C$3),Wertetabelle!$E$5,IF(AND($D8=3,G8=Wertetabelle!$C$4),Wertetabelle!$F$5,IF(AND($D8=3,G8=Wertetabelle!$C$5),Wertetabelle!$G$5,IF(AND($D8=3,G8=Wertetabelle!$C$6),Wertetabelle!$H$5,IF(AND($D8=3,G8=Wertetabelle!$C$7),Wertetabelle!$I$5,IF(AND($D8=3,G8=Wertetabelle!$C$8),Wertetabelle!$J$5,IF(AND($D8=4,G8=Wertetabelle!$C$2),Wertetabelle!$E$6,IF(AND($D8=4,G8=Wertetabelle!$C$3),Wertetabelle!$E$6,IF(AND($D8=4,G8=Wertetabelle!$C$4),Wertetabelle!$F$6,IF(AND($D8=4,G8=Wertetabelle!$C$5),Wertetabelle!$G$6,IF(AND($D8=4,G8=Wertetabelle!$C$6),Wertetabelle!$H$6,IF(AND($D8=4,G8=Wertetabelle!$C$7),Wertetabelle!$I$6,IF(AND($D8=4,G8=Wertetabelle!$C$8),Wertetabelle!$J$6,IF(AND($D8=5,G8=Wertetabelle!$C$2),Wertetabelle!$E$7,IF(AND($D8=5,G8=Wertetabelle!$C$3),Wertetabelle!$E$7,IF(AND($D8=5,G8=Wertetabelle!$C$4),Wertetabelle!$F$7,IF(AND($D8=5,G8=Wertetabelle!$C$5),Wertetabelle!$G$7,IF(AND($D8=5,G8=Wertetabelle!$C$6),Wertetabelle!$H$7,IF(AND($D8=5,G8=Wertetabelle!$C$7),Wertetabelle!$I$7,IF(AND($D8=5,G8=Wertetabelle!$C$8),Wertetabelle!$J$7,IF(AND($D8=6,G8=Wertetabelle!$C$2),Wertetabelle!$E$8,IF(AND($D8=6,G8=Wertetabelle!$C$3),Wertetabelle!$E$8,IF(AND($D8=6,G8=Wertetabelle!$C$4),Wertetabelle!$F$8,IF(AND($D8=6,G8=Wertetabelle!$C$5),Wertetabelle!$G$8,IF(AND($D8=6,G8=Wertetabelle!$C$6),Wertetabelle!$H$8,IF(AND($D8=6,G8=Wertetabelle!$C$7),Wertetabelle!$I$8,IF(AND($D8=6,G8=Wertetabelle!$C$8),Wertetabelle!$J$8,IF(AND($D8=7,G8=Wertetabelle!$C$2),Wertetabelle!$E$9,IF(AND($D8=7,G8=Wertetabelle!$C$3),Wertetabelle!$E$9,IF(AND($D8=7,G8=Wertetabelle!$C$4),Wertetabelle!$F$9,IF(AND($D8=7,G8=Wertetabelle!$C$5),Wertetabelle!$G$9,IF(AND($D8=7,G8=Wertetabelle!$C$6),Wertetabelle!$H$9,IF(AND($D8=7,G8=Wertetabelle!$C$7),Wertetabelle!$I$9,IF(AND($D8=7,G8=Wertetabelle!$C$8),Wertetabelle!$J$9,IF(AND($D8=8,G8=Wertetabelle!$C$2),Wertetabelle!$E$10,IF(AND($D8=8,G8=Wertetabelle!$C$3),Wertetabelle!$E$10,IF(AND($D8=8,G8=Wertetabelle!$C$4),Wertetabelle!$F$10,IF(AND($D8=8,G8=Wertetabelle!$C$5),Wertetabelle!$G$10,IF(AND($D8=8,G8=Wertetabelle!$C$6),Wertetabelle!$H$10,IF(AND($D8=8,G8=Wertetabelle!$C$7),Wertetabelle!$I$10,IF(AND($D8=8,G8=Wertetabelle!$C$8),Wertetabelle!$J$10,0)))))))))))))))))))))))))))))))))))))))))))))))))))))))) -> 0 | J8: =IF(AND($D8=1,I8=Wertetabelle!$C$2),Wertetabelle!$E$3,IF(AND($D8=1,I8=Wertetabelle!$C$3),Wertetabelle!$E$3,IF(AND($D8=1,I8=Wertetabelle!$C$4),Wertetabelle!$F$3,IF(AND($D8=1,I8=Wertetabelle!$C$5),Wertetabelle!$G$3,IF(AND($D8=1,I8=Wertetabelle!$C$6),Wertetabelle!$H$3,IF(AND($D8=1,I8=Wertetabelle!$C$7),Wertetabelle!$I$3,IF(AND($D8=1,I8=Wertetabelle!$C$8),Wertetabelle!N5,IF(AND($D8=2,I8=Wertetabelle!$C$2),Wertetabelle!$E$4,IF(AND($D8=2,I8=Wertetabelle!$C$3),Wertetabelle!$E$4,IF(AND($D8=2,I8=Wertetabelle!$C$4),Wertetabelle!$F$4,IF(AND($D8=2,I8=Wertetabelle!$C$5),Wertetabelle!$G$4,IF(AND($D8=2,I8=Wertetabelle!$C$6),Wertetabelle!$H$4,IF(AND($D8=2,I8=Wertetabelle!G9),Wertetabelle!$I$4,IF(AND($D8=2,I8=Wertetabelle!$C$8),Wertetabelle!$J$4,IF(AND($D8=3,I8=Wertetabelle!$C$2),Wertetabelle!$E$5,IF(AND($D8=3,I8=Wertetabelle!$C$3),Wertetabelle!$E$5,IF(AND($D8=3,I8=Wertetabelle!$C$4),Wertetabelle!$F$5,IF(AND($D8=3,I8=Wertetabelle!$C$5),Wertetabelle!$G$5,IF(AND($D8=3,I8=Wertetabelle!$C$6),Wertetabelle!$H$5,IF(AND($D8=3,I8=Wertetabelle!$C$7),Wertetabelle!$I$5,IF(AND($D8=3,I8=Wertetabelle!$C$8),Wertetabelle!$J$5,IF(AND($D8=4,I8=Wertetabelle!$C$2),Wertetabelle!$E$6,IF(AND($D8=4,I8=Wertetabelle!$C$3),Wertetabelle!$E$6,IF(AND($D8=4,I8=Wertetabelle!$C$4),Wertetabelle!$F$6,IF(AND($D8=4,I8=Wertetabelle!$C$5),Wertetabelle!$G$6,IF(AND($D8=4,I8=Wertetabelle!$C$6),Wertetabelle!$H$6,IF(AND($D8=4,I8=Wertetabelle!$C$7),Wertetabelle!$I$6,IF(AND($D8=4,I8=Wertetabelle!$C$8),Wertetabelle!$J$6,IF(AND($D8=5,I8=Wertetabelle!$C$2),Wertetabelle!$E$7,IF(AND($D8=5,I8=Wertetabelle!$C$3),Wertetabelle!$E$7,IF(AND($D8=5,I8=Wertetabelle!$C$4),Wertetabelle!$F$7,IF(AND($D8=5,I8=Wertetabelle!$C$5),Wertetabelle!$G$7,IF(AND($D8=5,I8=Wertetabelle!$C$6),Wertetabelle!$H$7,IF(AND($D8=5,I8=Wertetabelle!$C$7),Wertetabelle!$I$7,IF(AND($D8=5,I8=Wertetabelle!$C$8),Wertetabelle!$J$7,IF(AND($D8=6,I8=Wertetabelle!$C$2),Wertetabelle!$E$8,IF(AND($D8=6,I8=Wertetabelle!$C$3),Wertetabelle!$E$8,IF(AND($D8=6,I8=Wertetabelle!$C$4),Wertetabelle!$F$8,IF(AND($D8=6,I8=Wertetabelle!$C$5),Wertetabelle!$G$8,IF(AND($D8=6,I8=Wertetabelle!$C$6),Wertetabelle!$H$8,IF(AND($D8=6,I8=Wertetabelle!$C$7),Wertetabelle!$I$8,IF(AND($D8=6,I8=Wertetabelle!$C$8),Wertetabelle!$J$8,IF(AND($D8=7,I8=Wertetabelle!$C$2),Wertetabelle!$E$9,IF(AND($D8=7,I8=Wertetabelle!$C$3),Wertetabelle!$E$9,IF(AND($D8=7,I8=Wertetabelle!$C$4),Wertetabelle!$F$9,IF(AND($D8=7,I8=Wertetabelle!$C$5),Wertetabelle!$G$9,IF(AND($D8=7,I8=Wertetabelle!$C$6),Wertetabelle!$H$9,IF(AND($D8=7,I8=Wertetabelle!$C$7),Wertetabelle!$I$9,IF(AND($D8=7,I8=Wertetabelle!$C$8),Wertetabelle!$J$9,IF(AND($D8=8,I8=Wertetabelle!$C$2),Wertetabelle!$E$10,IF(AND($D8=8,I8=Wertetabelle!$C$3),Wertetabelle!$E$10,IF(AND($D8=8,I8=Wertetabelle!$C$4),Wertetabelle!$F$10,IF(AND($D8=8,I8=Wertetabelle!$C$5),Wertetabelle!$G$10,IF(AND($D8=8,I8=Wertetabelle!$C$6),Wertetabelle!$H$10,IF(AND($D8=8,I8=Wertetabelle!$C$7),Wertetabelle!$I$10,IF(AND($D8=8,I8=Wertetabelle!$C$8),Wertetabelle!$J$10,0)))))))))))))))))))))))))))))))))))))))))))))))))))))))) -> 0
F9: =IF(AND(D9=1,E9=Wertetabelle!$C$2),Wertetabelle!$E$3,IF(AND(D9=1,E9=Wertetabelle!$C$3),Wertetabelle!$E$3,IF(AND(D9=1,E9=Wertetabelle!$C$4),Wertetabelle!$F$3,IF(AND(D9=1,E9=Wertetabelle!$C$5),Wertetabelle!$G$3,IF(AND(D9=1,E9=Wertetabelle!$C$6),Wertetabelle!$H$3,IF(AND(D9=1,E9=Wertetabelle!$C$7),Wertetabelle!$I$3,IF(AND(D9=1,E9=Wertetabelle!$C$8),Wertetabelle!J6,IF(AND(D9=2,E9=Wertetabelle!$C$2),Wertetabelle!$E$4,IF(AND(D9=2,E9=Wertetabelle!$C$3),Wertetabelle!$E$4,IF(AND(D9=2,E9=Wertetabelle!$C$4),Wertetabelle!$F$4,IF(AND(D9=2,E9=Wertetabelle!$C$5),Wertetabelle!$G$4,IF(AND(D9=2,E9=Wertetabelle!$C$6),Wertetabelle!$H$4,IF(AND(D9=2,E9=Wertetabelle!C10),Wertetabelle!$I$4,IF(AND(D9=2,E9=Wertetabelle!$C$8),Wertetabelle!$J$4,IF(AND(D9=3,E9=Wertetabelle!$C$2),Wertetabelle!$E$5,IF(AND(D9=3,E9=Wertetabelle!$C$3),Wertetabelle!$E$5,IF(AND(D9=3,E9=Wertetabelle!$C$4),Wertetabelle!$F$5,IF(AND(D9=3,E9=Wertetabelle!$C$5),Wertetabelle!$G$5,IF(AND(D9=3,E9=Wertetabelle!$C$6),Wertetabelle!$H$5,IF(AND(D9=3,E9=Wertetabelle!$C$7),Wertetabelle!$I$5,IF(AND(D9=3,E9=Wertetabelle!$C$8),Wertetabelle!$J$5,IF(AND(D9=4,E9=Wertetabelle!$C$2),Wertetabelle!$E$6,IF(AND(D9=4,E9=Wertetabelle!$C$3),Wertetabelle!$E$6,IF(AND(D9=4,E9=Wertetabelle!$C$4),Wertetabelle!$F$6,IF(AND(D9=4,E9=Wertetabelle!$C$5),Wertetabelle!$G$6,IF(AND(D9=4,E9=Wertetabelle!$C$6),Wertetabelle!$H$6,IF(AND(D9=4,E9=Wertetabelle!$C$7),Wertetabelle!$I$6,IF(AND(D9=4,E9=Wertetabelle!$C$8),Wertetabelle!$J$6,IF(AND(D9=5,E9=Wertetabelle!$C$2),Wertetabelle!$E$7,IF(AND(D9=5,E9=Wertetabelle!$C$3),Wertetabelle!$E$7,IF(AND(D9=5,E9=Wertetabelle!$C$4),Wertetabelle!$F$7,IF(AND(D9=5,E9=Wertetabelle!$C$5),Wertetabelle!$G$7,IF(AND(D9=5,E9=Wertetabelle!$C$6),Wertetabelle!$H$7,IF(AND(D9=5,E9=Wertetabelle!$C$7),Wertetabelle!$I$7,IF(AND(D9=5,E9=Wertetabelle!$C$8),Wertetabelle!$J$7,IF(AND(D9=6,E9=Wertetabelle!$C$2),Wertetabelle!$E$8,IF(AND(D9=6,E9=Wertetabelle!$C$3),Wertetabelle!$E$8,IF(AND(D9=6,E9=Wertetabelle!$C$4),Wertetabelle!$F$8,IF(AND(D9=6,E9=Wertetabelle!$C$5),Wertetabelle!$G$8,IF(AND(D9=6,E9=Wertetabelle!$C$6),Wertetabelle!$H$8,IF(AND(D9=6,E9=Wertetabelle!$C$7),Wertetabelle!$I$8,IF(AND(D9=6,E9=Wertetabelle!$C$8),Wertetabelle!$J$8,IF(AND(D9=7,E9=Wertetabelle!$C$2),Wertetabelle!$E$9,IF(AND(D9=7,E9=Wertetabelle!$C$3),Wertetabelle!$E$9,IF(AND(D9=7,E9=Wertetabelle!$C$4),Wertetabelle!$F$9,IF(AND(D9=7,E9=Wertetabelle!$C$5),Wertetabelle!$G$9,IF(AND(D9=7,E9=Wertetabelle!$C$6),Wertetabelle!$H$9,IF(AND(D9=7,E9=Wertetabelle!$C$7),Wertetabelle!$I$9,IF(AND(D9=7,E9=Wertetabelle!$C$8),Wertetabelle!$J$9,IF(AND(D9=8,E9=Wertetabelle!$C$2),Wertetabelle!$E$10,IF(AND(D9=8,E9=Wertetabelle!$C$3),Wertetabelle!$E$10,IF(AND(D9=8,E9=Wertetabelle!$C$4),Wertetabelle!$F$10,IF(AND(D9=8,E9=Wertetabelle!$C$5),Wertetabelle!$G$10,IF(AND(D9=8,E9=Wertetabelle!$C$6),Wertetabelle!$H$10,IF(AND(D9=8,E9=Wertetabelle!$C$7),Wertetabelle!$I$10,IF(AND(D9=8,E9=Wertetabelle!$C$8),Wertetabelle!$J$10,0)))))))))))))))))))))))))))))))))))))))))))))))))))))))) -> 0 | H9: =IF(AND($D9=1,G9=Wertetabelle!$C$2),Wertetabelle!$E$3,IF(AND($D9=1,G9=Wertetabelle!$C$3),Wertetabelle!$E$3,IF(AND($D9=1,G9=Wertetabelle!$C$4),Wertetabelle!$F$3,IF(AND($D9=1,G9=Wertetabelle!$C$5),Wertetabelle!$G$3,IF(AND($D9=1,G9=Wertetabelle!$C$6),Wertetabelle!$H$3,IF(AND($D9=1,G9=Wertetabelle!$C$7),Wertetabelle!$I$3,IF(AND($D9=1,G9=Wertetabelle!$C$8),Wertetabelle!L6,IF(AND($D9=2,G9=Wertetabelle!$C$2),Wertetabelle!$E$4,IF(AND($D9=2,G9=Wertetabelle!$C$3),Wertetabelle!$E$4,IF(AND($D9=2,G9=Wertetabelle!$C$4),Wertetabelle!$F$4,IF(AND($D9=2,G9=Wertetabelle!$C$5),Wertetabelle!$G$4,IF(AND($D9=2,G9=Wertetabelle!$C$6),Wertetabelle!$H$4,IF(AND($D9=2,G9=Wertetabelle!E10),Wertetabelle!$I$4,IF(AND($D9=2,G9=Wertetabelle!$C$8),Wertetabelle!$J$4,IF(AND($D9=3,G9=Wertetabelle!$C$2),Wertetabelle!$E$5,IF(AND($D9=3,G9=Wertetabelle!$C$3),Wertetabelle!$E$5,IF(AND($D9=3,G9=Wertetabelle!$C$4),Wertetabelle!$F$5,IF(AND($D9=3,G9=Wertetabelle!$C$5),Wertetabelle!$G$5,IF(AND($D9=3,G9=Wertetabelle!$C$6),Wertetabelle!$H$5,IF(AND($D9=3,G9=Wertetabelle!$C$7),Wertetabelle!$I$5,IF(AND($D9=3,G9=Wertetabelle!$C$8),Wertetabelle!$J$5,IF(AND($D9=4,G9=Wertetabelle!$C$2),Wertetabelle!$E$6,IF(AND($D9=4,G9=Wertetabelle!$C$3),Wertetabelle!$E$6,IF(AND($D9=4,G9=Wertetabelle!$C$4),Wertetabelle!$F$6,IF(AND($D9=4,G9=Wertetabelle!$C$5),Wertetabelle!$G$6,IF(AND($D9=4,G9=Wertetabelle!$C$6),Wertetabelle!$H$6,IF(AND($D9=4,G9=Wertetabelle!$C$7),Wertetabelle!$I$6,IF(AND($D9=4,G9=Wertetabelle!$C$8),Wertetabelle!$J$6,IF(AND($D9=5,G9=Wertetabelle!$C$2),Wertetabelle!$E$7,IF(AND($D9=5,G9=Wertetabelle!$C$3),Wertetabelle!$E$7,IF(AND($D9=5,G9=Wertetabelle!$C$4),Wertetabelle!$F$7,IF(AND($D9=5,G9=Wertetabelle!$C$5),Wertetabelle!$G$7,IF(AND($D9=5,G9=Wertetabelle!$C$6),Wertetabelle!$H$7,IF(AND($D9=5,G9=Wertetabelle!$C$7),Wertetabelle!$I$7,IF(AND($D9=5,G9=Wertetabelle!$C$8),Wertetabelle!$J$7,IF(AND($D9=6,G9=Wertetabelle!$C$2),Wertetabelle!$E$8,IF(AND($D9=6,G9=Wertetabelle!$C$3),Wertetabelle!$E$8,IF(AND($D9=6,G9=Wertetabelle!$C$4),Wertetabelle!$F$8,IF(AND($D9=6,G9=Wertetabelle!$C$5),Wertetabelle!$G$8,IF(AND($D9=6,G9=Wertetabelle!$C$6),Wertetabelle!$H$8,IF(AND($D9=6,G9=Wertetabelle!$C$7),Wertetabelle!$I$8,IF(AND($D9=6,G9=Wertetabelle!$C$8),Wertetabelle!$J$8,IF(AND($D9=7,G9=Wertetabelle!$C$2),Wertetabelle!$E$9,IF(AND($D9=7,G9=Wertetabelle!$C$3),Wertetabelle!$E$9,IF(AND($D9=7,G9=Wertetabelle!$C$4),Wertetabelle!$F$9,IF(AND($D9=7,G9=Wertetabelle!$C$5),Wertetabelle!$G$9,IF(AND($D9=7,G9=Wertetabelle!$C$6),Wertetabelle!$H$9,IF(AND($D9=7,G9=Wertetabelle!$C$7),Wertetabelle!$I$9,IF(AND($D9=7,G9=Wertetabelle!$C$8),Wertetabelle!$J$9,IF(AND($D9=8,G9=Wertetabelle!$C$2),Wertetabelle!$E$10,IF(AND($D9=8,G9=Wertetabelle!$C$3),Wertetabelle!$E$10,IF(AND($D9=8,G9=Wertetabelle!$C$4),Wertetabelle!$F$10,IF(AND($D9=8,G9=Wertetabelle!$C$5),Wertetabelle!$G$10,IF(AND($D9=8,G9=Wertetabelle!$C$6),Wertetabelle!$H$10,IF(AND($D9=8,G9=Wertetabelle!$C$7),Wertetabelle!$I$10,IF(AND($D9=8,G9=Wertetabelle!$C$8),Wertetabelle!$J$10,0)))))))))))))))))))))))))))))))))))))))))))))))))))))))) -> 0 | J9: =IF(AND($D9=1,I9=Wertetabelle!$C$2),Wertetabelle!$E$3,IF(AND($D9=1,I9=Wertetabelle!$C$3),Wertetabelle!$E$3,IF(AND($D9=1,I9=Wertetabelle!$C$4),Wertetabelle!$F$3,IF(AND($D9=1,I9=Wertetabelle!$C$5),Wertetabelle!$G$3,IF(AND($D9=1,I9=Wertetabelle!$C$6),Wertetabelle!$H$3,IF(AND($D9=1,I9=Wertetabelle!$C$7),Wertetabelle!$I$3,IF(AND($D9=1,I9=Wertetabelle!$C$8),Wertetabelle!N6,IF(AND($D9=2,I9=Wertetabelle!$C$2),Wertetabelle!$E$4,IF(AND($D9=2,I9=Wertetabelle!$C$3),Wertetabelle!$E$4,IF(AND($D9=2,I9=Wertetabelle!$C$4),Wertetabelle!$F$4,IF(AND($D9=2,I9=Wertetabelle!$C$5),Wertetabelle!$G$4,IF(AND($D9=2,I9=Wertetabelle!$C$6),Wertetabelle!$H$4,IF(AND($D9=2,I9=Wertetabelle!G10),Wertetabelle!$I$4,IF(AND($D9=2,I9=Wertetabelle!$C$8),Wertetabelle!$J$4,IF(AND($D9=3,I9=Wertetabelle!$C$2),Wertetabelle!$E$5,IF(AND($D9=3,I9=Wertetabelle!$C$3),Wertetabelle!$E$5,IF(AND($D9=3,I9=Wertetabelle!$C$4),Wertetabelle!$F$5,IF(AND($D9=3,I9=Wertetabelle!$C$5),Wertetabelle!$G$5,IF(AND($D9=3,I9=Wertetabelle!$C$6),Wertetabelle!$H$5,IF(AND($D9=3,I9=Wertetabelle!$C$7),Wertetabelle!$I$5,IF(AND($D9=3,I9=Wertetabelle!$C$8),Wertetabelle!$J$5,IF(AND($D9=4,I9=Wertetabelle!$C$2),Wertetabelle!$E$6,IF(AND($D9=4,I9=Wertetabelle!$C$3),Wertetabelle!$E$6,IF(AND($D9=4,I9=Wertetabelle!$C$4),Wertetabelle!$F$6,IF(AND($D9=4,I9=Wertetabelle!$C$5),Wertetabelle!$G$6,IF(AND($D9=4,I9=Wertetabelle!$C$6),Wertetabelle!$H$6,IF(AND($D9=4,I9=Wertetabelle!$C$7),Wertetabelle!$I$6,IF(AND($D9=4,I9=Wertetabelle!$C$8),Wertetabelle!$J$6,IF(AND($D9=5,I9=Wertetabelle!$C$2),Wertetabelle!$E$7,IF(AND($D9=5,I9=Wertetabelle!$C$3),Wertetabelle!$E$7,IF(AND($D9=5,I9=Wertetabelle!$C$4),Wertetabelle!$F$7,IF(AND($D9=5,I9=Wertetabelle!$C$5),Wertetabelle!$G$7,IF(AND($D9=5,I9=Wertetabelle!$C$6),Wertetabelle!$H$7,IF(AND($D9=5,I9=Wertetabelle!$C$7),Wertetabelle!$I$7,IF(AND($D9=5,I9=Wertetabelle!$C$8),Wertetabelle!$J$7,IF(AND($D9=6,I9=Wertetabelle!$C$2),Wertetabelle!$E$8,IF(AND($D9=6,I9=Wertetabelle!$C$3),Wertetabelle!$E$8,IF(AND($D9=6,I9=Wertetabelle!$C$4),Wertetabelle!$F$8,IF(AND($D9=6,I9=Wertetabelle!$C$5),Wertetabelle!$G$8,IF(AND($D9=6,I9=Wertetabelle!$C$6),Wertetabelle!$H$8,IF(AND($D9=6,I9=Wertetabelle!$C$7),Wertetabelle!$I$8,IF(AND($D9=6,I9=Wertetabelle!$C$8),Wertetabelle!$J$8,IF(AND($D9=7,I9=Wertetabelle!$C$2),Wertetabelle!$E$9,IF(AND($D9=7,I9=Wertetabelle!$C$3),Wertetabelle!$E$9,IF(AND($D9=7,I9=Wertetabelle!$C$4),Wertetabelle!$F$9,IF(AND($D9=7,I9=Wertetabelle!$C$5),Wertetabelle!$G$9,IF(AND($D9=7,I9=Wertetabelle!$C$6),Wertetabelle!$H$9,IF(AND($D9=7,I9=Wertetabelle!$C$7),Wertetabelle!$I$9,IF(AND($D9=7,I9=Wertetabelle!$C$8),Wertetabelle!$J$9,IF(AND($D9=8,I9=Wertetabelle!$C$2),Wertetabelle!$E$10,IF(AND($D9=8,I9=Wertetabelle!$C$3),Wertetabelle!$E$10,IF(AND($D9=8,I9=Wertetabelle!$C$4),Wertetabelle!$F$10,IF(AND($D9=8,I9=Wertetabelle!$C$5),Wertetabelle!$G$10,IF(AND($D9=8,I9=Wertetabelle!$C$6),Wertetabelle!$H$10,IF(AND($D9=8,I9=Wertetabelle!$C$7),Wertetabelle!$I$10,IF(AND($D9=8,I9=Wertetabelle!$C$8),Wertetabelle!$J$10,0)))))))))))))))))))))))))))))))))))))))))))))))))))))))) -> 0
F10: =IF(AND(D10=1,E10=Wertetabelle!$C$2),Wertetabelle!$E$3,IF(AND(D10=1,E10=Wertetabelle!$C$3),Wertetabelle!$E$3,IF(AND(D10=1,E10=Wertetabelle!$C$4),Wertetabelle!$F$3,IF(AND(D10=1,E10=Wertetabelle!$C$5),Wertetabelle!$G$3,IF(AND(D10=1,E10=Wertetabelle!$C$6),Wertetabelle!$H$3,IF(AND(D10=1,E10=Wertetabelle!$C$7),Wertetabelle!$I$3,IF(AND(D10=1,E10=Wertetabelle!$C$8),Wertetabelle!J7,IF(AND(D10=2,E10=Wertetabelle!$C$2),Wertetabelle!$E$4,IF(AND(D10=2,E10=Wertetabelle!$C$3),Wertetabelle!$E$4,IF(AND(D10=2,E10=Wertetabelle!$C$4),Wertetabelle!$F$4,IF(AND(D10=2,E10=Wertetabelle!$C$5),Wertetabelle!$G$4,IF(AND(D10=2,E10=Wertetabelle!$C$6),Wertetabelle!$H$4,IF(AND(D10=2,E10=Wertetabelle!C11),Wertetabelle!$I$4,IF(AND(D10=2,E10=Wertetabelle!$C$8),Wertetabelle!$J$4,IF(AND(D10=3,E10=Wertetabelle!$C$2),Wertetabelle!$E$5,IF(AND(D10=3,E10=Wertetabelle!$C$3),Wertetabelle!$E$5,IF(AND(D10=3,E10=Wertetabelle!$C$4),Wertetabelle!$F$5,IF(AND(D10=3,E10=Wertetabelle!$C$5),Wertetabelle!$G$5,IF(AND(D10=3,E10=Wertetabelle!$C$6),Wertetabelle!$H$5,IF(AND(D10=3,E10=Wertetabelle!$C$7),Wertetabelle!$I$5,IF(AND(D10=3,E10=Wertetabelle!$C$8),Wertetabelle!$J$5,IF(AND(D10=4,E10=Wertetabelle!$C$2),Wertetabelle!$E$6,IF(AND(D10=4,E10=Wertetabelle!$C$3),Wertetabelle!$E$6,IF(AND(D10=4,E10=Wertetabelle!$C$4),Wertetabelle!$F$6,IF(AND(D10=4,E10=Wertetabelle!$C$5),Wertetabelle!$G$6,IF(AND(D10=4,E10=Wertetabelle!$C$6),Wertetabelle!$H$6,IF(AND(D10=4,E10=Wertetabelle!$C$7),Wertetabelle!$I$6,IF(AND(D10=4,E10=Wertetabelle!$C$8),Wertetabelle!$J$6,IF(AND(D10=5,E10=Wertetabelle!$C$2),Wertetabelle!$E$7,IF(AND(D10=5,E10=Wertetabelle!$C$3),Wertetabelle!$E$7,IF(AND(D10=5,E10=Wertetabelle!$C$4),Wertetabelle!$F$7,IF(AND(D10=5,E10=Wertetabelle!$C$5),Wertetabelle!$G$7,IF(AND(D10=5,E10=Wertetabelle!$C$6),Wertetabelle!$H$7,IF(AND(D10=5,E10=Wertetabelle!$C$7),Wertetabelle!$I$7,IF(AND(D10=5,E10=Wertetabelle!$C$8),Wertetabelle!$J$7,IF(AND(D10=6,E10=Wertetabelle!$C$2),Wertetabelle!$E$8,IF(AND(D10=6,E10=Wertetabelle!$C$3),Wertetabelle!$E$8,IF(AND(D10=6,E10=Wertetabelle!$C$4),Wertetabelle!$F$8,IF(AND(D10=6,E10=Wertetabelle!$C$5),Wertetabelle!$G$8,IF(AND(D10=6,E10=Wertetabelle!$C$6),Wertetabelle!$H$8,IF(AND(D10=6,E10=Wertetabelle!$C$7),Wertetabelle!$I$8,IF(AND(D10=6,E10=Wertetabelle!$C$8),Wertetabelle!$J$8,IF(AND(D10=7,E10=Wertetabelle!$C$2),Wertetabelle!$E$9,IF(AND(D10=7,E10=Wertetabelle!$C$3),Wertetabelle!$E$9,IF(AND(D10=7,E10=Wertetabelle!$C$4),Wertetabelle!$F$9,IF(AND(D10=7,E10=Wertetabelle!$C$5),Wertetabelle!$G$9,IF(AND(D10=7,E10=Wertetabelle!$C$6),Wertetabelle!$H$9,IF(AND(D10=7,E10=Wertetabelle!$C$7),Wertetabelle!$I$9,IF(AND(D10=7,E10=Wertetabelle!$C$8),Wertetabelle!$J$9,IF(AND(D10=8,E10=Wertetabelle!$C$2),Wertetabelle!$E$10,IF(AND(D10=8,E10=Wertetabelle!$C$3),Wertetabelle!$E$10,IF(AND(D10=8,E10=Wertetabelle!$C$4),Wertetabelle!$F$10,IF(AND(D10=8,E10=Wertetabelle!$C$5),Wertetabelle!$G$10,IF(AND(D10=8,E10=Wertetabelle!$C$6),Wertetabelle!$H$10,IF(AND(D10=8,E10=Wertetabelle!$C$7),Wertetabelle!$I$10,IF(AND(D10=8,E10=Wertetabelle!$C$8),Wertetabelle!$J$10,0)))))))))))))))))))))))))))))))))))))))))))))))))))))))) -> 0 | H10: =IF(AND($D10=1,G10=Wertetabelle!$C$2),Wertetabelle!$E$3,IF(AND($D10=1,G10=Wertetabelle!$C$3),Wertetabelle!$E$3,IF(AND($D10=1,G10=Wertetabelle!$C$4),Wertetabelle!$F$3,IF(AND($D10=1,G10=Wertetabelle!$C$5),Wertetabelle!$G$3,IF(AND($D10=1,G10=Wertetabelle!$C$6),Wertetabelle!$H$3,IF(AND($D10=1,G10=Wertetabelle!$C$7),Wertetabelle!$I$3,IF(AND($D10=1,G10=Wertetabelle!$C$8),Wertetabelle!L7,IF(AND($D10=2,G10=Wertetabelle!$C$2),Wertetabelle!$E$4,IF(AND($D10=2,G10=Wertetabelle!$C$3),Wertetabelle!$E$4,IF(AND($D10=2,G10=Wertetabelle!$C$4),Wertetabelle!$F$4,IF(AND($D10=2,G10=Wertetabelle!$C$5),Wertetabelle!$G$4,IF(AND($D10=2,G10=Wertetabelle!$C$6),Wertetabelle!$H$4,IF(AND($D10=2,G10=Wertetabelle!E11),Wertetabelle!$I$4,IF(AND($D10=2,G10=Wertetabelle!$C$8),Wertetabelle!$J$4,IF(AND($D10=3,G10=Wertetabelle!$C$2),Wertetabelle!$E$5,IF(AND($D10=3,G10=Wertetabelle!$C$3),Wertetabelle!$E$5,IF(AND($D10=3,G10=Wertetabelle!$C$4),Wertetabelle!$F$5,IF(AND($D10=3,G10=Wertetabelle!$C$5),Wertetabelle!$G$5,IF(AND($D10=3,G10=Wertetabelle!$C$6),Wertetabelle!$H$5,IF(AND($D10=3,G10=Wertetabelle!$C$7),Wertetabelle!$I$5,IF(AND($D10=3,G10=Wertetabelle!$C$8),Wertetabelle!$J$5,IF(AND($D10=4,G10=Wertetabelle!$C$2),Wertetabelle!$E$6,IF(AND($D10=4,G10=Wertetabelle!$C$3),Wertetabelle!$E$6,IF(AND($D10=4,G10=Wertetabelle!$C$4),Wertetabelle!$F$6,IF(AND($D10=4,G10=Wertetabelle!$C$5),Wertetabelle!$G$6,IF(AND($D10=4,G10=Wertetabelle!$C$6),Wertetabelle!$H$6,IF(AND($D10=4,G10=Wertetabelle!$C$7),Wertetabelle!$I$6,IF(AND($D10=4,G10=Wertetabelle!$C$8),Wertetabelle!$J$6,IF(AND($D10=5,G10=Wertetabelle!$C$2),Wertetabelle!$E$7,IF(AND($D10=5,G10=Wertetabelle!$C$3),Wertetabelle!$E$7,IF(AND($D10=5,G10=Wertetabelle!$C$4),Wertetabelle!$F$7,IF(AND($D10=5,G10=Wertetabelle!$C$5),Wertetabelle!$G$7,IF(AND($D10=5,G10=Wertetabelle!$C$6),Wertetabelle!$H$7,IF(AND($D10=5,G10=Wertetabelle!$C$7),Wertetabelle!$I$7,IF(AND($D10=5,G10=Wertetabelle!$C$8),Wertetabelle!$J$7,IF(AND($D10=6,G10=Wertetabelle!$C$2),Wertetabelle!$E$8,IF(AND($D10=6,G10=Wertetabelle!$C$3),Wertetabelle!$E$8,IF(AND($D10=6,G10=Wertetabelle!$C$4),Wertetabelle!$F$8,IF(AND($D10=6,G10=Wertetabelle!$C$5),Wertetabelle!$G$8,IF(AND($D10=6,G10=Wertetabelle!$C$6),Wertetabelle!$H$8,IF(AND($D10=6,G10=Wertetabelle!$C$7),Wertetabelle!$I$8,IF(AND($D10=6,G10=Wertetabelle!$C$8),Wertetabelle!$J$8,IF(AND($D10=7,G10=Wertetabelle!$C$2),Wertetabelle!$E$9,IF(AND($D10=7,G10=Wertetabelle!$C$3),Wertetabelle!$E$9,IF(AND($D10=7,G10=Wertetabelle!$C$4),Wertetabelle!$F$9,IF(AND($D10=7,G10=Wertetabelle!$C$5),Wertetabelle!$G$9,IF(AND($D10=7,G10=Wertetabelle!$C$6),Wertetabelle!$H$9,IF(AND($D10=7,G10=Wertetabelle!$C$7),Wertetabelle!$I$9,IF(AND($D10=7,G10=Wertetabelle!$C$8),Wertetabelle!$J$9,IF(AND($D10=8,G10=Wertetabelle!$C$2),Wertetabelle!$E$10,IF(AND($D10=8,G10=Wertetabelle!$C$3),Wertetabelle!$E$10,IF(AND($D10=8,G10=Wertetabelle!$C$4),Wertetabelle!$F$10,IF(AND($D10=8,G10=Wertetabelle!$C$5),Wertetabelle!$G$10,IF(AND($D10=8,G10=Wertetabelle!$C$6),Wertetabelle!$H$10,IF(AND($D10=8,G10=Wertetabelle!$C$7),Wertetabelle!$I$10,IF(AND($D10=8,G10=Wertetabelle!$C$8),Wertetabelle!$J$10,0)))))))))))))))))))))))))))))))))))))))))))))))))))))))) -> 0 | J10: =IF(AND($D10=1,I10=Wertetabelle!$C$2),Wertetabelle!$E$3,IF(AND($D10=1,I10=Wertetabelle!$C$3),Wertetabelle!$E$3,IF(AND($D10=1,I10=Wertetabelle!$C$4),Wertetabelle!$F$3,IF(AND($D10=1,I10=Wertetabelle!$C$5),Wertetabelle!$G$3,IF(AND($D10=1,I10=Wertetabelle!$C$6),Wertetabelle!$H$3,IF(AND($D10=1,I10=Wertetabelle!$C$7),Wertetabelle!$I$3,IF(AND($D10=1,I10=Wertetabelle!$C$8),Wertetabelle!N7,IF(AND($D10=2,I10=Wertetabelle!$C$2),Wertetabelle!$E$4,IF(AND($D10=2,I10=Wertetabelle!$C$3),Wertetabelle!$E$4,IF(AND($D10=2,I10=Wertetabelle!$C$4),Wertetabelle!$F$4,IF(AND($D10=2,I10=Wertetabelle!$C$5),Wertetabelle!$G$4,IF(AND($D10=2,I10=Wertetabelle!$C$6),Wertetabelle!$H$4,IF(AND($D10=2,I10=Wertetabelle!G11),Wertetabelle!$I$4,IF(AND($D10=2,I10=Wertetabelle!$C$8),Wertetabelle!$J$4,IF(AND($D10=3,I10=Wertetabelle!$C$2),Wertetabelle!$E$5,IF(AND($D10=3,I10=Wertetabelle!$C$3),Wertetabelle!$E$5,IF(AND($D10=3,I10=Wertetabelle!$C$4),Wertetabelle!$F$5,IF(AND($D10=3,I10=Wertetabelle!$C$5),Wertetabelle!$G$5,IF(AND($D10=3,I10=Wertetabelle!$C$6),Wertetabelle!$H$5,IF(AND($D10=3,I10=Wertetabelle!$C$7),Wertetabelle!$I$5,IF(AND($D10=3,I10=Wertetabelle!$C$8),Wertetabelle!$J$5,IF(AND($D10=4,I10=Wertetabelle!$C$2),Wertetabelle!$E$6,IF(AND($D10=4,I10=Wertetabelle!$C$3),Wertetabelle!$E$6,IF(AND($D10=4,I10=Wertetabelle!$C$4),Wertetabelle!$F$6,IF(AND($D10=4,I10=Wertetabelle!$C$5),Wertetabelle!$G$6,IF(AND($D10=4,I10=Wertetabelle!$C$6),Wertetabelle!$H$6,IF(AND($D10=4,I10=Wertetabelle!$C$7),Wertetabelle!$I$6,IF(AND($D10=4,I10=Wertetabelle!$C$8),Wertetabelle!$J$6,IF(AND($D10=5,I10=Wertetabelle!$C$2),Wertetabelle!$E$7,IF(AND($D10=5,I10=Wertetabelle!$C$3),Wertetabelle!$E$7,IF(AND($D10=5,I10=Wertetabelle!$C$4),Wertetabelle!$F$7,IF(AND($D10=5,I10=Wertetabelle!$C$5),Wertetabelle!$G$7,IF(AND($D10=5,I10=Wertetabelle!$C$6),Wertetabelle!$H$7,IF(AND($D10=5,I10=Wertetabelle!$C$7),Wertetabelle!$I$7,IF(AND($D10=5,I10=Wertetabelle!$C$8),Wertetabelle!$J$7,IF(AND($D10=6,I10=Wertetabelle!$C$2),Wertetabelle!$E$8,IF(AND($D10=6,I10=Wertetabelle!$C$3),Wertetabelle!$E$8,IF(AND($D10=6,I10=Wertetabelle!$C$4),Wertetabelle!$F$8,IF(AND($D10=6,I10=Wertetabelle!$C$5),Wertetabelle!$G$8,IF(AND($D10=6,I10=Wertetabelle!$C$6),Wertetabelle!$H$8,IF(AND($D10=6,I10=Wertetabelle!$C$7),Wertetabelle!$I$8,IF(AND($D10=6,I10=Wertetabelle!$C$8),Wertetabelle!$J$8,IF(AND($D10=7,I10=Wertetabelle!$C$2),Wertetabelle!$E$9,IF(AND($D10=7,I10=Wertetabelle!$C$3),Wertetabelle!$E$9,IF(AND($D10=7,I10=Wertetabelle!$C$4),Wertetabelle!$F$9,IF(AND($D10=7,I10=Wertetabelle!$C$5),Wertetabelle!$G$9,IF(AND($D10=7,I10=Wertetabelle!$C$6),Wertetabelle!$H$9,IF(AND($D10=7,I10=Wertetabelle!$C$7),Wertetabelle!$I$9,IF(AND($D10=7,I10=Wertetabelle!$C$8),Wertetabelle!$J$9,IF(AND($D10=8,I10=Wertetabelle!$C$2),Wertetabelle!$E$10,IF(AND($D10=8,I10=Wertetabelle!$C$3),Wertetabelle!$E$10,IF(AND($D10=8,I10=Wertetabelle!$C$4),Wertetabelle!$F$10,IF(AND($D10=8,I10=Wertetabelle!$C$5),Wertetabelle!$G$10,IF(AND($D10=8,I10=Wertetabelle!$C$6),Wertetabelle!$H$10,IF(AND($D10=8,I10=Wertetabelle!$C$7),Wertetabelle!$I$10,IF(AND($D10=8,I10=Wertetabelle!$C$8),Wertetabelle!$J$10,0)))))))))))))))))))))))))))))))))))))))))))))))))))))))) -> 0
F11: =IF(AND(D11=1,E11=Wertetabelle!$C$2),Wertetabelle!$E$3,IF(AND(D11=1,E11=Wertetabelle!$C$3),Wertetabelle!$E$3,IF(AND(D11=1,E11=Wertetabelle!$C$4),Wertetabelle!$F$3,IF(AND(D11=1,E11=Wertetabelle!$C$5),Wertetabelle!$G$3,IF(AND(D11=1,E11=Wertetabelle!$C$6),Wertetabelle!$H$3,IF(AND(D11=1,E11=Wertetabelle!$C$7),Wertetabelle!$I$3,IF(AND(D11=1,E11=Wertetabelle!$C$8),Wertetabelle!J8,IF(AND(D11=2,E11=Wertetabelle!$C$2),Wertetabelle!$E$4,IF(AND(D11=2,E11=Wertetabelle!$C$3),Wertetabelle!$E$4,IF(AND(D11=2,E11=Wertetabelle!$C$4),Wertetabelle!$F$4,IF(AND(D11=2,E11=Wertetabelle!$C$5),Wertetabelle!$G$4,IF(AND(D11=2,E11=Wertetabelle!$C$6),Wertetabelle!$H$4,IF(AND(D11=2,E11=Wertetabelle!C12),Wertetabelle!$I$4,IF(AND(D11=2,E11=Wertetabelle!$C$8),Wertetabelle!$J$4,IF(AND(D11=3,E11=Wertetabelle!$C$2),Wertetabelle!$E$5,IF(AND(D11=3,E11=Wertetabelle!$C$3),Wertetabelle!$E$5,IF(AND(D11=3,E11=Wertetabelle!$C$4),Wertetabelle!$F$5,IF(AND(D11=3,E11=Wertetabelle!$C$5),Wertetabelle!$G$5,IF(AND(D11=3,E11=Wertetabelle!$C$6),Wertetabelle!$H$5,IF(AND(D11=3,E11=Wertetabelle!$C$7),Wertetabelle!$I$5,IF(AND(D11=3,E11=Wertetabelle!$C$8),Wertetabelle!$J$5,IF(AND(D11=4,E11=Wertetabelle!$C$2),Wertetabelle!$E$6,IF(AND(D11=4,E11=Wertetabelle!$C$3),Wertetabelle!$E$6,IF(AND(D11=4,E11=Wertetabelle!$C$4),Wertetabelle!$F$6,IF(AND(D11=4,E11=Wertetabelle!$C$5),Wertetabelle!$G$6,IF(AND(D11=4,E11=Wertetabelle!$C$6),Wertetabelle!$H$6,IF(AND(D11=4,E11=Wertetabelle!$C$7),Wertetabelle!$I$6,IF(AND(D11=4,E11=Wertetabelle!$C$8),Wertetabelle!$J$6,IF(AND(D11=5,E11=Wertetabelle!$C$2),Wertetabelle!$E$7,IF(AND(D11=5,E11=Wertetabelle!$C$3),Wertetabelle!$E$7,IF(AND(D11=5,E11=Wertetabelle!$C$4),Wertetabelle!$F$7,IF(AND(D11=5,E11=Wertetabelle!$C$5),Wertetabelle!$G$7,IF(AND(D11=5,E11=Wertetabelle!$C$6),Wertetabelle!$H$7,IF(AND(D11=5,E11=Wertetabelle!$C$7),Wertetabelle!$I$7,IF(AND(D11=5,E11=Wertetabelle!$C$8),Wertetabelle!$J$7,IF(AND(D11=6,E11=Wertetabelle!$C$2),Wertetabelle!$E$8,IF(AND(D11=6,E11=Wertetabelle!$C$3),Wertetabelle!$E$8,IF(AND(D11=6,E11=Wertetabelle!$C$4),Wertetabelle!$F$8,IF(AND(D11=6,E11=Wertetabelle!$C$5),Wertetabelle!$G$8,IF(AND(D11=6,E11=Wertetabelle!$C$6),Wertetabelle!$H$8,IF(AND(D11=6,E11=Wertetabelle!$C$7),Wertetabelle!$I$8,IF(AND(D11=6,E11=Wertetabelle!$C$8),Wertetabelle!$J$8,IF(AND(D11=7,E11=Wertetabelle!$C$2),Wertetabelle!$E$9,IF(AND(D11=7,E11=Wertetabelle!$C$3),Wertetabelle!$E$9,IF(AND(D11=7,E11=Wertetabelle!$C$4),Wertetabelle!$F$9,IF(AND(D11=7,E11=Wertetabelle!$C$5),Wertetabelle!$G$9,IF(AND(D11=7,E11=Wertetabelle!$C$6),Wertetabelle!$H$9,IF(AND(D11=7,E11=Wertetabelle!$C$7),Wertetabelle!$I$9,IF(AND(D11=7,E11=Wertetabelle!$C$8),Wertetabelle!$J$9,IF(AND(D11=8,E11=Wertetabelle!$C$2),Wertetabelle!$E$10,IF(AND(D11=8,E11=Wertetabelle!$C$3),Wertetabelle!$E$10,IF(AND(D11=8,E11=Wertetabelle!$C$4),Wertetabelle!$F$10,IF(AND(D11=8,E11=Wertetabelle!$C$5),Wertetabelle!$G$10,IF(AND(D11=8,E11=Wertetabelle!$C$6),Wertetabelle!$H$10,IF(AND(D11=8,E11=Wertetabelle!$C$7),Wertetabelle!$I$10,IF(AND(D11=8,E11=Wertetabelle!$C$8),Wertetabelle!$J$10,0)))))))))))))))))))))))))))))))))))))))))))))))))))))))) -> 0 | H11: =IF(AND($D11=1,G11=Wertetabelle!$C$2),Wertetabelle!$E$3,IF(AND($D11=1,G11=Wertetabelle!$C$3),Wertetabelle!$E$3,IF(AND($D11=1,G11=Wertetabelle!$C$4),Wertetabelle!$F$3,IF(AND($D11=1,G11=Wertetabelle!$C$5),Wertetabelle!$G$3,IF(AND($D11=1,G11=Wertetabelle!$C$6),Wertetabelle!$H$3,IF(AND($D11=1,G11=Wertetabelle!$C$7),Wertetabelle!$I$3,IF(AND($D11=1,G11=Wertetabelle!$C$8),Wertetabelle!L8,IF(AND($D11=2,G11=Wertetabelle!$C$2),Wertetabelle!$E$4,IF(AND($D11=2,G11=Wertetabelle!$C$3),Wertetabelle!$E$4,IF(AND($D11=2,G11=Wertetabelle!$C$4),Wertetabelle!$F$4,IF(AND($D11=2,G11=Wertetabelle!$C$5),Wertetabelle!$G$4,IF(AND($D11=2,G11=Wertetabelle!$C$6),Wertetabelle!$H$4,IF(AND($D11=2,G11=Wertetabelle!E12),Wertetabelle!$I$4,IF(AND($D11=2,G11=Wertetabelle!$C$8),Wertetabelle!$J$4,IF(AND($D11=3,G11=Wertetabelle!$C$2),Wertetabelle!$E$5,IF(AND($D11=3,G11=Wertetabelle!$C$3),Wertetabelle!$E$5,IF(AND($D11=3,G11=Wertetabelle!$C$4),Wertetabelle!$F$5,IF(AND($D11=3,G11=Wertetabelle!$C$5),Wertetabelle!$G$5,IF(AND($D11=3,G11=Wertetabelle!$C$6),Wertetabelle!$H$5,IF(AND($D11=3,G11=Wertetabelle!$C$7),Wertetabelle!$I$5,IF(AND($D11=3,G11=Wertetabelle!$C$8),Wertetabelle!$J$5,IF(AND($D11=4,G11=Wertetabelle!$C$2),Wertetabelle!$E$6,IF(AND($D11=4,G11=Wertetabelle!$C$3),Wertetabelle!$E$6,IF(AND($D11=4,G11=Wertetabelle!$C$4),Wertetabelle!$F$6,IF(AND($D11=4,G11=Wertetabelle!$C$5),Wertetabelle!$G$6,IF(AND($D11=4,G11=Wertetabelle!$C$6),Wertetabelle!$H$6,IF(AND($D11=4,G11=Wertetabelle!$C$7),Wertetabelle!$I$6,IF(AND($D11=4,G11=Wertetabelle!$C$8),Wertetabelle!$J$6,IF(AND($D11=5,G11=Wertetabelle!$C$2),Wertetabelle!$E$7,IF(AND($D11=5,G11=Wertetabelle!$C$3),Wertetabelle!$E$7,IF(AND($D11=5,G11=Wertetabelle!$C$4),Wertetabelle!$F$7,IF(AND($D11=5,G11=Wertetabelle!$C$5),Wertetabelle!$G$7,IF(AND($D11=5,G11=Wertetabelle!$C$6),Wertetabelle!$H$7,IF(AND($D11=5,G11=Wertetabelle!$C$7),Wertetabelle!$I$7,IF(AND($D11=5,G11=Wertetabelle!$C$8),Wertetabelle!$J$7,IF(AND($D11=6,G11=Wertetabelle!$C$2),Wertetabelle!$E$8,IF(AND($D11=6,G11=Wertetabelle!$C$3),Wertetabelle!$E$8,IF(AND($D11=6,G11=Wertetabelle!$C$4),Wertetabelle!$F$8,IF(AND($D11=6,G11=Wertetabelle!$C$5),Wertetabelle!$G$8,IF(AND($D11=6,G11=Wertetabelle!$C$6),Wertetabelle!$H$8,IF(AND($D11=6,G11=Wertetabelle!$C$7),Wertetabelle!$I$8,IF(AND($D11=6,G11=Wertetabelle!$C$8),Wertetabelle!$J$8,IF(AND($D11=7,G11=Wertetabelle!$C$2),Wertetabelle!$E$9,IF(AND($D11=7,G11=Wertetabelle!$C$3),Wertetabelle!$E$9,IF(AND($D11=7,G11=Wertetabelle!$C$4),Wertetabelle!$F$9,IF(AND($D11=7,G11=Wertetabelle!$C$5),Wertetabelle!$G$9,IF(AND($D11=7,G11=Wertetabelle!$C$6),Wertetabelle!$H$9,IF(AND($D11=7,G11=Wertetabelle!$C$7),Wertetabelle!$I$9,IF(AND($D11=7,G11=Wertetabelle!$C$8),Wertetabelle!$J$9,IF(AND($D11=8,G11=Wertetabelle!$C$2),Wertetabelle!$E$10,IF(AND($D11=8,G11=Wertetabelle!$C$3),Wertetabelle!$E$10,IF(AND($D11=8,G11=Wertetabelle!$C$4),Wertetabelle!$F$10,IF(AND($D11=8,G11=Wertetabelle!$C$5),Wertetabelle!$G$10,IF(AND($D11=8,G11=Wertetabelle!$C$6),Wertetabelle!$H$10,IF(AND($D11=8,G11=Wertetabelle!$C$7),Wertetabelle!$I$10,IF(AND($D11=8,G11=Wertetabelle!$C$8),Wertetabelle!$J$10,0)))))))))))))))))))))))))))))))))))))))))))))))))))))))) -> 0 | J11: =IF(AND($D11=1,I11=Wertetabelle!$C$2),Wertetabelle!$E$3,IF(AND($D11=1,I11=Wertetabelle!$C$3),Wertetabelle!$E$3,IF(AND($D11=1,I11=Wertetabelle!$C$4),Wertetabelle!$F$3,IF(AND($D11=1,I11=Wertetabelle!$C$5),Wertetabelle!$G$3,IF(AND($D11=1,I11=Wertetabelle!$C$6),Wertetabelle!$H$3,IF(AND($D11=1,I11=Wertetabelle!$C$7),Wertetabelle!$I$3,IF(AND($D11=1,I11=Wertetabelle!$C$8),Wertetabelle!N8,IF(AND($D11=2,I11=Wertetabelle!$C$2),Wertetabelle!$E$4,IF(AND($D11=2,I11=Wertetabelle!$C$3),Wertetabelle!$E$4,IF(AND($D11=2,I11=Wertetabelle!$C$4),Wertetabelle!$F$4,IF(AND($D11=2,I11=Wertetabelle!$C$5),Wertetabelle!$G$4,IF(AND($D11=2,I11=Wertetabelle!$C$6),Wertetabelle!$H$4,IF(AND($D11=2,I11=Wertetabelle!G12),Wertetabelle!$I$4,IF(AND($D11=2,I11=Wertetabelle!$C$8),Wertetabelle!$J$4,IF(AND($D11=3,I11=Wertetabelle!$C$2),Wertetabelle!$E$5,IF(AND($D11=3,I11=Wertetabelle!$C$3),Wertetabelle!$E$5,IF(AND($D11=3,I11=Wertetabelle!$C$4),Wertetabelle!$F$5,IF(AND($D11=3,I11=Wertetabelle!$C$5),Wertetabelle!$G$5,IF(AND($D11=3,I11=Wertetabelle!$C$6),Wertetabelle!$H$5,IF(AND($D11=3,I11=Wertetabelle!$C$7),Wertetabelle!$I$5,IF(AND($D11=3,I11=Wertetabelle!$C$8),Wertetabelle!$J$5,IF(AND($D11=4,I11=Wertetabelle!$C$2),Wertetabelle!$E$6,IF(AND($D11=4,I11=Wertetabelle!$C$3),Wertetabelle!$E$6,IF(AND($D11=4,I11=Wertetabelle!$C$4),Wertetabelle!$F$6,IF(AND($D11=4,I11=Wertetabelle!$C$5),Wertetabelle!$G$6,IF(AND($D11=4,I11=Wertetabelle!$C$6),Wertetabelle!$H$6,IF(AND($D11=4,I11=Wertetabelle!$C$7),Wertetabelle!$I$6,IF(AND($D11=4,I11=Wertetabelle!$C$8),Wertetabelle!$J$6,IF(AND($D11=5,I11=Wertetabelle!$C$2),Wertetabelle!$E$7,IF(AND($D11=5,I11=Wertetabelle!$C$3),Wertetabelle!$E$7,IF(AND($D11=5,I11=Wertetabelle!$C$4),Wertetabelle!$F$7,IF(AND($D11=5,I11=Wertetabelle!$C$5),Wertetabelle!$G$7,IF(AND($D11=5,I11=Wertetabelle!$C$6),Wertetabelle!$H$7,IF(AND($D11=5,I11=Wertetabelle!$C$7),Wertetabelle!$I$7,IF(AND($D11=5,I11=Wertetabelle!$C$8),Wertetabelle!$J$7,IF(AND($D11=6,I11=Wertetabelle!$C$2),Wertetabelle!$E$8,IF(AND($D11=6,I11=Wertetabelle!$C$3),Wertetabelle!$E$8,IF(AND($D11=6,I11=Wertetabelle!$C$4),Wertetabelle!$F$8,IF(AND($D11=6,I11=Wertetabelle!$C$5),Wertetabelle!$G$8,IF(AND($D11=6,I11=Wertetabelle!$C$6),Wertetabelle!$H$8,IF(AND($D11=6,I11=Wertetabelle!$C$7),Wertetabelle!$I$8,IF(AND($D11=6,I11=Wertetabelle!$C$8),Wertetabelle!$J$8,IF(AND($D11=7,I11=Wertetabelle!$C$2),Wertetabelle!$E$9,IF(AND($D11=7,I11=Wertetabelle!$C$3),Wertetabelle!$E$9,IF(AND($D11=7,I11=Wertetabelle!$C$4),Wertetabelle!$F$9,IF(AND($D11=7,I11=Wertetabelle!$C$5),Wertetabelle!$G$9,IF(AND($D11=7,I11=Wertetabelle!$C$6),Wertetabelle!$H$9,IF(AND($D11=7,I11=Wertetabelle!$C$7),Wertetabelle!$I$9,IF(AND($D11=7,I11=Wertetabelle!$C$8),Wertetabelle!$J$9,IF(AND($D11=8,I11=Wertetabelle!$C$2),Wertetabelle!$E$10,IF(AND($D11=8,I11=Wertetabelle!$C$3),Wertetabelle!$E$10,IF(AND($D11=8,I11=Wertetabelle!$C$4),Wertetabelle!$F$10,IF(AND($D11=8,I11=Wertetabelle!$C$5),Wertetabelle!$G$10,IF(AND($D11=8,I11=Wertetabelle!$C$6),Wertetabelle!$H$10,IF(AND($D11=8,I11=Wertetabelle!$C$7),Wertetabelle!$I$10,IF(AND($D11=8,I11=Wertetabelle!$C$8),Wertetabelle!$J$10,0)))))))))))))))))))))))))))))))))))))))))))))))))))))))) -> 0
