Workbook

Sheet Turniertagebuch
A1: Turniertagebuch
A2: Spieler:in | D2: Alterskategorie 2026
D3: Alterskategorie 2027
A5: Datum Turnierstart | B5: Turniername | C5: Teilnehmerfeld | D5: Turnierkategorie | E5: Resultat Einzel | F5: Punkte | G5: Resultat Doppel | H5: Punkte | I5: Resultat Mixed | J5: Punkte
F6: =IF(AND($D6=1,E6=Wertetabelle!$C$2),Wertetabelle!$E$3,IF(AND($D6=1,E6=Wertetabelle!$C$3),Wertetabelle!$E$3,IF(AND($D6=1,E6=Wertetabelle!$C$4),Wertetabelle!$F$3,IF(AND($D6=1,E6=Wertetabelle!$C$5),Wertetabelle!$G$3,IF(AND($D6=1,E6=Wertetabelle!$C$6),Wertetabelle!$H$3,IF(AND($D6=1,E6=Wertetabelle!$C$7),Wertetabelle!$I$3,IF(AND($D6=1,E6=Wertetabelle!$C$8),Wertetabelle!J3,IF(AND($D6=2,E6=Wertetabelle!$C$2),Wertetabelle!$E$4,IF(AND($D6=2,E6=Wertetabelle!$C$3),Wertetabelle!$E$4,IF(AND($D6=2,E6=Wertetabelle!$C$4),Wertetabelle!$F$4,IF(AND($D6=2,E6=Wertetabelle!$C$5),Wertetabelle!$G$4,IF(AND($D6=2,E6=Wertetabelle!$C$6),Wertetabelle!$H$4,IF(AND($D6=2,E6=Wertetabelle!C7),Wertetabelle!$I$4,IF(AND($D6=2,E6=Wertetabelle!$C$8),Wertetabelle!$J$4,IF(AND($D6=3,E6=Wertetabelle!$C$2),Wertetabelle!$E$5,IF(AND($D6=3,E6=Wertetabelle!$C$3),Wertetabelle!$E$5,IF(AND($D6=3,E6=Wertetabelle!$C$4),Wertetabelle!$F$5,IF(AND($D6=3,E6=Wertetabelle!$C$5),Wertetabelle!$G$5,IF(AND($D6=3,E6=Wertetabelle!$C$6),Wertetabelle!$H$5,IF(AND($D6=3,E6=Wertetabelle!$C$7),Wertetabelle!$I$5,IF(AND($D6=3,E6=Wertetabelle!$C$8),Wertetabelle!$J$5,IF(AND($D6=4,E6=Wertetabelle!$C$2),Wertetabelle!$E$6,IF(AND($D6=4,E6=Wertetabelle!$C$3),Wertetabelle!$E$6,IF(AND($D6=4,E6=Wertetabelle!$C$4),Wertetabelle!$F$6,IF(AND($D6=4,E6=Wertetabelle!$C$5),Wertetabelle!$G$6,IF(AND($D6=4,E6=Wertetabelle!$C$6),Wertetabelle!$H$6,IF(AND($D6=4,E6=Wertetabelle!$C$7),Wertetabelle!$I$6,IF(AND($D6=4,E6=Wertetabelle!$C$8),Wertetabelle!$J$6,IF(AND($D6=5,E6=Wertetabelle!$C$2),Wertetabelle!$E$7,IF(AND($D6=5,E6=Wertetabelle!$C$3),Wertetabelle!$E$7,IF(AND($D6=5,E6=Wertetabelle!$C$4),Wertetabelle!$F$7,IF(AND($D6=5,E6=Wertetabelle!$C$5),Wertetabelle!$G$7,IF(AND($D6=5,E6=Wertetabelle!$C$6),Wertetabelle!$H$7,IF(AND($D6=5,E6=Wertetabelle!$C$7),Wertetabelle!$I$7,IF(AND($D6=5,E6=Wertetabelle!$C$8),Wertetabelle!$J$7,IF(AND($D6=6,E6=Wertetabelle!$C$2),Wertetabelle!$E$8,IF(AND($D6=6,E6=Wertetabelle!$C$3),Wertetabelle!$E$8,IF(AND($D6=6,E6=Wertetabelle!$C$4),Wertetabelle!$F$8,IF(AND($D6=6,E6=Wertetabelle!$C$5),Wertetabelle!$G$8,IF(AND($D6=6,E6=Wertetabelle!$C$6),Wertetabelle!$H$8,IF(AND($D6=6,E6=Wertetabelle!$C$7),Wertetabelle!$I$8,IF(AND($D6=6,E6=Wertetabelle!$C$8),Wertetabelle!$J$8,IF(AND($D6=7,E6=Wertetabelle!$C$2),Wertetabelle!$E$9,IF(AND($D6=7,E6=Wertetabelle!$C$3),Wertetabelle!$E$9,IF(AND($D6=7,E6=Wertetabelle!$C$4),Wertetabelle!$F$9,IF(AND($D6=7,E6=Wertetabelle!$C$5),Wertetabelle!$G$9,IF(AND($D6=7,E6=Wertetabelle!$C$6),Wertetabelle!$H$9,IF(AND($D6=7,E6=Wertetabelle!$C$7),Wertetabelle!$I$9,IF(AND($D6=7,E6=Wertetabelle!$C$8),Wertetabelle!$J$9,IF(AND($D6=8,E6=Wertetabelle!$C$2),Wertetabelle!$E$10,IF(AND($D6=8,E6=Wertetabelle!$C$3),Wertetabelle!$E$10,IF(AND($D6=8,E6=Wertetabelle!$C$4),Wertetabelle!$F$10,IF(AND($D6=8,E6=Wertetabelle!$C$5),Wertetabelle!$G$10,IF(AND($D6=8,E6=Wertetabelle!$C$6),Wertetabelle!$H$10,IF(AND($D6=8,E6=Wertetabelle!$C$7),Wertetabelle!$I$10,IF(AND($D6=8,E6=Wertetabelle!$C$8),Wertetabelle!$J$10,0)))))))))))))))))))))))))))))))))))))))))))))))))))))))) -> 0 | H6: =IF(AND($D6=1,G6=Wertetabelle!$C$2),Wertetabelle!$E$3,IF(AND($D6=1,G6=Wertetabelle!$C$3),Wertetabelle!$E$3,IF(AND($D6=1,G6=Wertetabelle!$C$4),Wertetabelle!$F$3,IF(AND($D6=1,G6=Wertetabelle!$C$5),Wertetabelle!$G$3,IF(AND($D6=1,G6=Wertetabelle!$C$6),Wertetabelle!$H$3,IF(AND($D6=1,G6=Wertetabelle!$C$7),Wertetabelle!$I$3,IF(AND($D6=1,G6=Wertetabelle!$C$8),Wertetabelle!L3,IF(AND($D6=2,G6=Wertetabelle!$C$2),Wertetabelle!$E$4,IF(AND($D6=2,G6=Wertetabelle!$C$3),Wertetabelle!$E$4,IF(AND($D6=2,G6=Wertetabelle!$C$4),Wertetabelle!$F$4,IF(AND($D6=2,G6=Wertetabelle!$C$5),Wertetabelle!$G$4,IF(AND($D6=2,G6=Wertetabelle!$C$6),Wertetabelle!$H$4,IF(AND($D6=2,G6=Wertetabelle!E7),Wertetabelle!$I$4,IF(AND($D6=2,G6=Wertetabelle!$C$8),Wertetabelle!$J$4,IF(AND($D6=3,G6=Wertetabelle!$C$2),Wertetabelle!$E$5,IF(AND($D6=3,G6=Wertetabelle!$C$3),Wertetabelle!$E$5,IF(AND($D6=3,G6=Wertetabelle!$C$4),Wertetabelle!$F$5,IF(AND($D6=3,G6=Wertetabelle!$C$5),Wertetabelle!$G$5,IF(AND($D6=3,G6=Wertetabelle!$C$6),Wertetabelle!$H$5,IF(AND($D6=3,G6=Wertetabelle!$C$7),Wertetabelle!$I$5,IF(AND($D6=3,G6=Wertetabelle!$C$8),Wertetabelle!$J$5,IF(AND($D6=4,G6=Wertetabelle!$C$2),Wertetabelle!$E$6,IF(AND($D6=4,G6=Wertetabelle!$C$3),Wertetabelle!$E$6,IF(AND($D6=4,G6=Wertetabelle!$C$4),Wertetabelle!$F$6,IF(AND($D6=4,G6=Wertetabelle!$C$5),Wertetabelle!$G$6,IF(AND($D6=4,G6=Wertetabelle!$C$6),Wertetabelle!$H$6,IF(AND($D6=4,G6=Wertetabelle!$C$7),Wertetabelle!$I$6,IF(AND($D6=4,G6=Wertetabelle!$C$8),Wertetabelle!$J$6,IF(AND($D6=5,G6=Wertetabelle!$C$2),Wertetabelle!$E$7,IF(AND($D6=5,G6=Wertetabelle!$C$3),Wertetabelle!$E$7,IF(AND($D6=5,G6=Wertetabelle!$C$4),Wertetabelle!$F$7,IF(AND($D6=5,G6=Wertetabelle!$C$5),Wertetabelle!$G$7,IF(AND($D6=5,G6=Wertetabelle!$C$6),Wertetabelle!$H$7,IF(AND($D6=5,G6=Wertetabelle!$C$7),Wertetabelle!$I$7,IF(AND($D6=5,G6=Wertetabelle!$C$8),Wertetabelle!$J$7,IF(AND($D6=6,G6=Wertetabelle!$C$2),Wertetabelle!$E$8,IF(AND($D6=6,G6=Wertetabelle!$C$3),Wertetabelle!$E$8,IF(AND($D6=6,G6=Wertetabelle!$C$4),Wertetabelle!$F$8,IF(AND($D6=6,G6=Wertetabelle!$C$5),Wertetabelle!$G$8,IF(AND($D6=6,G6=Wertetabelle!$C$6),Wertetabelle!$H$8,IF(AND($D6=6,G6=Wertetabelle!$C$7),Wertetabelle!$I$8,IF(AND($D6=6,G6=Wertetabelle!$C$8),Wertetabelle!$J$8,IF(AND($D6=7,G6=Wertetabelle!$C$2),Wertetabelle!$E$9,IF(AND($D6=7,G6=Wertetabelle!$C$3),Wertetabelle!$E$9,IF(AND($D6=7,G6=Wertetabelle!$C$4),Wertetabelle!$F$9,IF(AND($D6=7,G6=Wertetabelle!$C$5),Wertetabelle!$G$9,IF(AND($D6=7,G6=Wertetabelle!$C$6),Wertetabelle!$H$9,IF(AND($D6=7,G6=Wertetabelle!$C$7),Wertetabelle!$I$9,IF(AND($D6=7,G6=Wertetabelle!$C$8),Wertetabelle!$J$9,IF(AND($D6=8,G6=Wertetabelle!$C$2),Wertetabelle!$E$10,IF(AND($D6=8,G6=Wertetabelle!$C$3),Wertetabelle!$E$10,IF(AND($D6=8,G6=Wertetabelle!$C$4),Wertetabelle!$F$10,IF(AND($D6=8,G6=Wertetabelle!$C$5),Wertetabelle!$G$10,IF(AND($D6=8,G6=Wertetabelle!$C$6),Wertetabelle!$H$10,IF(AND($D6=8,G6=Wertetabelle!$C$7),Wertetabelle!$I$10,IF(AND($D6=8,G6=Wertetabelle!$C$8),Wertetabelle!$J$10,0)))))))))))))))))))))))))))))))))))))))))))))))))))))))) -> 0 | J6: =IF(AND($D6=1,I6=Wertetabelle!$C$2),Wertetabelle!$E$3,IF(AND($D6=1,I6=Wertetabelle!$C$3),Wertetabelle!$E$3,IF(AND($D6=1,I6=Wertetabelle!$C$4),Wertetabelle!$F$3,IF(AND($D6=1,I6=Wertetabelle!$C$5),Wertetabelle!$G$3,IF(AND($D6=1,I6=Wertetabelle!$C$6),Wertetabelle!$H$3,IF(AND($D6=1,I6=Wertetabelle!$C$7),Wertetabelle!$I$3,IF(AND($D6=1,I6=Wertetabelle!$C$8),Wertetabelle!N3,IF(AND($D6=2,I6=Wertetabelle!$C$2),Wertetabelle!$E$4,IF(AND($D6=2,I6=Wertetabelle!$C$3),Wertetabelle!$E$4,IF(AND($D6=2,I6=Wertetabelle!$C$4),Wertetabelle!$F$4,IF(AND($D6=2,I6=Wertetabelle!$C$5),Wertetabelle!$G$4,IF(AND($D6=2,I6=Wertetabelle!$C$6),Wertetabelle!$H$4,IF(AND($D6=2,I6=Wertetabelle!G7),Wertetabelle!$I$4,IF(AND($D6=2,I6=Wertetabelle!$C$8),Wertetabelle!$J$4,IF(AND($D6=3,I6=Wertetabelle!$C$2),Wertetabelle!$E$5,IF(AND($D6=3,I6=Wertetabelle!$C$3),Wertetabelle!$E$5,IF(AND($D6=3,I6=Wertetabelle!$C$4),Wertetabelle!$F$5,IF(AND($D6=3,I6=Wertetabelle!$C$5),Wertetabelle!$G$5,IF(AND($D6=3,I6=Wertetabelle!$C$6),Wertetabelle!$H$5,IF(AND($D6=3,I6=Wertetabelle!$C$7),Wertetabelle!$I$5,IF(AND($D6=3,I6=Wertetabelle!$C$8),Wertetabelle!$J$5,IF(AND($D6=4,I6=Wertetabelle!$C$2),Wertetabelle!$E$6,IF(AND($D6=4,I6=Wertetabelle!$C$3),Wertetabelle!$E$6,IF(AND($D6=4,I6=Wertetabelle!$C$4),Wertetabelle!$F$6,IF(AND($D6=4,I6=Wertetabelle!$C$5),Wertetabelle!$G$6,IF(AND($D6=4,I6=Wertetabelle!$C$6),Wertetabelle!$H$6,IF(AND($D6=4,I6=Wertetabelle!$C$7),Wertetabelle!$I$6,IF(AND($D6=4,I6=Wertetabelle!$C$8),Wertetabelle!$J$6,IF(AND($D6=5,I6=Wertetabelle!$C$2),Wertetabelle!$E$7,IF(AND($D6=5,I6=Wertetabelle!$C$3),Wertetabelle!$E$7,IF(AND($D6=5,I6=Wertetabelle!$C$4),Wertetabelle!$F$7,IF(AND($D6=5,I6=Wertetabelle!$C$5),Wertetabelle!$G$7,IF(AND($D6=5,I6=Wertetabelle!$C$6),Wertetabelle!$H$7,IF(AND($D6=5,I6=Wertetabelle!$C$7),Wertetabelle!$I$7,IF(AND($D6=5,I6=Wertetabelle!$C$8),Wertetabelle!$J$7,IF(AND($D6=6,I6=Wertetabelle!$C$2),Wertetabelle!$E$8,IF(AND($D6=6,I6=Wertetabelle!$C$3),Wertetabelle!$E$8,IF(AND($D6=6,I6=Wertetabelle!$C$4),Wertetabelle!$F$8,IF(AND($D6=6,I6=Wertetabelle!$C$5),Wertetabelle!$G$8,IF(AND($D6=6,I6=Wertetabelle!$C$6),Wertetabelle!$H$8,IF(AND($D6=6,I6=Wertetabelle!$C$7),Wertetabelle!$I$8,IF(AND($D6=6,I6=Wertetabelle!$C$8),Wertetabelle!$J$8,IF(AND($D6=7,I6=Wertetabelle!$C$2),Wertetabelle!$E$9,IF(AND($D6=7,I6=Wertetabelle!$C$3),Wertetabelle!$E$9,IF(AND($D6=7,I6=Wertetabelle!$C$4),Wertetabelle!$F$9,IF(AND($D6=7,I6=Wertetabelle!$C$5),Wertetabelle!$G$9,IF(AND($D6=7,I6=Wertetabelle!$C$6),Wertetabelle!$H$9,IF(AND($D6=7,I6=Wertetabelle!$C$7),Wertetabelle!$I$9,IF(AND($D6=7,I6=Wertetabelle!$C$8),Wertetabelle!$J$9,IF(AND($D6=8,I6=Wertetabelle!$C$2),Wertetabelle!$E$10,IF(AND($D6=8,I6=Wertetabelle!$C$3),Wertetabelle!$E$10,IF(AND($D6=8,I6=Wertetabelle!$C$4),Wertetabelle!$F$10,IF(AND($D6=8,I6=Wertetabelle!$C$5),Wertetabelle!$G$10,IF(AND($D6=8,I6=Wertetabelle!$C$6),Wertetabelle!$H$10,IF(AND($D6=8,I6=Wertetabelle!$C$7),Wertetabelle!$I$10,IF(AND($D6=8,I6=Wertetabelle!$C$8),Wertetabelle!$J$10,0)))))))))))))))))))))))))))))))))))))))))))))))))))))))) -> 0
F7: =IF(AND(D7=1,E7=Wertetabelle!$C$2),Wertetabelle!$E$3,IF(AND(D7=1,E7=Wertetabelle!$C$3),Wertetabelle!$E$3,IF(AND(D7=1,E7=Wertetabelle!$C$4),Wertetabelle!$F$3,IF(AND(D7=1,E7=Wertetabelle!$C$5),Wertetabelle!$G$3,IF(AND(D7=1,E7=Wertetabelle!$C$6),Wertetabelle!$H$3,IF(AND(D7=1,E7=Wertetabelle!$C$7),Wertetabelle!$I$3,IF(AND(D7=1,E7=Wertetabelle!$C$8),Wertetabelle!J4,IF(AND(D7=2,E7=Wertetabelle!$C$2),Wertetabelle!$E$4,IF(AND(D7=2,E7=Wertetabelle!$C$3),Wertetabelle!$E$4,IF(AND(D7=2,E7=Wertetabelle!$C$4),Wertetabelle!$F$4,IF(AND(D7=2,E7=Wertetabelle!$C$5),Wertetabelle!$G$4,IF(AND(D7=2,E7=Wertetabelle!$C$6),Wertetabelle!$H$4,IF(AND(D7=2,E7=Wertetabelle!C8),Wertetabelle!$I$4,IF(AND(D7=2,E7=Wertetabelle!$C$8),Wertetabelle!$J$4,IF(AND(D7=3,E7=Wertetabelle!$C$2),Wertetabelle!$E$5,IF(AND(D7=3,E7=Wertetabelle!$C$3),Wertetabelle!$E$5,IF(AND(D7=3,E7=Wertetabelle!$C$4),Wertetabelle!$F$5,IF(AND(D7=3,E7=Wertetabelle!$C$5),Wertetabelle!$G$5,IF(AND(D7=3,E7=Wertetabelle!$C$6),Wertetabelle!$H$5,IF(AND(D7=3,E7=Wertetabelle!$C$7),Wertetabelle!$I$5,IF(AND(D7=3,E7=Wertetabelle!$C$8),Wertetabelle!$J$5,IF(AND(D7=4,E7=Wertetabelle!$C$2),Wertetabelle!$E$6,IF(AND(D7=4,E7=Wertetabelle!$C$3),Wertetabelle!$E$6,IF(AND(D7=4,E7=Wertetabelle!$C$4),Wertetabelle!$F$6,IF(AND(D7=4,E7=Wertetabelle!$C$5),Wertetabelle!$G$6,IF(AND(D7=4,E7=Wertetabelle!$C$6),Wertetabelle!$H$6,IF(AND(D7=4,E7=Wertetabelle!$C$7),Wertetabelle!$I$6,IF(AND(D7=4,E7=Wertetabelle!$C$8),Wertetabelle!$J$6,IF(AND(D7=5,E7=Wertetabelle!$C$2),Wertetabelle!$E$7,IF(AND(D7=5,E7=Wertetabelle!$C$3),Wertetabelle!$E$7,IF(AND(D7=5,E7=Wertetabelle!$C$4),Wertetabelle!$F$7,IF(AND(D7=5,E7=Wertetabelle!$C$5),Wertetabelle!$G$7,IF(AND(D7=5,E7=Wertetabelle!$C$6),Wertetabelle!$H$7,IF(AND(D7=5,E7=Wertetabelle!$C$7),Wertetabelle!$I$7,IF(AND(D7=5,E7=Wertetabelle!$C$8),Wertetabelle!$J$7,IF(AND(D7=6,E7=Wertetabelle!$C$2),Wertetabelle!$E$8,IF(AND(D7=6,E7=Wertetabelle!$C$3),Wertetabelle!$E$8,IF(AND(D7=6,E7=Wertetabelle!$C$4),Wertetabelle!$F$8,IF(AND(D7=6,E7=Wertetabelle!$C$5),Wertetabelle!$G$8,IF(AND(D7=6,E7=Wertetabelle!$C$6),Wertetabelle!$H$8,IF(AND(D7=6,E7=Wertetabelle!$C$7),Wertetabelle!$I$8,IF(AND(D7=6,E7=Wertetabelle!$C$8),Wertetabelle!$J$8,IF(AND(D7=7,E7=Wertetabelle!$C$2),Wertetabelle!$E$9,IF(AND(D7=7,E7=Wertetabelle!$C$3),Wertetabelle!$E$9,IF(AND(D7=7,E7=Wertetabelle!$C$4),Wertetabelle!$F$9,IF(AND(D7=7,E7=Wertetabelle!$C$5),Wertetabelle!$G$9,IF(AND(D7=7,E7=Wertetabelle!$C$6),Wertetabelle!$H$9,IF(AND(D7=7,E7=Wertetabelle!$C$7),Wertetabelle!$I$9,IF(AND(D7=7,E7=Wertetabelle!$C$8),Wertetabelle!$J$9,IF(AND(D7=8,E7=Wertetabelle!$C$2),Wertetabelle!$E$10,IF(AND(D7=8,E7=Wertetabelle!$C$3),Wertetabelle!$E$10,IF(AND(D7=8,E7=Wertetabelle!$C$4),Wertetabelle!$F$10,IF(AND(D7=8,E7=Wertetabelle!$C$5),Wertetabelle!$G$10,IF(AND(D7=8,E7=Wertetabelle!$C$6),Wertetabelle!$H$10,IF(AND(D7=8,E7=Wertetabelle!$C$7),Wertetabelle!$I$10,IF(AND(D7=8,E7=Wertetabelle!$C$8),Wertetabelle!$J$10,0)))))))))))))))))))))))))))))))))))))))))))))))))))))))) -> 0 | H7: =IF(AND($D7=1,G7=Wertetabelle!$C$2),Wertetabelle!$E$3,IF(AND($D7=1,G7=Wertetabelle!$C$3),Wertetabelle!$E$3,IF(AND($D7=1,G7=Wertetabelle!$C$4),Wertetabelle!$F$3,IF(AND($D7=1,G7=Wertetabelle!$C$5),Wertetabelle!$G$3,IF(AND($D7=1,G7=Wertetabelle!$C$6),Wertetabelle!$H$3,IF(AND($D7=1,G7=Wertetabelle!$C$7),Wertetabelle!$I$3,IF(AND($D7=1,G7=Wertetabelle!$C$8),Wertetabelle!L4,IF(AND($D7=2,G7=Wertetabelle!$C$2),Wertetabelle!$E$4,IF(AND($D7=2,G7=Wertetabelle!$C$3),Wertetabelle!$E$4,IF(AND($D7=2,G7=Wertetabelle!$C$4),Wertetabelle!$F$4,IF(AND($D7=2,G7=Wertetabelle!$C$5),Wertetabelle!$G$4,IF(AND($D7=2,G7=Wertetabelle!$C$6),Wertetabelle!$H$4,IF(AND($D7=2,G7=Wertetabelle!E8),Wertetabelle!$I$4,IF(AND($D7=2,G7=Wertetabelle!$C$8),Wertetabelle!$J$4,IF(AND($D7=3,G7=Wertetabelle!$C$2),Wertetabelle!$E$5,IF(AND($D7=3,G7=Wertetabelle!$C$3),Wertetabelle!$E$5,IF(AND($D7=3,G7=Wertetabelle!$C$4),Wertetabelle!$F$5,IF(AND($D7=3,G7=Wertetabelle!$C$5),Wertetabelle!$G$5,IF(AND($D7=3,G7=Wertetabelle!$C$6),Wertetabelle!$H$5,IF(AND($D7=3,G7=Wertetabelle!$C$7),Wertetabelle!$I$5,IF(AND($D7=3,G7=Wertetabelle!$C$8),Wertetabelle!$J$5,IF(AND($D7=4,G7=Wertetabelle!$C$2),Wertetabelle!$E$6,IF(AND($D7=4,G7=Wertetabelle!$C$3),Wertetabelle!$E$6,IF(AND($D7=4,G7=Wertetabelle!$C$4),Wertetabelle!$F$6,IF(AND($D7=4,G7=Wertetabelle!$C$5),Wertetabelle!$G$6,IF(AND($D7=4,G7=Wertetabelle!$C$6),Wertetabelle!$H$6,IF(AND($D7=4,G7=Wertetabelle!$C$7),Wertetabelle!$I$6,IF(AND($D7=4,G7=Wertetabelle!$C$8),Wertetabelle!$J$6,IF(AND($D7=5,G7=Wertetabelle!$C$2),Wertetabelle!$E$7,IF(AND($D7=5,G7=Wertetabelle!$C$3),Wertetabelle!$E$7,IF(AND($D7=5,G7=Wertetabelle!$C$4),Wertetabelle!$F$7,IF(AND($D7=5,G7=Wertetabelle!$C$5),Wertetabelle!$G$7,IF(AND($D7=5,G7=Wertetabelle!$C$6),Wertetabelle!$H$7,IF(AND($D7=5,G7=Wertetabelle!$C$7),Wertetabelle!$I$7,IF(AND($D7=5,G7=Wertetabelle!$C$8),Wertetabelle!$J$7,IF(AND($D7=6,G7=Wertetabelle!$C$2),Wertetabelle!$E$8,IF(AND($D7=6,G7=Wertetabelle!$C$3),Wertetabelle!$E$8,IF(AND($D7=6,G7=Wertetabelle!$C$4),Wertetabelle!$F$8,IF(AND($D7=6,G7=Wertetabelle!$C$5),Wertetabelle!$G$8,IF(AND($D7=6,G7=Wertetabelle!$C$6),Wertetabelle!$H$8,IF(AND($D7=6,G7=Wertetabelle!$C$7),Wertetabelle!$I$8,IF(AND($D7=6,G7=Wertetabelle!$C$8),Wertetabelle!$J$8,IF(AND($D7=7,G7=Wertetabelle!$C$2),Wertetabelle!$E$9,IF(AND($D7=7,G7=Wertetabelle!$C$3),Wertetabelle!$E$9,IF(AND($D7=7,G7=Wertetabelle!$C$4),Wertetabelle!$F$9,IF(AND($D7=7,G7=Wertetabelle!$C$5),Wertetabelle!$G$9,IF(AND($D7=7,G7=Wertetabelle!$C$6),Wertetabelle!$H$9,IF(AND($D7=7,G7=Wertetabelle!$C$7),Wertetabelle!$I$9,IF(AND($D7=7,G7=Wertetabelle!$C$8),Wertetabelle!$J$9,IF(AND($D7=8,G7=Wertetabelle!$C$2),Wertetabelle!$E$10,IF(AND($D7=8,G7=Wertetabelle!$C$3),Wertetabelle!$E$10,IF(AND($D7=8,G7=Wertetabelle!$C$4),Wertetabelle!$F$10,IF(AND($D7=8,G7=Wertetabelle!$C$5),Wertetabelle!$G$10,IF(AND($D7=8,G7=Wertetabelle!$C$6),Wertetabelle!$H$10,IF(AND($D7=8,G7=Wertetabelle!$C$7),Wertetabelle!$I$10,IF(AND($D7=8,G7=Wertetabelle!$C$8),Wertetabelle!$J$10,0)))))))))))))))))))))))))))))))))))))))))))))))))))))))) -> 0 | J7: =IF(AND($D7=1,I7=Wertetabelle!$C$2),Wertetabelle!$E$3,IF(AND($D7=1,I7=Wertetabelle!$C$3),Wertetabelle!$E$3,IF(AND($D7=1,I7=Wertetabelle!$C$4),Wertetabelle!$F$3,IF(AND($D7=1,I7=Wertetabelle!$C$5),Wertetabelle!$G$3,IF(AND($D7=1,I7=Wertetabelle!$C$6),Wertetabelle!$H$3,IF(AND($D7=1,I7=Wertetabelle!$C$7),Wertetabelle!$I$3,IF(AND($D7=1,I7=Wertetabelle!$C$8),Wertetabelle!N4,IF(AND($D7=2,I7=Wertetabelle!$C$2),Wertetabelle!$E$4,IF(AND($D7=2,I7=Wertetabelle!$C$3),Wertetabelle!$E$4,IF(AND($D7=2,I7=Wertetabelle!$C$4),Wertetabelle!$F$4,IF(AND($D7=2,I7=Wertetabelle!$C$5),Wertetabelle!$G$4,IF(AND($D7=2,I7=Wertetabelle!$C$6),Wertetabelle!$H$4,IF(AND($D7=2,I7=Wertetabelle!G8),Wertetabelle!$I$4,IF(AND($D7=2,I7=Wertetabelle!$C$8),Wertetabelle!$J$4,IF(AND($D7=3,I7=Wertetabelle!$C$2),Wertetabelle!$E$5,IF(AND($D7=3,I7=Wertetabelle!$C$3),Wertetabelle!$E$5,IF(AND($D7=3,I7=Wertetabelle!$C$4),Wertetabelle!$F$5,IF(AND($D7=3,I7=Wertetabelle!$C$5),Wertetabelle!$G$5,IF(AND($D7=3,I7=Wertetabelle!$C$6),Wertetabelle!$H$5,IF(AND($D7=3,I7=Wertetabelle!$C$7),Wertetabelle!$I$5,IF(AND($D7=3,I7=Wertetabelle!$C$8),Wertetabelle!$J$5,IF(AND($D7=4,I7=Wertetabelle!$C$2),Wertetabelle!$E$6,IF(AND($D7=4,I7=Wertetabelle!$C$3),Wertetabelle!$E$6,IF(AND($D7=4,I7=Wertetabelle!$C$4),Wertetabelle!$F$6,IF(AND($D7=4,I7=Wertetabelle!$C$5),Wertetabelle!$G$6,IF(AND($D7=4,I7=Wertetabelle!$C$6),Wertetabelle!$H$6,IF(AND($D7=4,I7=Wertetabelle!$C$7),Wertetabelle!$I$6,IF(AND($D7=4,I7=Wertetabelle!$C$8),Wertetabelle!$J$6,IF(AND($D7=5,I7=Wertetabelle!$C$2),Wertetabelle!$E$7,IF(AND($D7=5,I7=Wertetabelle!$C$3),Wertetabelle!$E$7,IF(AND($D7=5,I7=Wertetabelle!$C$4),Wertetabelle!$F$7,IF(AND($D7=5,I7=Wertetabelle!$C$5),Wertetabelle!$G$7,IF(AND($D7=5,I7=Wertetabelle!$C$6),Wertetabelle!$H$7,IF(AND($D7=5,I7=Wertetabelle!$C$7),Wertetabelle!$I$7,IF(AND($D7=5,I7=Wertetabelle!$C$8),Wertetabelle!$J$7,IF(AND($D7=6,I7=Wertetabelle!$C$2),Wertetabelle!$E$8,IF(AND($D7=6,I7=Wertetabelle!$C$3),Wertetabelle!$E$8,IF(AND($D7=6,I7=Wertetabelle!$C$4),Wertetabelle!$F$8,IF(AND($D7=6,I7=Wertetabelle!$C$5),Wertetabelle!$G$8,IF(AND($D7=6,I7=Wertetabelle!$C$6),Wertetabelle!$H$8,IF(AND($D7=6,I7=Wertetabelle!$C$7),Wertetabelle!$I$8,IF(AND($D7=6,I7=Wertetabelle!$C$8),Wertetabelle!$J$8,IF(AND($D7=7,I7=Wertetabelle!$C$2),Wertetabelle!$E$9,IF(AND($D7=7,I7=Wertetabelle!$C$3),Wertetabelle!$E$9,IF(AND($D7=7,I7=Wertetabelle!$C$4),Wertetabelle!$F$9,IF(AND($D7=7,I7=Wertetabelle!$C$5),Wertetabelle!$G$9,IF(AND($D7=7,I7=Wertetabelle!$C$6),Wertetabelle!$H$9,IF(AND($D7=7,I7=Wertetabelle!$C$7),Wertetabelle!$I$9,IF(AND($D7=7,I7=Wertetabelle!$C$8),Wertetabelle!$J$9,IF(AND($D7=8,I7=Wertetabelle!$C$2),Wertetabelle!$E$10,IF(AND($D7=8,I7=Wertetabelle!$C$3),Wertetabelle!$E$10,IF(AND($D7=8,I7=Wertetabelle!$C$4),Wertetabelle!$F$10,IF(AND($D7=8,I7=Wertetabelle!$C$5),Wertetabelle!$G$10,IF(AND($D7=8,I7=Wertetabelle!$C$6),Wertetabelle!$H$10,IF(AND($D7=8,I7=Wertetabelle!$C$7),Wertetabelle!$I$10,IF(AND($D7=8,I7=Wertetabelle!$C$8),Wertetabelle!$J$10,0)))))))))))))))))))))))))))))))))))))))))))))))))))))))) -> 0
F8: =IF(AND(D8=1,E8=Wertetabelle!$C$2),Wertetabelle!$E$3,IF(AND(D8=1,E8=Wertetabelle!$C$3),Wertetabelle!$E$3,IF(AND(D8=1,E8=Wertetabelle!$C$4),Wertetabelle!$F$3,IF(AND(D8=1,E8=Wertetabelle!$C$5),Wertetabelle!$G$3,IF(AND(D8=1,E8=Wertetabelle!$C$6),Wertetabelle!$H$3,IF(AND(D8=1,E8=Wertetabelle!$C$7),Wertetabelle!$I$3,IF(AND(D8=1,E8=Wertetabelle!$C$8),Wertetabelle!J5,IF(AND(D8=2,E8=Wertetabelle!$C$2),Wertetabelle!$E$4,IF(AND(D8=2,E8=Wertetabelle!$C$3),Wertetabelle!$E$4,IF(AND(D8=2,E8=Wertetabelle!$C$4),Wertetabelle!$F$4,IF(AND(D8=2,E8=Wertetabelle!$C$5),Wertetabelle!$G$4,IF(AND(D8=2,E8=Wertetabelle!$C$6),Wertetabelle!$H$4,IF(AND(D8=2,E8=Wertetabelle!C9),Wertetabelle!$I$4,IF(AND(D8=2,E8=Wertetabelle!$C$8),Wertetabelle!$J$4,IF(AND(D8=3,E8=Wertetabelle!$C$2),Wertetabelle!$E$5,IF(AND(D8=3,E8=Wertetabelle!$C$3),Wertetabelle!$E$5,IF(AND(D8=3,E8=Wertetabelle!$C$4),Wertetabelle!$F$5,IF(AND(D8=3,E8=Wertetabelle!$C$5),Wertetabelle!$G$5,IF(AND(D8=3,E8=Wertetabelle!$C$6),Wertetabelle!$H$5,IF(AND(D8=3,E8=Wertetabelle!$C$7),Wertetabelle!$I$5,IF(AND(D8=3,E8=Wertetabelle!$C$8),Wertetabelle!$J$5,IF(AND(D8=4,E8=Wertetabelle!$C$2),Wertetabelle!$E$6,IF(AND(D8=4,E8=Wertetabelle!$C$3),Wertetabelle!$E$6,IF(AND(D8=4,E8=Wertetabelle!$C$4),Wertetabelle!$F$6,IF(AND(D8=4,E8=Wertetabelle!$C$5),Wertetabelle!$G$6,IF(AND(D8=4,E8=Wertetabelle!$C$6),Wertetabelle!$H$6,IF(AND(D8=4,E8=Wertetabelle!$C$7),Wertetabelle!$I$6,IF(AND(D8=4,E8=Wertetabelle!$C$8),Wertetabelle!$J$6,IF(AND(D8=5,E8=Wertetabelle!$C$2),Wertetabelle!$E$7,IF(AND(D8=5,E8=Wertetabelle!$C$3),Wertetabelle!$E$7,IF(AND(D8=5,E8=Wertetabelle!$C$4),Wertetabelle!$F$7,IF(AND(D8=5,E8=Wertetabelle!$C$5),Wertetabelle!$G$7,IF(AND(D8=5,E8=Wertetabelle!$C$6),Wertetabelle!$H$7,IF(AND(D8=5,E8=Wertetabelle!$C$7),Wertetabelle!$I$7,IF(AND(D8=5,E8=Wertetabelle!$C$8),Wertetabelle!$J$7,IF(AND(D8=6,E8=Wertetabelle!$C$2),Wertetabelle!$E$8,IF(AND(D8=6,E8=Wertetabelle!$C$3),Wertetabelle!$E$8,IF(AND(D8=6,E8=Wertetabelle!$C$4),Wertetabelle!$F$8,IF(AND(D8=6,E8=Wertetabelle!$C$5),Wertetabelle!$G$8,IF(AND(D8=6,E8=Wertetabelle!$C$6),Wertetabelle!$H$8,IF(AND(D8=6,E8=Wertetabelle!$C$7),Wertetabelle!$I$8,IF(AND(D8=6,E8=Wertetabelle!$C$8),Wertetabelle!$J$8,IF(AND(D8=7,E8=Wertetabelle!$C$2),Wertetabelle!$E$9,IF(AND(D8=7,E8=Wertetabelle!$C$3),Wertetabelle!$E$9,IF(AND(D8=7,E8=Wertetabelle!$C$4),Wertetabelle!$F$9,IF(AND(D8=7,E8=Wertetabelle!$C$5),Wertetabelle!$G$9,IF(AND(D8=7,E8=Wertetabelle!$C$6),Wertetabelle!$H$9,IF(AND(D8=7,E8=Wertetabelle!$C$7),Wertetabelle!$I$9,IF(AND(D8=7,E8=Wertetabelle!$C$8),Wertetabelle!$J$9,IF(AND(D8=8,E8=Wertetabelle!$C$2),Wertetabelle!$E$10,IF(AND(D8=8,E8=Wertetabelle!$C$3),Wertetabelle!$E$10,IF(AND(D8=8,E8=Wertetabelle!$C$4),Wertetabelle!$F$10,IF(AND(D8=8,E8=Wertetabelle!$C$5),Wertetabelle!$G$10,IF(AND(D8=8,E8=Wertetabelle!$C$6),Wertetabelle!$H$10,IF(AND(D8=8,E8=Wertetabelle!$C$7),Wertetabelle!$I$10,IF(AND(D8=8,E8=Wertetabelle!$C$8),Wertetabelle!$J$10,0)))))))))))))))))))))))))))))))))))))))))))))))))))))))) -> 0 | H8: =IF(AND($D8=1,G8=Wertetabelle!$C$2),Wertetabelle!$E$3,IF(AND($D8=1,G8=Wertetabelle!$C$3),Wertetabelle!$E$3,IF(AND($D8=1,G8=Wertetabelle!$C$4),Wertetabelle!$F$3,IF(AND($D8=1,G8=Wertetabelle!$C$5),Wertetabelle!$G$3,IF(AND($D8=1,G8=Wertetabelle!$C$6),Wertetabelle!$H$3,IF(AND($D8=1,G8=Wertetabelle!$C$7),Wertetabelle!$I$3,IF(AND($D8=1,G8=Wertetabelle!$C$8),Wertetabelle!L5,IF(AND($D8=2,G8=Wertetabelle!$C$2),Wertetabelle!$E$4,IF(AND($D8=2,G8=Wertetabelle!$C$3),Wertetabelle!$E$4,IF(AND($D8=2,G8=Wertetabelle!$C$4),Wertetabelle!$F$4,IF(AND($D8=2,G8=Wertetabelle!$C$5),Wertetabelle!$G$4,IF(AND($D8=2,G8=Wertetabelle!$C$6),Wertetabelle!$H$4,IF(AND($D8=2,G8=Wertetabelle!E9),Wertetabelle!$I$4,IF(AND($D8=2,G8=Wertetabelle!$C$8),Wertetabelle!$J$4,IF(AND($D8=3,G8=Wertetabelle!$C$2),Wertetabelle!$E$5,IF(AND($D8=3,G8=Wertetabelle!$C$3),Wertetabelle!$E$5,IF(AND($D8=3,G8=Wertetabelle!$C$4),Wertetabelle!$F$5,IF(AND($D8=3,G8=Wertetabelle!$C$5),Wertetabelle!$G$5,IF(AND($D8=3,G8=Wertetabelle!$C$6),Wertetabelle!$H$5,IF(AND($D8=3,G8=Wertetabelle!$C$7),Wertetabelle!$I$5,IF(AND($D8=3,G8=Wertetabelle!$C$8),Wertetabelle!$J$5,IF(AND($D8=4,G8=Wertetabelle!$C$2),Wertetabelle!$E$6,IF(AND($D8=4,G8=Wertetabelle!$C$3),Wertetabelle!$E$6,IF(AND($D8=4,G8=Wertetabelle!$C$4),Wertetabelle!$F$6,IF(AND($D8=4,G8=Wertetabelle!$C$5),Wertetabelle!$G$6,IF(AND($D8=4,G8=Wertetabelle!$C$6),Wertetabelle!$H$6,IF(AND($D8=4,G8=Wertetabelle!$C$7),Wertetabelle!$I$6,IF(AND($D8=4,G8=Wertetabelle!$C$8),Wertetabelle!$J$6,IF(AND($D8=5,G8=Wertetabelle!$C$2),Wertetabelle!$E$7,IF(AND($D8=5,G8=Wertetabelle!$C$3),Wertetabelle!$E$7,IF(AND($D8=5,G8=Wertetabelle!$C$4),Wertetabelle!$F$7,IF(AND($D8=5,G8=Wertetabelle!$C$5),Wertetabelle!$G$7,IF(AND($D8=5,G8=Wertetabelle!$C$6),Wertetabelle!$H$7,IF(AND($D8=5,G8=Wertetabelle!$C$7),Wertetabelle!$I$7,IF(AND($D8=5,G8=Wertetabelle!$C$8),Wertetabelle!$J$7,IF(AND($D8=6,G8=Wertetabelle!$C$2),Wertetabelle!$E$8,IF(AND($D8=6,G8=Wertetabelle!$C$3),Wertetabelle!$E$8,IF(AND($D8=6,G8=Wertetabelle!$C$4),Wertetabelle!$F$8,IF(AND($D8=6,G8=Wertetabelle!$C$5),Wertetabelle!$G$8,IF(AND($D8=6,G8=Wertetabelle!$C$6),Wertetabelle!$H$8,IF(AND($D8=6,G8=Wertetabelle!$C$7),Wertetabelle!$I$8,IF(AND($D8=6,G8=Wertetabelle!$C$8),Wertetabelle!$J$8,IF(AND($D8=7,G8=Wertetabelle!$C$2),Wertetabelle!$E$9,IF(AND($D8=7,G8=Wertetabelle!$C$3),Wertetabelle!$E$9,IF(AND($D8=7,G8=Wertetabelle!$C$4),Wertetabelle!$F$9,IF(AND($D8=7,G8=Wertetabelle!$C$5),Wertetabelle!$G$9,IF(AND($D8=7,G8=Wertetabelle!$C$6),Wertetabelle!$H$9,IF(AND($D8=7,G8=Wertetabelle!$C$7),Wertetabelle!$I$9,IF(AND($D8=7,G8=Wertetabelle!$C$8),Wertetabelle!$J$9,IF(AND($D8=8,G8=Wertetabelle!$C$2),Wertetabelle!$E$10,IF(AND($D8=8,G8=Wertetabelle!$C$3),Wertetabelle!$E$10,IF(AND($D8=8,G8=Wertetabelle!$C$4),Wertetabelle!$F$10,IF(AND($D8=8,G8=Wertetabelle!$C$5),Wertetabelle!$G$10,IF(AND($D8=8,G8=Wertetabelle!$C$6),Wertetabelle!$H$10,IF(AND($D8=8,G8=Wertetabelle!$C$7),Wertetabelle!$I$10,IF(AND($D8=8,G8=Wertetabelle!$C$8),Wertetabelle!$J$10,0)))))))))))))))))))))))))))))))))))))))))))))))))))))))) -> 0 | J8: =IF(AND($D8=1,I8=Wertetabelle!$C$2),Wertetabelle!$E$3,IF(AND($D8=1,I8=Wertetabelle!$C$3),Wertetabelle!$E$3,IF(AND($D8=1,I8=Wertetabelle!$C$4),Wertetabelle!$F$3,IF(AND($D8=1,I8=Wertetabelle!$C$5),Wertetabelle!$G$3,IF(AND($D8=1,I8=Wertetabelle!$C$6),Wertetabelle!$H$3,IF(AND($D8=1,I8=Wertetabelle!$C$7),Wertetabelle!$I$3,IF(AND($D8=1,I8=Wertetabelle!$C$8),Wertetabelle!N5,IF(AND($D8=2,I8=Wertetabelle!$C$2),Wertetabelle!$E$4,IF(AND($D8=2,I8=Wertetabelle!$C$3),Wertetabelle!$E$4,IF(AND($D8=2,I8=Wertetabelle!$C$4),Wertetabelle!$F$4,IF(AND($D8=2,I8=Wertetabelle!$C$5),Wertetabelle!$G$4,IF(AND($D8=2,I8=Wertetabelle!$C$6),Wertetabelle!$H$4,IF(AND($D8=2,I8=Wertetabelle!G9),Wertetabelle!$I$4,IF(AND($D8=2,I8=Wertetabelle!$C$8),Wertetabelle!$J$4,IF(AND($D8=3,I8=Wertetabelle!$C$2),Wertetabelle!$E$5,IF(AND($D8=3,I8=Wertetabelle!$C$3),Wertetabelle!$E$5,IF(AND($D8=3,I8=Wertetabelle!$C$4),Wertetabelle!$F$5,IF(AND($D8=3,I8=Wertetabelle!$C$5),Wertetabelle!$G$5,IF(AND($D8=3,I8=Wertetabelle!$C$6),Wertetabelle!$H$5,IF(AND($D8=3,I8=Wertetabelle!$C$7),Wertetabelle!$I$5,IF(AND($D8=3,I8=Wertetabelle!$C$8),Wertetabelle!$J$5,IF(AND($D8=4,I8=Wertetabelle!$C$2),Wertetabelle!$E$6,IF(AND($D8=4,I8=Wertetabelle!$C$3),Wertetabelle!$E$6,IF(AND($D8=4,I8=Wertetabelle!$C$4),Wertetabelle!$F$6,IF(AND($D8=4,I8=Wertetabelle!$C$5),Wertetabelle!$G$6,IF(AND($D8=4,I8=Wertetabelle!$C$6),Wertetabelle!$H$6,IF(AND($D8=4,I8=Wertetabelle!$C$7),Wertetabelle!$I$6,IF(AND($D8=4,I8=Wertetabelle!$C$8),Wertetabelle!$J$6,IF(AND($D8=5,I8=Wertetabelle!$C$2),Wertetabelle!$E$7,IF(AND($D8=5,I8=Wertetabelle!$C$3),Wertetabelle!$E$7,IF(AND($D8=5,I8=Wertetabelle!$C$4),Wertetabelle!$F$7,IF(AND($D8=5,I8=Wertetabelle!$C$5),Wertetabelle!$G$7,IF(AND($D8=5,I8=Wertetabelle!$C$6),Wertetabelle!$H$7,IF(AND($D8=5,I8=Wertetabelle!$C$7),Wertetabelle!$I$7,IF(AND($D8=5,I8=Wertetabelle!$C$8),Wertetabelle!$J$7,IF(AND($D8=6,I8=Wertetabelle!$C$2),Wertetabelle!$E$8,IF(AND($D8=6,I8=Wertetabelle!$C$3),Wertetabelle!$E$8,IF(AND($D8=6,I8=Wertetabelle!$C$4),Wertetabelle!$F$8,IF(AND($D8=6,I8=Wertetabelle!$C$5),Wertetabelle!$G$8,IF(AND($D8=6,I8=Wertetabelle!$C$6),Wertetabelle!$H$8,IF(AND($D8=6,I8=Wertetabelle!$C$7),Wertetabelle!$I$8,IF(AND($D8=6,I8=Wertetabelle!$C$8),Wertetabelle!$J$8,IF(AND($D8=7,I8=Wertetabelle!$C$2),Wertetabelle!$E$9,IF(AND($D8=7,I8=Wertetabelle!$C$3),Wertetabelle!$E$9,IF(AND($D8=7,I8=Wertetabelle!$C$4),Wertetabelle!$F$9,IF(AND($D8=7,I8=Wertetabelle!$C$5),Wertetabelle!$G$9,IF(AND($D8=7,I8=Wertetabelle!$C$6),Wertetabelle!$H$9,IF(AND($D8=7,I8=Wertetabelle!$C$7),Wertetabelle!$I$9,IF(AND($D8=7,I8=Wertetabelle!$C$8),Wertetabelle!$J$9,IF(AND($D8=8,I8=Wertetabelle!$C$2),Wertetabelle!$E$10,IF(AND($D8=8,I8=Wertetabelle!$C$3),Wertetabelle!$E$10,IF(AND($D8=8,I8=Wertetabelle!$C$4),Wertetabelle!$F$10,IF(AND($D8=8,I8=Wertetabelle!$C$5),Wertetabelle!$G$10,IF(AND($D8=8,I8=Wertetabelle!$C$6),Wertetabelle!$H$10,IF(AND($D8=8,I8=Wertetabelle!$C$7),Wertetabelle!$I$10,IF(AND($D8=8,I8=Wertetabelle!$C$8),Wertetabelle!$J$10,0)))))))))))))))))))))))))))))))))))))))))))))))))))))))) -> 0
F9: =IF(AND(D9=1,E9=Wertetabelle!$C$2),Wertetabelle!$E$3,IF(AND(D9=1,E9=Wertetabelle!$C$3),Wertetabelle!$E$3,IF(AND(D9=1,E9=Wertetabelle!$C$4),Wertetabelle!$F$3,IF(AND(D9=1,E9=Wertetabelle!$C$5),Wertetabelle!$G$3,IF(AND(D9=1,E9=Wertetabelle!$C$6),Wertetabelle!$H$3,IF(AND(D9=1,E9=Wertetabelle!$C$7),Wertetabelle!$I$3,IF(AND(D9=1,E9=Wertetabelle!$C$8),Wertetabelle!J6,IF(AND(D9=2,E9=Wertetabelle!$C$2),Wertetabelle!$E$4,IF(AND(D9=2,E9=Wertetabelle!$C$3),Wertetabelle!$E$4,IF(AND(D9=2,E9=Wertetabelle!$C$4),Wertetabelle!$F$4,IF(AND(D9=2,E9=Wertetabelle!$C$5),Wertetabelle!$G$4,IF(AND(D9=2,E9=Wertetabelle!$C$6),Wertetabelle!$H$4,IF(AND(D9=2,E9=Wertetabelle!C10),Wertetabelle!$I$4,IF(AND(D9=2,E9=Wertetabelle!$C$8),Wertetabelle!$J$4,IF(AND(D9=3,E9=Wertetabelle!$C$2),Wertetabelle!$E$5,IF(AND(D9=3,E9=Wertetabelle!$C$3),Wertetabelle!$E$5,IF(AND(D9=3,E9=Wertetabelle!$C$4),Wertetabelle!$F$5,IF(AND(D9=3,E9=Wertetabelle!$C$5),Wertetabelle!$G$5,IF(AND(D9=3,E9=Wertetabelle!$C$6),Wertetabelle!$H$5,IF(AND(D9=3,E9=Wertetabelle!$C$7),Wertetabelle!$I$5,IF(AND(D9=3,E9=Wertetabelle!$C$8),Wertetabelle!$J$5,IF(AND(D9=4,E9=Wertetabelle!$C$2),Wertetabelle!$E$6,IF(AND(D9=4,E9=Wertetabelle!$C$3),Wertetabelle!$E$6,IF(AND(D9=4,E9=Wertetabelle!$C$4),Wertetabelle!$F$6,IF(AND(D9=4,E9=Wertetabelle!$C$5),Wertetabelle!$G$6,IF(AND(D9=4,E9=Wertetabelle!$C$6),Wertetabelle!$H$6,IF(AND(D9=4,E9=Wertetabelle!$C$7),Wertetabelle!$I$6,IF(AND(D9=4,E9=Wertetabelle!$C$8),Wertetabelle!$J$6,IF(AND(D9=5,E9=Wertetabelle!$C$2),Wertetabelle!$E$7,IF(AND(D9=5,E9=Wertetabelle!$C$3),Wertetabelle!$E$7,IF(AND(D9=5,E9=Wertetabelle!$C$4),Wertetabelle!$F$7,IF(AND(D9=5,E9=Wertetabelle!$C$5),Wertetabelle!$G$7,IF(AND(D9=5,E9=Wertetabelle!$C$6),Wertetabelle!$H$7,IF(AND(D9=5,E9=Wertetabelle!$C$7),Wertetabelle!$I$7,IF(AND(D9=5,E9=Wertetabelle!$C$8),Wertetabelle!$J$7,IF(AND(D9=6,E9=Wertetabelle!$C$2),Wertetabelle!$E$8,IF(AND(D9=6,E9=Wertetabelle!$C$3),Wertetabelle!$E$8,IF(AND(D9=6,E9=Wertetabelle!$C$4),Wertetabelle!$F$8,IF(AND(D9=6,E9=Wertetabelle!$C$5),Wertetabelle!$G$8,IF(AND(D9=6,E9=Wertetabelle!$C$6),Wertetabelle!$H$8,IF(AND(D9=6,E9=Wertetabelle!$C$7),Wertetabelle!$I$8,IF(AND(D9=6,E9=Wertetabelle!$C$8),Wertetabelle!$J$8,IF(AND(D9=7,E9=Wertetabelle!$C$2),Wertetabelle!$E$9,IF(AND(D9=7,E9=Wertetabelle!$C$3),Wertetabelle!$E$9,IF(AND(D9=7,E9=Wertetabelle!$C$4),Wertetabelle!$F$9,IF(AND(D9=7,E9=Wertetabelle!$C$5),Wertetabelle!$G$9,IF(AND(D9=7,E9=Wertetabelle!$C$6),Wertetabelle!$H$9,IF(AND(D9=7,E9=Wertetabelle!$C$7),Wertetabelle!$I$9,IF(AND(D9=7,E9=Wertetabelle!$C$8),Wertetabelle!$J$9,IF(AND(D9=8,E9=Wertetabelle!$C$2),Wertetabelle!$E$10,IF(AND(D9=8,E9=Wertetabelle!$C$3),Wertetabelle!$E$10,IF(AND(D9=8,E9=Wertetabelle!$C$4),Wertetabelle!$F$10,IF(AND(D9=8,E9=Wertetabelle!$C$5),Wertetabelle!$G$10,IF(AND(D9=8,E9=Wertetabelle!$C$6),Wertetabelle!$H$10,IF(AND(D9=8,E9=Wertetabelle!$C$7),Wertetabelle!$I$10,IF(AND(D9=8,E9=Wertetabelle!$C$8),Wertetabelle!$J$10,0)))))))))))))))))))))))))))))))))))))))))))))))))))))))) -> 0 | H9: =IF(AND($D9=1,G9=Wertetabelle!$C$2),Wertetabelle!$E$3,IF(AND($D9=1,G9=Wertetabelle!$C$3),Wertetabelle!$E$3,IF(AND($D9=1,G9=Wertetabelle!$C$4),Wertetabelle!$F$3,IF(AND($D9=1,G9=Wertetabelle!$C$5),Wertetabelle!$G$3,IF(AND($D9=1,G9=Wertetabelle!$C$6),Wertetabelle!$H$3,IF(AND($D9=1,G9=Wertetabelle!$C$7),Wertetabelle!$I$3,IF(AND($D9=1,G9=Wertetabelle!$C$8),Wertetabelle!L6,IF(AND($D9=2,G9=Wertetabelle!$C$2),Wertetabelle!$E$4,IF(AND($D9=2,G9=Wertetabelle!$C$3),Wertetabelle!$E$4,IF(AND($D9=2,G9=Wertetabelle!$C$4),Wertetabelle!$F$4,IF(AND($D9=2,G9=Wertetabelle!$C$5),Wertetabelle!$G$4,IF(AND($D9=2,G9=Wertetabelle!$C$6),Wertetabelle!$H$4,IF(AND($D9=2,G9=Wertetabelle!E10),Wertetabelle!$I$4,IF(AND($D9=2,G9=Wertetabelle!$C$8),Wertetabelle!$J$4,IF(AND($D9=3,G9=Wertetabelle!$C$2),Wertetabelle!$E$5,IF(AND($D9=3,G9=Wertetabelle!$C$3),Wertetabelle!$E$5,IF(AND($D9=3,G9=Wertetabelle!$C$4),Wertetabelle!$F$5,IF(AND($D9=3,G9=Wertetabelle!$C$5),Wertetabelle!$G$5,IF(AND($D9=3,G9=Wertetabelle!$C$6),Wertetabelle!$H$5,IF(AND($D9=3,G9=Wertetabelle!$C$7),Wertetabelle!$I$5,IF(AND($D9=3,G9=Wertetabelle!$C$8),Wertetabelle!$J$5,IF(AND($D9=4,G9=Wertetabelle!$C$2),Wertetabelle!$E$6,IF(AND($D9=4,G9=Wertetabelle!$C$3),Wertetabelle!$E$6,IF(AND($D9=4,G9=Wertetabelle!$C$4),Wertetabelle!$F$6,IF(AND($D9=4,G9=Wertetabelle!$C$5),Wertetabelle!$G$6,IF(AND($D9=4,G9=Wertetabelle!$C$6),Wertetabelle!$H$6,IF(AND($D9=4,G9=Wertetabelle!$C$7),Wertetabelle!$I$6,IF(AND($D9=4,G9=Wertetabelle!$C$8),Wertetabelle!$J$6,IF(AND($D9=5,G9=Wertetabelle!$C$2),Wertetabelle!$E$7,IF(AND($D9=5,G9=Wertetabelle!$C$3),Wertetabelle!$E$7,IF(AND($D9=5,G9=Wertetabelle!$C$4),Wertetabelle!$F$7,IF(AND($D9=5,G9=Wertetabelle!$C$5),Wertetabelle!$G$7,IF(AND($D9=5,G9=Wertetabelle!$C$6),Wertetabelle!$H$7,IF(AND($D9=5,G9=Wertetabelle!$C$7),Wertetabelle!$I$7,IF(AND($D9=5,G9=Wertetabelle!$C$8),Wertetabelle!$J$7,IF(AND($D9=6,G9=Wertetabelle!$C$2),Wertetabelle!$E$8,IF(AND($D9=6,G9=Wertetabelle!$C$3),Wertetabelle!$E$8,IF(AND($D9=6,G9=Wertetabelle!$C$4),Wertetabelle!$F$8,IF(AND($D9=6,G9=Wertetabelle!$C$5),Wertetabelle!$G$8,IF(AND($D9=6,G9=Wertetabelle!$C$6),Wertetabelle!$H$8,IF(AND($D9=6,G9=Wertetabelle!$C$7),Wertetabelle!$I$8,IF(AND($D9=6,G9=Wertetabelle!$C$8),Wertetabelle!$J$8,IF(AND($D9=7,G9=Wertetabelle!$C$2),Wertetabelle!$E$9,IF(AND($D9=7,G9=Wertetabelle!$C$3),Wertetabelle!$E$9,IF(AND($D9=7,G9=Wertetabelle!$C$4),Wertetabelle!$F$9,IF(AND($D9=7,G9=Wertetabelle!$C$5),Wertetabelle!$G$9,IF(AND($D9=7,G9=Wertetabelle!$C$6),Wertetabelle!$H$9,IF(AND($D9=7,G9=Wertetabelle!$C$7),Wertetabelle!$I$9,IF(AND($D9=7,G9=Wertetabelle!$C$8),Wertetabelle!$J$9,IF(AND($D9=8,G9=Wertetabelle!$C$2),Wertetabelle!$E$10,IF(AND($D9=8,G9=Wertetabelle!$C$3),Wertetabelle!$E$10,IF(AND($D9=8,G9=Wertetabelle!$C$4),Wertetabelle!$F$10,IF(AND($D9=8,G9=Wertetabelle!$C$5),Wertetabelle!$G$10,IF(AND($D9=8,G9=Wertetabelle!$C$6),Wertetabelle!$H$10,IF(AND($D9=8,G9=Wertetabelle!$C$7),Wertetabelle!$I$10,IF(AND($D9=8,G9=Wertetabelle!$C$8),Wertetabelle!$J$10,0)))))))))))))))))))))))))))))))))))))))))))))))))))))))) -> 0 | J9: =IF(AND($D9=1,I9=Wertetabelle!$C$2),Wertetabelle!$E$3,IF(AND($D9=1,I9=Wertetabelle!$C$3),Wertetabelle!$E$3,IF(AND($D9=1,I9=Wertetabelle!$C$4),Wertetabelle!$F$3,IF(AND($D9=1,I9=Wertetabelle!$C$5),Wertetabelle!$G$3,IF(AND($D9=1,I9=Wertetabelle!$C$6),Wertetabelle!$H$3,IF(AND($D9=1,I9=Wertetabelle!$C$7),Wertetabelle!$I$3,IF(AND($D9=1,I9=Wertetabelle!$C$8),Wertetabelle!N6,IF(AND($D9=2,I9=Wertetabelle!$C$2),Wertetabelle!$E$4,IF(AND($D9=2,I9=Wertetabelle!$C$3),Wertetabelle!$E$4,IF(AND($D9=2,I9=Wertetabelle!$C$4),Wertetabelle!$F$4,IF(AND($D9=2,I9=Wertetabelle!$C$5),Wertetabelle!$G$4,IF(AND($D9=2,I9=Wertetabelle!$C$6),Wertetabelle!$H$4,IF(AND($D9=2,I9=Wertetabelle!G10),Wertetabelle!$I$4,IF(AND($D9=2,I9=Wertetabelle!$C$8),Wertetabelle!$J$4,IF(AND($D9=3,I9=Wertetabelle!$C$2),Wertetabelle!$E$5,IF(AND($D9=3,I9=Wertetabelle!$C$3),Wertetabelle!$E$5,IF(AND($D9=3,I9=Wertetabelle!$C$4),Wertetabelle!$F$5,IF(AND($D9=3,I9=Wertetabelle!$C$5),Wertetabelle!$G$5,IF(AND($D9=3,I9=Wertetabelle!$C$6),Wertetabelle!$H$5,IF(AND($D9=3,I9=Wertetabelle!$C$7),Wertetabelle!$I$5,IF(AND($D9=3,I9=Wertetabelle!$C$8),Wertetabelle!$J$5,IF(AND($D9=4,I9=Wertetabelle!$C$2),Wertetabelle!$E$6,IF(AND($D9=4,I9=Wertetabelle!$C$3),Wertetabelle!$E$6,IF(AND($D9=4,I9=Wertetabelle!$C$4),Wertetabelle!$F$6,IF(AND($D9=4,I9=Wertetabelle!$C$5),Wertetabelle!$G$6,IF(AND($D9=4,I9=Wertetabelle!$C$6),Wertetabelle!$H$6,IF(AND($D9=4,I9=Wertetabelle!$C$7),Wertetabelle!$I$6,IF(AND($D9=4,I9=Wertetabelle!$C$8),Wertetabelle!$J$6,IF(AND($D9=5,I9=Wertetabelle!$C$2),Wertetabelle!$E$7,IF(AND($D9=5,I9=Wertetabelle!$C$3),Wertetabelle!$E$7,IF(AND($D9=5,I9=Wertetabelle!$C$4),Wertetabelle!$F$7,IF(AND($D9=5,I9=Wertetabelle!$C$5),Wertetabelle!$G$7,IF(AND($D9=5,I9=Wertetabelle!$C$6),Wertetabelle!$H$7,IF(AND($D9=5,I9=Wertetabelle!$C$7),Wertetabelle!$I$7,IF(AND($D9=5,I9=Wertetabelle!$C$8),Wertetabelle!$J$7,IF(AND($D9=6,I9=Wertetabelle!$C$2),Wertetabelle!$E$8,IF(AND($D9=6,I9=Wertetabelle!$C$3),Wertetabelle!$E$8,IF(AND($D9=6,I9=Wertetabelle!$C$4),Wertetabelle!$F$8,IF(AND($D9=6,I9=Wertetabelle!$C$5),Wertetabelle!$G$8,IF(AND($D9=6,I9=Wertetabelle!$C$6),Wertetabelle!$H$8,IF(AND($D9=6,I9=Wertetabelle!$C$7),Wertetabelle!$I$8,IF(AND($D9=6,I9=Wertetabelle!$C$8),Wertetabelle!$J$8,IF(AND($D9=7,I9=Wertetabelle!$C$2),Wertetabelle!$E$9,IF(AND($D9=7,I9=Wertetabelle!$C$3),Wertetabelle!$E$9,IF(AND($D9=7,I9=Wertetabelle!$C$4),Wertetabelle!$F$9,IF(AND($D9=7,I9=Wertetabelle!$C$5),Wertetabelle!$G$9,IF(AND($D9=7,I9=Wertetabelle!$C$6),Wertetabelle!$H$9,IF(AND($D9=7,I9=Wertetabelle!$C$7),Wertetabelle!$I$9,IF(AND($D9=7,I9=Wertetabelle!$C$8),Wertetabelle!$J$9,IF(AND($D9=8,I9=Wertetabelle!$C$2),Wertetabelle!$E$10,IF(AND($D9=8,I9=Wertetabelle!$C$3),Wertetabelle!$E$10,IF(AND($D9=8,I9=Wertetabelle!$C$4),Wertetabelle!$F$10,IF(AND($D9=8,I9=Wertetabelle!$C$5),Wertetabelle!$G$10,IF(AND($D9=8,I9=Wertetabelle!$C$6),Wertetabelle!$H$10,IF(AND($D9=8,I9=Wertetabelle!$C$7),Wertetabelle!$I$10,IF(AND($D9=8,I9=Wertetabelle!$C$8),Wertetabelle!$J$10,0)))))))))))))))))))))))))))))))))))))))))))))))))))))))) -> 0
F10: =IF(AND(D10=1,E10=Wertetabelle!$C$2),Wertetabelle!$E$3,IF(AND(D10=1,E10=Wertetabelle!$C$3),Wertetabelle!$E$3,IF(AND(D10=1,E10=Wertetabelle!$C$4),Wertetabelle!$F$3,IF(AND(D10=1,E10=Wertetabelle!$C$5),Wertetabelle!$G$3,IF(AND(D10=1,E10=Wertetabelle!$C$6),Wertetabelle!$H$3,IF(AND(D10=1,E10=Wertetabelle!$C$7),Wertetabelle!$I$3,IF(AND(D10=1,E10=Wertetabelle!$C$8),Wertetabelle!J7,IF(AND(D10=2,E10=Wertetabelle!$C$2),Wertetabelle!$E$4,IF(AND(D10=2,E10=Wertetabelle!$C$3),Wertetabelle!$E$4,IF(AND(D10=2,E10=Wertetabelle!$C$4),Wertetabelle!$F$4,IF(AND(D10=2,E10=Wertetabelle!$C$5),Wertetabelle!$G$4,IF(AND(D10=2,E10=Wertetabelle!$C$6),Wertetabelle!$H$4,IF(AND(D10=2,E10=Wertetabelle!C11),Wertetabelle!$I$4,IF(AND(D10=2,E10=Wertetabelle!$C$8),Wertetabelle!$J$4,IF(AND(D10=3,E10=Wertetabelle!$C$2),Wertetabelle!$E$5,IF(AND(D10=3,E10=Wertetabelle!$C$3),Wertetabelle!$E$5,IF(AND(D10=3,E10=Wertetabelle!$C$4),Wertetabelle!$F$5,IF(AND(D10=3,E10=Wertetabelle!$C$5),Wertetabelle!$G$5,IF(AND(D10=3,E10=Wertetabelle!$C$6),Wertetabelle!$H$5,IF(AND(D10=3,E10=Wertetabelle!$C$7),Wertetabelle!$I$5,IF(AND(D10=3,E10=Wertetabelle!$C$8),Wertetabelle!$J$5,IF(AND(D10=4,E10=Wertetabelle!$C$2),Wertetabelle!$E$6,IF(AND(D10=4,E10=Wertetabelle!$C$3),Wertetabelle!$E$6,IF(AND(D10=4,E10=Wertetabelle!$C$4),Wertetabelle!$F$6,IF(AND(D10=4,E10=Wertetabelle!$C$5),Wertetabelle!$G$6,IF(AND(D10=4,E10=Wertetabelle!$C$6),Wertetabelle!$H$6,IF(AND(D10=4,E10=Wertetabelle!$C$7),Wertetabelle!$I$6,IF(AND(D10=4,E10=Wertetabelle!$C$8),Wertetabelle!$J$6,IF(AND(D10=5,E10=Wertetabelle!$C$2),Wertetabelle!$E$7,IF(AND(D10=5,E10=Wertetabelle!$C$3),Wertetabelle!$E$7,IF(AND(D10=5,E10=Wertetabelle!$C$4),Wertetabelle!$F$7,IF(AND(D10=5,E10=Wertetabelle!$C$5),Wertetabelle!$G$7,IF(AND(D10=5,E10=Wertetabelle!$C$6),Wertetabelle!$H$7,IF(AND(D10=5,E10=Wertetabelle!$C$7),Wertetabelle!$I$7,IF(AND(D10=5,E10=Wertetabelle!$C$8),Wertetabelle!$J$7,IF(AND(D10=6,E10=Wertetabelle!$C$2),Wertetabelle!$E$8,IF(AND(D10=6,E10=Wertetabelle!$C$3),Wertetabelle!$E$8,IF(AND(D10=6,E10=Wertetabelle!$C$4),Wertetabelle!$F$8,IF(AND(D10=6,E10=Wertetabelle!$C$5),Wertetabelle!$G$8,IF(AND(D10=6,E10=Wertetabelle!$C$6),Wertetabelle!$H$8,IF(AND(D10=6,E10=Wertetabelle!$C$7),Wertetabelle!$I$8,IF(AND(D10=6,E10=Wertetabelle!$C$8),Wertetabelle!$J$8,IF(AND(D10=7,E10=Wertetabelle!$C$2),Wertetabelle!$E$9,IF(AND(D10=7,E10=Wertetabelle!$C$3),Wertetabelle!$E$9,IF(AND(D10=7,E10=Wertetabelle!$C$4),Wertetabelle!$F$9,IF(AND(D10=7,E10=Wertetabelle!$C$5),Wertetabelle!$G$9,IF(AND(D10=7,E10=Wertetabelle!$C$6),Wertetabelle!$H$9,IF(AND(D10=7,E10=Wertetabelle!$C$7),Wertetabelle!$I$9,IF(AND(D10=7,E10=Wertetabelle!$C$8),Wertetabelle!$J$9,IF(AND(D10=8,E10=Wertetabelle!$C$2),Wertetabelle!$E$10,IF(AND(D10=8,E10=Wertetabelle!$C$3),Wertetabelle!$E$10,IF(AND(D10=8,E10=Wertetabelle!$C$4),Wertetabelle!$F$10,IF(AND(D10=8,E10=Wertetabelle!$C$5),Wertetabelle!$G$10,IF(AND(D10=8,E10=Wertetabelle!$C$6),Wertetabelle!$H$10,IF(AND(D10=8,E10=Wertetabelle!$C$7),Wertetabelle!$I$10,IF(AND(D10=8,E10=Wertetabelle!$C$8),Wertetabelle!$J$10,0)))))))))))))))))))))))))))))))))))))))))))))))))))))))) -> 0 | H10: =IF(AND($D10=1,G10=Wertetabelle!$C$2),Wertetabelle!$E$3,IF(AND($D10=1,G10=Wertetabelle!$C$3),Wertetabelle!$E$3,IF(AND($D10=1,G10=Wertetabelle!$C$4),Wertetabelle!$F$3,IF(AND($D10=1,G10=Wertetabelle!$C$5),Wertetabelle!$G$3,IF(AND($D10=1,G10=Wertetabelle!$C$6),Wertetabelle!$H$3,IF(AND($D10=1,G10=Wertetabelle!$C$7),Wertetabelle!$I$3,IF(AND($D10=1,G10=Wertetabelle!$C$8),Wertetabelle!L7,IF(AND($D10=2,G10=Wertetabelle!$C$2),Wertetabelle!$E$4,IF(AND($D10=2,G10=Wertetabelle!$C$3),Wertetabelle!$E$4,IF(AND($D10=2,G10=Wertetabelle!$C$4),Wertetabelle!$F$4,IF(AND($D10=2,G10=Wertetabelle!$C$5),Wertetabelle!$G$4,IF(AND($D10=2,G10=Wertetabelle!$C$6),Wertetabelle!$H$4,IF(AND($D10=2,G10=Wertetabelle!E11),Wertetabelle!$I$4,IF(AND($D10=2,G10=Wertetabelle!$C$8),Wertetabelle!$J$4,IF(AND($D10=3,G10=Wertetabelle!$C$2),Wertetabelle!$E$5,IF(AND($D10=3,G10=Wertetabelle!$C$3),Wertetabelle!$E$5,IF(AND($D10=3,G10=Wertetabelle!$C$4),Wertetabelle!$F$5,IF(AND($D10=3,G10=Wertetabelle!$C$5),Wertetabelle!$G$5,IF(AND($D10=3,G10=Wertetabelle!$C$6),Wertetabelle!$H$5,IF(AND($D10=3,G10=Wertetabelle!$C$7),Wertetabelle!$I$5,IF(AND($D10=3,G10=Wertetabelle!$C$8),Wertetabelle!$J$5,IF(AND($D10=4,G10=Wertetabelle!$C$2),Wertetabelle!$E$6,IF(AND($D10=4,G10=Wertetabelle!$C$3),Wertetabelle!$E$6,IF(AND($D10=4,G10=Wertetabelle!$C$4),Wertetabelle!$F$6,IF(AND($D10=4,G10=Wertetabelle!$C$5),Wertetabelle!$G$6,IF(AND($D10=4,G10=Wertetabelle!$C$6),Wertetabelle!$H$6,IF(AND($D10=4,G10=Wertetabelle!$C$7),Wertetabelle!$I$6,IF(AND($D10=4,G10=Wertetabelle!$C$8),Wertetabelle!$J$6,IF(AND($D10=5,G10=Wertetabelle!$C$2),Wertetabelle!$E$7,IF(AND($D10=5,G10=Wertetabelle!$C$3),Wertetabelle!$E$7,IF(AND($D10=5,G10=Wertetabelle!$C$4),Wertetabelle!$F$7,IF(AND($D10=5,G10=Wertetabelle!$C$5),Wertetabelle!$G$7,IF(AND($D10=5,G10=Wertetabelle!$C$6),Wertetabelle!$H$7,IF(AND($D10=5,G10=Wertetabelle!$C$7),Wertetabelle!$I$7,IF(AND($D10=5,G10=Wertetabelle!$C$8),Wertetabelle!$J$7,IF(AND($D10=6,G10=Wertetabelle!$C$2),Wertetabelle!$E$8,IF(AND($D10=6,G10=Wertetabelle!$C$3),Wertetabelle!$E$8,IF(AND($D10=6,G10=Wertetabelle!$C$4),Wertetabelle!$F$8,IF(AND($D10=6,G10=Wertetabelle!$C$5),Wertetabelle!$G$8,IF(AND($D10=6,G10=Wertetabelle!$C$6),Wertetabelle!$H$8,IF(AND($D10=6,G10=Wertetabelle!$C$7),Wertetabelle!$I$8,IF(AND($D10=6,G10=Wertetabelle!$C$8),Wertetabelle!$J$8,IF(AND($D10=7,G10=Wertetabelle!$C$2),Wertetabelle!$E$9,IF(AND($D10=7,G10=Wertetabelle!$C$3),Wertetabelle!$E$9,IF(AND($D10=7,G10=Wertetabelle!$C$4),Wertetabelle!$F$9,IF(AND($D10=7,G10=Wertetabelle!$C$5),Wertetabelle!$G$9,IF(AND($D10=7,G10=Wertetabelle!$C$6),Wertetabelle!$H$9,IF(AND($D10=7,G10=Wertetabelle!$C$7),Wertetabelle!$I$9,IF(AND($D10=7,G10=Wertetabelle!$C$8),Wertetabelle!$J$9,IF(AND($D10=8,G10=Wertetabelle!$C$2),Wertetabelle!$E$10,IF(AND($D10=8,G10=Wertetabelle!$C$3),Wertetabelle!$E$10,IF(AND($D10=8,G10=Wertetabelle!$C$4),Wertetabelle!$F$10,IF(AND($D10=8,G10=Wertetabelle!$C$5),Wertetabelle!$G$10,IF(AND($D10=8,G10=Wertetabelle!$C$6),Wertetabelle!$H$10,IF(AND($D10=8,G10=Wertetabelle!$C$7),Wertetabelle!$I$10,IF(AND($D10=8,G10=Wertetabelle!$C$8),Wertetabelle!$J$10,0)))))))))))))))))))))))))))))))))))))))))))))))))))))))) -> 0 | J10: =IF(AND($D10=1,I10=Wertetabelle!$C$2),Wertetabelle!$E$3,IF(AND($D10=1,I10=Wertetabelle!$C$3),Wertetabelle!$E$3,IF(AND($D10=1,I10=Wertetabelle!$C$4),Wertetabelle!$F$3,IF(AND($D10=1,I10=Wertetabelle!$C$5),Wertetabelle!$G$3,IF(AND($D10=1,I10=Wertetabelle!$C$6),Wertetabelle!$H$3,IF(AND($D10=1,I10=Wertetabelle!$C$7),Wertetabelle!$I$3,IF(AND($D10=1,I10=Wertetabelle!$C$8),Wertetabelle!N7,IF(AND($D10=2,I10=Wertetabelle!$C$2),Wertetabelle!$E$4,IF(AND($D10=2,I10=Wertetabelle!$C$3),Wertetabelle!$E$4,IF(AND($D10=2,I10=Wertetabelle!$C$4),Wertetabelle!$F$4,IF(AND($D10=2,I10=Wertetabelle!$C$5),Wertetabelle!$G$4,IF(AND($D10=2,I10=Wertetabelle!$C$6),Wertetabelle!$H$4,IF(AND($D10=2,I10=Wertetabelle!G11),Wertetabelle!$I$4,IF(AND($D10=2,I10=Wertetabelle!$C$8),Wertetabelle!$J$4,IF(AND($D10=3,I10=Wertetabelle!$C$2),Wertetabelle!$E$5,IF(AND($D10=3,I10=Wertetabelle!$C$3),Wertetabelle!$E$5,IF(AND($D10=3,I10=Wertetabelle!$C$4),Wertetabelle!$F$5,IF(AND($D10=3,I10=Wertetabelle!$C$5),Wertetabelle!$G$5,IF(AND($D10=3,I10=Wertetabelle!$C$6),Wertetabelle!$H$5,IF(AND($D10=3,I10=Wertetabelle!$C$7),Wertetabelle!$I$5,IF(AND($D10=3,I10=Wertetabelle!$C$8),Wertetabelle!$J$5,IF(AND($D10=4,I10=Wertetabelle!$C$2),Wertetabelle!$E$6,IF(AND($D10=4,I10=Wertetabelle!$C$3),Wertetabelle!$E$6,IF(AND($D10=4,I10=Wertetabelle!$C$4),Wertetabelle!$F$6,IF(AND($D10=4,I10=Wertetabelle!$C$5),Wertetabelle!$G$6,IF(AND($D10=4,I10=Wertetabelle!$C$6),Wertetabelle!$H$6,IF(AND($D10=4,I10=Wertetabelle!$C$7),Wertetabelle!$I$6,IF(AND($D10=4,I10=Wertetabelle!$C$8),Wertetabelle!$J$6,IF(AND($D10=5,I10=Wertetabelle!$C$2),Wertetabelle!$E$7,IF(AND($D10=5,I10=Wertetabelle!$C$3),Wertetabelle!$E$7,IF(AND($D10=5,I10=Wertetabelle!$C$4),Wertetabelle!$F$7,IF(AND($D10=5,I10=Wertetabelle!$C$5),Wertetabelle!$G$7,IF(AND($D10=5,I10=Wertetabelle!$C$6),Wertetabelle!$H$7,IF(AND($D10=5,I10=Wertetabelle!$C$7),Wertetabelle!$I$7,IF(AND($D10=5,I10=Wertetabelle!$C$8),Wertetabelle!$J$7,IF(AND($D10=6,I10=Wertetabelle!$C$2),Wertetabelle!$E$8,IF(AND($D10=6,I10=Wertetabelle!$C$3),Wertetabelle!$E$8,IF(AND($D10=6,I10=Wertetabelle!$C$4),Wertetabelle!$F$8,IF(AND($D10=6,I10=Wertetabelle!$C$5),Wertetabelle!$G$8,IF(AND($D10=6,I10=Wertetabelle!$C$6),Wertetabelle!$H$8,IF(AND($D10=6,I10=Wertetabelle!$C$7),Wertetabelle!$I$8,IF(AND($D10=6,I10=Wertetabelle!$C$8),Wertetabelle!$J$8,IF(AND($D10=7,I10=Wertetabelle!$C$2),Wertetabelle!$E$9,IF(AND($D10=7,I10=Wertetabelle!$C$3),Wertetabelle!$E$9,IF(AND($D10=7,I10=Wertetabelle!$C$4),Wertetabelle!$F$9,IF(AND($D10=7,I10=Wertetabelle!$C$5),Wertetabelle!$G$9,IF(AND($D10=7,I10=Wertetabelle!$C$6),Wertetabelle!$H$9,IF(AND($D10=7,I10=Wertetabelle!$C$7),Wertetabelle!$I$9,IF(AND($D10=7,I10=Wertetabelle!$C$8),Wertetabelle!$J$9,IF(AND($D10=8,I10=Wertetabelle!$C$2),Wertetabelle!$E$10,IF(AND($D10=8,I10=Wertetabelle!$C$3),Wertetabelle!$E$10,IF(AND($D10=8,I10=Wertetabelle!$C$4),Wertetabelle!$F$10,IF(AND($D10=8,I10=Wertetabelle!$C$5),Wertetabelle!$G$10,IF(AND($D10=8,I10=Wertetabelle!$C$6),Wertetabelle!$H$10,IF(AND($D10=8,I10=Wertetabelle!$C$7),Wertetabelle!$I$10,IF(AND($D10=8,I10=Wertetabelle!$C$8),Wertetabelle!$J$10,0)))))))))))))))))))))))))))))))))))))))))))))))))))))))) -> 0
F11: =IF(AND(D11=1,E11=Wertetabelle!$C$2),Wertetabelle!$E$3,IF(AND(D11=1,E11=Wertetabelle!$C$3),Wertetabelle!$E$3,IF(AND(D11=1,E11=Wertetabelle!$C$4),Wertetabelle!$F$3,IF(AND(D11=1,E11=Wertetabelle!$C$5),Wertetabelle!$G$3,IF(AND(D11=1,E11=Wertetabelle!$C$6),Wertetabelle!$H$3,IF(AND(D11=1,E11=Wertetabelle!$C$7),Wertetabelle!$I$3,IF(AND(D11=1,E11=Wertetabelle!$C$8),Wertetabelle!J8,IF(AND(D11=2,E11=Wertetabelle!$C$2),Wertetabelle!$E$4,IF(AND(D11=2,E11=Wertetabelle!$C$3),Wertetabelle!$E$4,IF(AND(D11=2,E11=Wertetabelle!$C$4),Wertetabelle!$F$4,IF(AND(D11=2,E11=Wertetabelle!$C$5),Wertetabelle!$G$4,IF(AND(D11=2,E11=Wertetabelle!$C$6),Wertetabelle!$H$4,IF(AND(D11=2,E11=Wertetabelle!C12),Wertetabelle!$I$4,IF(AND(D11=2,E11=Wertetabelle!$C$8),Wertetabelle!$J$4,IF(AND(D11=3,E11=Wertetabelle!$C$2),Wertetabelle!$E$5,IF(AND(D11=3,E11=Wertetabelle!$C$3),Wertetabelle!$E$5,IF(AND(D11=3,E11=Wertetabelle!$C$4),Wertetabelle!$F$5,IF(AND(D11=3,E11=Wertetabelle!$C$5),Wertetabelle!$G$5,IF(AND(D11=3,E11=Wertetabelle!$C$6),Wertetabelle!$H$5,IF(AND(D11=3,E11=Wertetabelle!$C$7),Wertetabelle!$I$5,IF(AND(D11=3,E11=Wertetabelle!$C$8),Wertetabelle!$J$5,IF(AND(D11=4,E11=Wertetabelle!$C$2),Wertetabelle!$E$6,IF(AND(D11=4,E11=Wertetabelle!$C$3),Wertetabelle!$E$6,IF(AND(D11=4,E11=Wertetabelle!$C$4),Wertetabelle!$F$6,IF(AND(D11=4,E11=Wertetabelle!$C$5),Wertetabelle!$G$6,IF(AND(D11=4,E11=Wertetabelle!$C$6),Wertetabelle!$H$6,IF(AND(D11=4,E11=Wertetabelle!$C$7),Wertetabelle!$I$6,IF(AND(D11=4,E11=Wertetabelle!$C$8),Wertetabelle!$J$6,IF(AND(D11=5,E11=Wertetabelle!$C$2),Wertetabelle!$E$7,IF(AND(D11=5,E11=Wertetabelle!$C$3),Wertetabelle!$E$7,IF(AND(D11=5,E11=Wertetabelle!$C$4),Wertetabelle!$F$7,IF(AND(D11=5,E11=Wertetabelle!$C$5),Wertetabelle!$G$7,IF(AND(D11=5,E11=Wertetabelle!$C$6),Wertetabelle!$H$7,IF(AND(D11=5,E11=Wertetabelle!$C$7),Wertetabelle!$I$7,IF(AND(D11=5,E11=Wertetabelle!$C$8),Wertetabelle!$J$7,IF(AND(D11=6,E11=Wertetabelle!$C$2),Wertetabelle!$E$8,IF(AND(D11=6,E11=Wertetabelle!$C$3),Wertetabelle!$E$8,IF(AND(D11=6,E11=Wertetabelle!$C$4),Wertetabelle!$F$8,IF(AND(D11=6,E11=Wertetabelle!$C$5),Wertetabelle!$G$8,IF(AND(D11=6,E11=Wertetabelle!$C$6),Wertetabelle!$H$8,IF(AND(D11=6,E11=Wertetabelle!$C$7),Wertetabelle!$I$8,IF(AND(D11=6,E11=Wertetabelle!$C$8),Wertetabelle!$J$8,IF(AND(D11=7,E11=Wertetabelle!$C$2),Wertetabelle!$E$9,IF(AND(D11=7,E11=Wertetabelle!$C$3),Wertetabelle!$E$9,IF(AND(D11=7,E11=Wertetabelle!$C$4),Wertetabelle!$F$9,IF(AND(D11=7,E11=Wertetabelle!$C$5),Wertetabelle!$G$9,IF(AND(D11=7,E11=Wertetabelle!$C$6),Wertetabelle!$H$9,IF(AND(D11=7,E11=Wertetabelle!$C$7),Wertetabelle!$I$9,IF(AND(D11=7,E11=Wertetabelle!$C$8),Wertetabelle!$J$9,IF(AND(D11=8,E11=Wertetabelle!$C$2),Wertetabelle!$E$10,IF(AND(D11=8,E11=Wertetabelle!$C$3),Wertetabelle!$E$10,IF(AND(D11=8,E11=Wertetabelle!$C$4),Wertetabelle!$F$10,IF(AND(D11=8,E11=Wertetabelle!$C$5),Wertetabelle!$G$10,IF(AND(D11=8,E11=Wertetabelle!$C$6),Wertetabelle!$H$10,IF(AND(D11=8,E11=Wertetabelle!$C$7),Wertetabelle!$I$10,IF(AND(D11=8,E11=Wertetabelle!$C$8),Wertetabelle!$J$10,0)))))))))))))))))))))))))))))))))))))))))))))))))))))))) -> 0 | H11: =IF(AND($D11=1,G11=Wertetabelle!$C$2),Wertetabelle!$E$3,IF(AND($D11=1,G11=Wertetabelle!$C$3),Wertetabelle!$E$3,IF(AND($D11=1,G11=Wertetabelle!$C$4),Wertetabelle!$F$3,IF(AND($D11=1,G11=Wertetabelle!$C$5),Wertetabelle!$G$3,IF(AND($D11=1,G11=Wertetabelle!$C$6),Wertetabelle!$H$3,IF(AND($D11=1,G11=Wertetabelle!$C$7),Wertetabelle!$I$3,IF(AND($D11=1,G11=Wertetabelle!$C$8),Wertetabelle!L8,IF(AND($D11=2,G11=Wertetabelle!$C$2),Wertetabelle!$E$4,IF(AND($D11=2,G11=Wertetabelle!$C$3),Wertetabelle!$E$4,IF(AND($D11=2,G11=Wertetabelle!$C$4),Wertetabelle!$F$4,IF(AND($D11=2,G11=Wertetabelle!$C$5),Wertetabelle!$G$4,IF(AND($D11=2,G11=Wertetabelle!$C$6),Wertetabelle!$H$4,IF(AND($D11=2,G11=Wertetabelle!E12),Wertetabelle!$I$4,IF(AND($D11=2,G11=Wertetabelle!$C$8),Wertetabelle!$J$4,IF(AND($D11=3,G11=Wertetabelle!$C$2),Wertetabelle!$E$5,IF(AND($D11=3,G11=Wertetabelle!$C$3),Wertetabelle!$E$5,IF(AND($D11=3,G11=Wertetabelle!$C$4),Wertetabelle!$F$5,IF(AND($D11=3,G11=Wertetabelle!$C$5),Wertetabelle!$G$5,IF(AND($D11=3,G11=Wertetabelle!$C$6),Wertetabelle!$H$5,IF(AND($D11=3,G11=Wertetabelle!$C$7),Wertetabelle!$I$5,IF(AND($D11=3,G11=Wertetabelle!$C$8),Wertetabelle!$J$5,IF(AND($D11=4,G11=Wertetabelle!$C$2),Wertetabelle!$E$6,IF(AND($D11=4,G11=Wertetabelle!$C$3),Wertetabelle!$E$6,IF(AND($D11=4,G11=Wertetabelle!$C$4),Wertetabelle!$F$6,IF(AND($D11=4,G11=Wertetabelle!$C$5),Wertetabelle!$G$6,IF(AND($D11=4,G11=Wertetabelle!$C$6),Wertetabelle!$H$6,IF(AND($D11=4,G11=Wertetabelle!$C$7),Wertetabelle!$I$6,IF(AND($D11=4,G11=Wertetabelle!$C$8),Wertetabelle!$J$6,IF(AND($D11=5,G11=Wertetabelle!$C$2),Wertetabelle!$E$7,IF(AND($D11=5,G11=Wertetabelle!$C$3),Wertetabelle!$E$7,IF(AND($D11=5,G11=Wertetabelle!$C$4),Wertetabelle!$F$7,IF(AND($D11=5,G11=Wertetabelle!$C$5),Wertetabelle!$G$7,IF(AND($D11=5,G11=Wertetabelle!$C$6),Wertetabelle!$H$7,IF(AND($D11=5,G11=Wertetabelle!$C$7),Wertetabelle!$I$7,IF(AND($D11=5,G11=Wertetabelle!$C$8),Wertetabelle!$J$7,IF(AND($D11=6,G11=Wertetabelle!$C$2),Wertetabelle!$E$8,IF(AND($D11=6,G11=Wertetabelle!$C$3),Wertetabelle!$E$8,IF(AND($D11=6,G11=Wertetabelle!$C$4),Wertetabelle!$F$8,IF(AND($D11=6,G11=Wertetabelle!$C$5),Wertetabelle!$G$8,IF(AND($D11=6,G11=Wertetabelle!$C$6),Wertetabelle!$H$8,IF(AND($D11=6,G11=Wertetabelle!$C$7),Wertetabelle!$I$8,IF(AND($D11=6,G11=Wertetabelle!$C$8),Wertetabelle!$J$8,IF(AND($D11=7,G11=Wertetabelle!$C$2),Wertetabelle!$E$9,IF(AND($D11=7,G11=Wertetabelle!$C$3),Wertetabelle!$E$9,IF(AND($D11=7,G11=Wertetabelle!$C$4),Wertetabelle!$F$9,IF(AND($D11=7,G11=Wertetabelle!$C$5),Wertetabelle!$G$9,IF(AND($D11=7,G11=Wertetabelle!$C$6),Wertetabelle!$H$9,IF(AND($D11=7,G11=Wertetabelle!$C$7),Wertetabelle!$I$9,IF(AND($D11=7,G11=Wertetabelle!$C$8),Wertetabelle!$J$9,IF(AND($D11=8,G11=Wertetabelle!$C$2),Wertetabelle!$E$10,IF(AND($D11=8,G11=Wertetabelle!$C$3),Wertetabelle!$E$10,IF(AND($D11=8,G11=Wertetabelle!$C$4),Wertetabelle!$F$10,IF(AND($D11=8,G11=Wertetabelle!$C$5),Wertetabelle!$G$10,IF(AND($D11=8,G11=Wertetabelle!$C$6),Wertetabelle!$H$10,IF(AND($D11=8,G11=Wertetabelle!$C$7),Wertetabelle!$I$10,IF(AND($D11=8,G11=Wertetabelle!$C$8),Wertetabelle!$J$10,0)))))))))))))))))))))))))))))))))))))))))))))))))))))))) -> 0 | J11: =IF(AND($D11=1,I11=Wertetabelle!$C$2),Wertetabelle!$E$3,IF(AND($D11=1,I11=Wertetabelle!$C$3),Wertetabelle!$E$3,IF(AND($D11=1,I11=Wertetabelle!$C$4),Wertetabelle!$F$3,IF(AND($D11=1,I11=Wertetabelle!$C$5),Wertetabelle!$G$3,IF(AND($D11=1,I11=Wertetabelle!$C$6),Wertetabelle!$H$3,IF(AND($D11=1,I11=Wertetabelle!$C$7),Wertetabelle!$I$3,IF(AND($D11=1,I11=Wertetabelle!$C$8),Wertetabelle!N8,IF(AND($D11=2,I11=Wertetabelle!$C$2),Wertetabelle!$E$4,IF(AND($D11=2,I11=Wertetabelle!$C$3),Wertetabelle!$E$4,IF(AND($D11=2,I11=Wertetabelle!$C$4),Wertetabelle!$F$4,IF(AND($D11=2,I11=Wertetabelle!$C$5),Wertetabelle!$G$4,IF(AND($D11=2,I11=Wertetabelle!$C$6),Wertetabelle!$H$4,IF(AND($D11=2,I11=Wertetabelle!G12),Wertetabelle!$I$4,IF(AND($D11=2,I11=Wertetabelle!$C$8),Wertetabelle!$J$4,IF(AND($D11=3,I11=Wertetabelle!$C$2),Wertetabelle!$E$5,IF(AND($D11=3,I11=Wertetabelle!$C$3),Wertetabelle!$E$5,IF(AND($D11=3,I11=Wertetabelle!$C$4),Wertetabelle!$F$5,IF(AND($D11=3,I11=Wertetabelle!$C$5),Wertetabelle!$G$5,IF(AND($D11=3,I11=Wertetabelle!$C$6),Wertetabelle!$H$5,IF(AND($D11=3,I11=Wertetabelle!$C$7),Wertetabelle!$I$5,IF(AND($D11=3,I11=Wertetabelle!$C$8),Wertetabelle!$J$5,IF(AND($D11=4,I11=Wertetabelle!$C$2),Wertetabelle!$E$6,IF(AND($D11=4,I11=Wertetabelle!$C$3),Wertetabelle!$E$6,IF(AND($D11=4,I11=Wertetabelle!$C$4),Wertetabelle!$F$6,IF(AND($D11=4,I11=Wertetabelle!$C$5),Wertetabelle!$G$6,IF(AND($D11=4,I11=Wertetabelle!$C$6),Wertetabelle!$H$6,IF(AND($D11=4,I11=Wertetabelle!$C$7),Wertetabelle!$I$6,IF(AND($D11=4,I11=Wertetabelle!$C$8),Wertetabelle!$J$6,IF(AND($D11=5,I11=Wertetabelle!$C$2),Wertetabelle!$E$7,IF(AND($D11=5,I11=Wertetabelle!$C$3),Wertetabelle!$E$7,IF(AND($D11=5,I11=Wertetabelle!$C$4),Wertetabelle!$F$7,IF(AND($D11=5,I11=Wertetabelle!$C$5),Wertetabelle!$G$7,IF(AND($D11=5,I11=Wertetabelle!$C$6),Wertetabelle!$H$7,IF(AND($D11=5,I11=Wertetabelle!$C$7),Wertetabelle!$I$7,IF(AND($D11=5,I11=Wertetabelle!$C$8),Wertetabelle!$J$7,IF(AND($D11=6,I11=Wertetabelle!$C$2),Wertetabelle!$E$8,IF(AND($D11=6,I11=Wertetabelle!$C$3),Wertetabelle!$E$8,IF(AND($D11=6,I11=Wertetabelle!$C$4),Wertetabelle!$F$8,IF(AND($D11=6,I11=Wertetabelle!$C$5),Wertetabelle!$G$8,IF(AND($D11=6,I11=Wertetabelle!$C$6),Wertetabelle!$H$8,IF(AND($D11=6,I11=Wertetabelle!$C$7),Wertetabelle!$I$8,IF(AND($D11=6,I11=Wertetabelle!$C$8),Wertetabelle!$J$8,IF(AND($D11=7,I11=Wertetabelle!$C$2),Wertetabelle!$E$9,IF(AND($D11=7,I11=Wertetabelle!$C$3),Wertetabelle!$E$9,IF(AND($D11=7,I11=Wertetabelle!$C$4),Wertetabelle!$F$9,IF(AND($D11=7,I11=Wertetabelle!$C$5),Wertetabelle!$G$9,IF(AND($D11=7,I11=Wertetabelle!$C$6),Wertetabelle!$H$9,IF(AND($D11=7,I11=Wertetabelle!$C$7),Wertetabelle!$I$9,IF(AND($D11=7,I11=Wertetabelle!$C$8),Wertetabelle!$J$9,IF(AND($D11=8,I11=Wertetabelle!$C$2),Wertetabelle!$E$10,IF(AND($D11=8,I11=Wertetabelle!$C$3),Wertetabelle!$E$10,IF(AND($D11=8,I11=Wertetabelle!$C$4),Wertetabelle!$F$10,IF(AND($D11=8,I11=Wertetabelle!$C$5),Wertetabelle!$G$10,IF(AND($D11=8,I11=Wertetabelle!$C$6),Wertetabelle!$H$10,IF(AND($D11=8,I11=Wertetabelle!$C$7),Wertetabelle!$I$10,IF(AND($D11=8,I11=Wertetabelle!$C$8),Wertetabelle!$J$10,0)))))))))))))))))))))))))))))))))))))))))))))))))))))))) -> 0
F12: =IF(AND(D12=1,E12=Wertetabelle!$C$2),Wertetabelle!$E$3,IF(AND(D12=1,E12=Wertetabelle!$C$3),Wertetabelle!$E$3,IF(AND(D12=1,E12=Wertetabelle!$C$4),Wertetabelle!$F$3,IF(AND(D12=1,E12=Wertetabelle!$C$5),Wertetabelle!$G$3,IF(AND(D12=1,E12=Wertetabelle!$C$6),Wertetabelle!$H$3,IF(AND(D12=1,E12=Wertetabelle!$C$7),Wertetabelle!$I$3,IF(AND(D12=1,E12=Wertetabelle!$C$8),Wertetabelle!J9,IF(AND(D12=2,E12=Wertetabelle!$C$2),Wertetabelle!$E$4,IF(AND(D12=2,E12=Wertetabelle!$C$3),Wertetabelle!$E$4,IF(AND(D12=2,E12=Wertetabelle!$C$4),Wertetabelle!$F$4,IF(AND(D12=2,E12=Wertetabelle!$C$5),Wertetabelle!$G$4,IF(AND(D12=2,E12=Wertetabelle!$C$6),Wertetabelle!$H$4,IF(AND(D12=2,E12=Wertetabelle!C13),Wertetabelle!$I$4,IF(AND(D12=2,E12=Wertetabelle!$C$8),Wertetabelle!$J$4,IF(AND(D12=3,E12=Wertetabelle!$C$2),Wertetabelle!$E$5,IF(AND(D12=3,E12=Wertetabelle!$C$3),Wertetabelle!$E$5,IF(AND(D12=3,E12=Wertetabelle!$C$4),Wertetabelle!$F$5,IF(AND(D12=3,E12=Wertetabelle!$C$5),Wertetabelle!$G$5,IF(AND(D12=3,E12=Wertetabelle!$C$6),Wertetabelle!$H$5,IF(AND(D12=3,E12=Wertetabelle!$C$7),Wertetabelle!$I$5,IF(AND(D12=3,E12=Wertetabelle!$C$8),Wertetabelle!$J$5,IF(AND(D12=4,E12=Wertetabelle!$C$2),Wertetabelle!$E$6,IF(AND(D12=4,E12=Wertetabelle!$C$3),Wertetabelle!$E$6,IF(AND(D12=4,E12=Wertetabelle!$C$4),Wertetabelle!$F$6,IF(AND(D12=4,E12=Wertetabelle!$C$5),Wertetabelle!$G$6,IF(AND(D12=4,E12=Wertetabelle!$C$6),Wertetabelle!$H$6,IF(AND(D12=4,E12=Wertetabelle!$C$7),Wertetabelle!$I$6,IF(AND(D12=4,E12=Wertetabelle!$C$8),Wertetabelle!$J$6,IF(AND(D12=5,E12=Wertetabelle!$C$2),Wertetabelle!$E$7,IF(AND(D12=5,E12=Wertetabelle!$C$3),Wertetabelle!$E$7,IF(AND(D12=5,E12=Wertetabelle!$C$4),Wertetabelle!$F$7,IF(AND(D12=5,E12=Wertetabelle!$C$5),Wertetabelle!$G$7,IF(AND(D12=5,E12=Wertetabelle!$C$6),Wertetabelle!$H$7,IF(AND(D12=5,E12=Wertetabelle!$C$7),Wertetabelle!$I$7,IF(AND(D12=5,E12=Wertetabelle!$C$8),Wertetabelle!$J$7,IF(AND(D12=6,E12=Wertetabelle!$C$2),Wertetabelle!$E$8,IF(AND(D12=6,E12=Wertetabelle!$C$3),Wertetabelle!$E$8,IF(AND(D12=6,E12=Wertetabelle!$C$4),Wertetabelle!$F$8,IF(AND(D12=6,E12=Wertetabelle!$C$5),Wertetabelle!$G$8,IF(AND(D12=6,E12=Wertetabelle!$C$6),Wertetabelle!$H$8,IF(AND(D12=6,E12=Wertetabelle!$C$7),Wertetabelle!$I$8,IF(AND(D12=6,E12=Wertetabelle!$C$8),Wertetabelle!$J$8,IF(AND(D12=7,E12=Wertetabelle!$C$2),Wertetabelle!$E$9,IF(AND(D12=7,E12=Wertetabelle!$C$3),Wertetabelle!$E$9,IF(AND(D12=7,E12=Wertetabelle!$C$4),Wertetabelle!$F$9,IF(AND(D12=7,E12=Wertetabelle!$C$5),Wertetabelle!$G$9,IF(AND(D12=7,E12=Wertetabelle!$C$6),Wertetabelle!$H$9,IF(AND(D12=7,E12=Wertetabelle!$C$7),Wertetabelle!$I$9,IF(AND(D12=7,E12=Wertetabelle!$C$8),Wertetabelle!$J$9,IF(AND(D12=8,E12=Wertetabelle!$C$2),Wertetabelle!$E$10,IF(AND(D12=8,E12=Wertetabelle!$C$3),Wertetabelle!$E$10,IF(AND(D12=8,E12=Wertetabelle!$C$4),Wertetabelle!$F$10,IF(AND(D12=8,E12=Wertetabelle!$C$5),Wertetabelle!$G$10,IF(AND(D12=8,E12=Wertetabelle!$C$6),Wertetabelle!$H$10,IF(AND(D12=8,E12=Wertetabelle!$C$7),Wertetabelle!$I$10,IF(AND(D12=8,E12=Wertetabelle!$C$8),Wertetabelle!$J$10,0)))))))))))))))))))))))))))))))))))))))))))))))))))))))) -> 0 | H12: =IF(AND($D12=1,G12=Wertetabelle!$C$2),Wertetabelle!$E$3,IF(AND($D12=1,G12=Wertetabelle!$C$3),Wertetabelle!$E$3,IF(AND($D12=1,G12=Wertetabelle!$C$4),Wertetabelle!$F$3,IF(AND($D12=1,G12=Wertetabelle!$C$5),Wertetabelle!$G$3,IF(AND($D12=1,G12=Wertetabelle!$C$6),Wertetabelle!$H$3,IF(AND($D12=1,G12=Wertetabelle!$C$7),Wertetabelle!$I$3,IF(AND($D12=1,G12=Wertetabelle!$C$8),Wertetabelle!L9,IF(AND($D12=2,G12=Wertetabelle!$C$2),Wertetabelle!$E$4,IF(AND($D12=2,G12=Wertetabelle!$C$3),Wertetabelle!$E$4,IF(AND($D12=2,G12=Wertetabelle!$C$4),Wertetabelle!$F$4,IF(AND($D12=2,G12=Wertetabelle!$C$5),Wertetabelle!$G$4,IF(AND($D12=2,G12=Wertetabelle!$C$6),Wertetabelle!$H$4,IF(AND($D12=2,G12=Wertetabelle!E13),Wertetabelle!$I$4,IF(AND($D12=2,G12=Wertetabelle!$C$8),Wertetabelle!$J$4,IF(AND($D12=3,G12=Wertetabelle!$C$2),Wertetabelle!$E$5,IF(AND($D12=3,G12=Wertetabelle!$C$3),Wertetabelle!$E$5,IF(AND($D12=3,G12=Wertetabelle!$C$4),Wertetabelle!$F$5,IF(AND($D12=3,G12=Wertetabelle!$C$5),Wertetabelle!$G$5,IF(AND($D12=3,G12=Wertetabelle!$C$6),Wertetabelle!$H$5,IF(AND($D12=3,G12=Wertetabelle!$C$7),Wertetabelle!$I$5,IF(AND($D12=3,G12=Wertetabelle!$C$8),Wertetabelle!$J$5,IF(AND($D12=4,G12=Wertetabelle!$C$2),Wertetabelle!$E$6,IF(AND($D12=4,G12=Wertetabelle!$C$3),Wertetabelle!$E$6,IF(AND($D12=4,G12=Wertetabelle!$C$4),Wertetabelle!$F$6,IF(AND($D12=4,G12=Wertetabelle!$C$5),Wertetabelle!$G$6,IF(AND($D12=4,G12=Wertetabelle!$C$6),Wertetabelle!$H$6,IF(AND($D12=4,G12=Wertetabelle!$C$7),Wertetabelle!$I$6,IF(AND($D12=4,G12=Wertetabelle!$C$8),Wertetabelle!$J$6,IF(AND($D12=5,G12=Wertetabelle!$C$2),Wertetabelle!$E$7,IF(AND($D12=5,G12=Wertetabelle!$C$3),Wertetabelle!$E$7,IF(AND($D12=5,G12=Wertetabelle!$C$4),Wertetabelle!$F$7,IF(AND($D12=5,G12=Wertetabelle!$C$5),Wertetabelle!$G$7,IF(AND($D12=5,G12=Wertetabelle!$C$6),Wertetabelle!$H$7,IF(AND($D12=5,G12=Wertetabelle!$C$7),Wertetabelle!$I$7,IF(AND($D12=5,G12=Wertetabelle!$C$8),Wertetabelle!$J$7,IF(AND($D12=6,G12=Wertetabelle!$C$2),Wertetabelle!$E$8,IF(AND($D12=6,G12=Wertetabelle!$C$3),Wertetabelle!$E$8,IF(AND($D12=6,G12=Wertetabelle!$C$4),Wertetabelle!$F$8,IF(AND($D12=6,G12=Wertetabelle!$C$5),Wertetabelle!$G$8,IF(AND($D12=6,G12=Wertetabelle!$C$6),Wertetabelle!$H$8,IF(AND($D12=6,G12=Wertetabelle!$C$7),Wertetabelle!$I$8,IF(AND($D12=6,G12=Wertetabelle!$C$8),Wertetabelle!$J$8,IF(AND($D12=7,G12=Wertetabelle!$C$2),Wertetabelle!$E$9,IF(AND($D12=7,G12=Wertetabelle!$C$3),Wertetabelle!$E$9,IF(AND($D12=7,G12=Wertetabelle!$C$4),Wertetabelle!$F$9,IF(AND($D12=7,G12=Wertetabelle!$C$5),Wertetabelle!$G$9,IF(AND($D12=7,G12=Wertetabelle!$C$6),Wertetabelle!$H$9,IF(AND($D12=7,G12=Wertetabelle!$C$7),Wertetabelle!$I$9,IF(AND($D12=7,G12=Wertetabelle!$C$8),Wertetabelle!$J$9,IF(AND($D12=8,G12=Wertetabelle!$C$2),Wertetabelle!$E$10,IF(AND($D12=8,G12=Wertetabelle!$C$3),Wertetabelle!$E$10,IF(AND($D12=8,G12=Wertetabelle!$C$4),Wertetabelle!$F$10,IF(AND($D12=8,G12=Wertetabelle!$C$5),Wertetabelle!$G$10,IF(AND($D12=8,G12=Wertetabelle!$C$6),Wertetabelle!$H$10,IF(AND($D12=8,G12=Wertetabelle!$C$7),Wertetabelle!$I$10,IF(AND($D12=8,G12=Wertetabelle!$C$8),Wertetabelle!$J$10,0)))))))))))))))))))))))))))))))))))))))))))))))))))))))) -> 0 | J12: =IF(AND($D12=1,I12=Wertetabelle!$C$2),Wertetabelle!$E$3,IF(AND($D12=1,I12=Wertetabelle!$C$3),Wertetabelle!$E$3,IF(AND($D12=1,I12=Wertetabelle!$C$4),Wertetabelle!$F$3,IF(AND($D12=1,I12=Wertetabelle!$C$5),Wertetabelle!$G$3,IF(AND($D12=1,I12=Wertetabelle!$C$6),Wertetabelle!$H$3,IF(AND($D12=1,I12=Wertetabelle!$C$7),Wertetabelle!$I$3,IF(AND($D12=1,I12=Wertetabelle!$C$8),Wertetabelle!N9,IF(AND($D12=2,I12=Wertetabelle!$C$2),Wertetabelle!$E$4,IF(AND($D12=2,I12=Wertetabelle!$C$3),Wertetabelle!$E$4,IF(AND($D12=2,I12=Wertetabelle!$C$4),Wertetabelle!$F$4,IF(AND($D12=2,I12=Wertetabelle!$C$5),Wertetabelle!$G$4,IF(AND($D12=2,I12=Wertetabelle!$C$6),Wertetabelle!$H$4,IF(AND($D12=2,I12=Wertetabelle!G13),Wertetabelle!$I$4,IF(AND($D12=2,I12=Wertetabelle!$C$8),Wertetabelle!$J$4,IF(AND($D12=3,I12=Wertetabelle!$C$2),Wertetabelle!$E$5,IF(AND($D12=3,I12=Wertetabelle!$C$3),Wertetabelle!$E$5,IF(AND($D12=3,I12=Wertetabelle!$C$4),Wertetabelle!$F$5,IF(AND($D12=3,I12=Wertetabelle!$C$5),Wertetabelle!$G$5,IF(AND($D12=3,I12=Wertetabelle!$C$6),Wertetabelle!$H$5,IF(AND($D12=3,I12=Wertetabelle!$C$7),Wertetabelle!$I$5,IF(AND($D12=3,I12=Wertetabelle!$C$8),Wertetabelle!$J$5,IF(AND($D12=4,I12=Wertetabelle!$C$2),Wertetabelle!$E$6,IF(AND($D12=4,I12=Wertetabelle!$C$3),Wertetabelle!$E$6,IF(AND($D12=4,I12=Wertetabelle!$C$4),Wertetabelle!$F$6,IF(AND($D12=4,I12=Wertetabelle!$C$5),Wertetabelle!$G$6,IF(AND($D12=4,I12=Wertetabelle!$C$6),Wertetabelle!$H$6,IF(AND($D12=4,I12=Wertetabelle!$C$7),Wertetabelle!$I$6,IF(AND($D12=4,I12=Wertetabelle!$C$8),Wertetabelle!$J$6,IF(AND($D12=5,I12=Wertetabelle!$C$2),Wertetabelle!$E$7,IF(AND($D12=5,I12=Wertetabelle!$C$3),Wertetabelle!$E$7,IF(AND($D12=5,I12=Wertetabelle!$C$4),Wertetabelle!$F$7,IF(AND($D12=5,I12=Wertetabelle!$C$5),Wertetabelle!$G$7,IF(AND($D12=5,I12=Wertetabelle!$C$6),Wertetabelle!$H$7,IF(AND($D12=5,I12=Wertetabelle!$C$7),Wertetabelle!$I$7,IF(AND($D12=5,I12=Wertetabelle!$C$8),Wertetabelle!$J$7,IF(AND($D12=6,I12=Wertetabelle!$C$2),Wertetabelle!$E$8,IF(AND($D12=6,I12=Wertetabelle!$C$3),Wertetabelle!$E$8,IF(AND($D12=6,I12=Wertetabelle!$C$4),Wertetabelle!$F$8,IF(AND($D12=6,I12=Wertetabelle!$C$5),Wertetabelle!$G$8,IF(AND($D12=6,I12=Wertetabelle!$C$6),Wertetabelle!$H$8,IF(AND($D12=6,I12=Wertetabelle!$C$7),Wertetabelle!$I$8,IF(AND($D12=6,I12=Wertetabelle!$C$8),Wertetabelle!$J$8,IF(AND($D12=7,I12=Wertetabelle!$C$2),Wertetabelle!$E$9,IF(AND($D12=7,I12=Wertetabelle!$C$3),Wertetabelle!$E$9,IF(AND($D12=7,I12=Wertetabelle!$C$4),Wertetabelle!$F$9,IF(AND($D12=7,I12=Wertetabelle!$C$5),Wertetabelle!$G$9,IF(AND($D12=7,I12=Wertetabelle!$C$6),Wertetabelle!$H$9,IF(AND($D12=7,I12=Wertetabelle!$C$7),Wertetabelle!$I$9,IF(AND($D12=7,I12=Wertetabelle!$C$8),Wertetabelle!$J$9,IF(AND($D12=8,I12=Wertetabelle!$C$2),Wertetabelle!$E$10,IF(AND($D12=8,I12=Wertetabelle!$C$3),Wertetabelle!$E$10,IF(AND($D12=8,I12=Wertetabelle!$C$4),Wertetabelle!$F$10,IF(AND($D12=8,I12=Wertetabelle!$C$5),Wertetabelle!$G$10,IF(AND($D12=8,I12=Wertetabelle!$C$6),Wertetabelle!$H$10,IF(AND($D12=8,I12=Wertetabelle!$C$7),Wertetabelle!$I$10,IF(AND($D12=8,I12=Wertetabelle!$C$8),Wertetabelle!$J$10,0)))))))))))))))))))))))))))))))))))))))))))))))))))))))) -> 0
F13: =IF(AND(D13=1,E13=Wertetabelle!$C$2),Wertetabelle!$E$3,IF(AND(D13=1,E13=Wertetabelle!$C$3),Wertetabelle!$E$3,IF(AND(D13=1,E13=Wertetabelle!$C$4),Wertetabelle!$F$3,IF(AND(D13=1,E13=Wertetabelle!$C$5),Wertetabelle!$G$3,IF(AND(D13=1,E13=Wertetabelle!$C$6),Wertetabelle!$H$3,IF(AND(D13=1,E13=Wertetabelle!$C$7),Wertetabelle!$I$3,IF(AND(D13=1,E13=Wertetabelle!$C$8),Wertetabelle!J10,IF(AND(D13=2,E13=Wertetabelle!$C$2),Wertetabelle!$E$4,IF(AND(D13=2,E13=Wertetabelle!$C$3),Wertetabelle!$E$4,IF(AND(D13=2,E13=Wertetabelle!$C$4),Wertetabelle!$F$4,IF(AND(D13=2,E13=Wertetabelle!$C$5),Wertetabelle!$G$4,IF(AND(D13=2,E13=Wertetabelle!$C$6),Wertetabelle!$H$4,IF(AND(D13=2,E13=Wertetabelle!C14),Wertetabelle!$I$4,IF(AND(D13=2,E13=Wertetabelle!$C$8),Wertetabelle!$J$4,IF(AND(D13=3,E13=Wertetabelle!$C$2),Wertetabelle!$E$5,IF(AND(D13=3,E13=Wertetabelle!$C$3),Wertetabelle!$E$5,IF(AND(D13=3,E13=Wertetabelle!$C$4),Wertetabelle!$F$5,IF(AND(D13=3,E13=Wertetabelle!$C$5),Wertetabelle!$G$5,IF(AND(D13=3,E13=Wertetabelle!$C$6),Wertetabelle!$H$5,IF(AND(D13=3,E13=Wertetabelle!$C$7),Wertetabelle!$I$5,IF(AND(D13=3,E13=Wertetabelle!$C$8),Wertetabelle!$J$5,IF(AND(D13=4,E13=Wertetabelle!$C$2),Wertetabelle!$E$6,IF(AND(D13=4,E13=Wertetabelle!$C$3),Wertetabelle!$E$6,IF(AND(D13=4,E13=Wertetabelle!$C$4),Wertetabelle!$F$6,IF(AND(D13=4,E13=Wertetabelle!$C$5),Wertetabelle!$G$6,IF(AND(D13=4,E13=Wertetabelle!$C$6),Wertetabelle!$H$6,IF(AND(D13=4,E13=Wertetabelle!$C$7),Wertetabelle!$I$6,IF(AND(D13=4,E13=Wertetabelle!$C$8),Wertetabelle!$J$6,IF(AND(D13=5,E13=Wertetabelle!$C$2),Wertetabelle!$E$7,IF(AND(D13=5,E13=Wertetabelle!$C$3),Wertetabelle!$E$7,IF(AND(D13=5,E13=Wertetabelle!$C$4),Wertetabelle!$F$7,IF(AND(D13=5,E13=Wertetabelle!$C$5),Wertetabelle!$G$7,IF(AND(D13=5,E13=Wertetabelle!$C$6),Wertetabelle!$H$7,IF(AND(D13=5,E13=Wertetabelle!$C$7),Wertetabelle!$I$7,IF(AND(D13=5,E13=Wertetabelle!$C$8),Wertetabelle!$J$7,IF(AND(D13=6,E13=Wertetabelle!$C$2),Wertetabelle!$E$8,IF(AND(D13=6,E13=Wertetabelle!$C$3),Wertetabelle!$E$8,IF(AND(D13=6,E13=Wertetabelle!$C$4),Wertetabelle!$F$8,IF(AND(D13=6,E13=Wertetabelle!$C$5),Wertetabelle!$G$8,IF(AND(D13=6,E13=Wertetabelle!$C$6),Wertetabelle!$H$8,IF(AND(D13=6,E13=Wertetabelle!$C$7),Wertetabelle!$I$8,IF(AND(D13=6,E13=Wertetabelle!$C$8),Wertetabelle!$J$8,IF(AND(D13=7,E13=Wertetabelle!$C$2),Wertetabelle!$E$9,IF(AND(D13=7,E13=Wertetabelle!$C$3),Wertetabelle!$E$9,IF(AND(D13=7,E13=Wertetabelle!$C$4),Wertetabelle!$F$9,IF(AND(D13=7,E13=Wertetabelle!$C$5),Wertetabelle!$G$9,IF(AND(D13=7,E13=Wertetabelle!$C$6),Wertetabelle!$H$9,IF(AND(D13=7,E13=Wertetabelle!$C$7),Wertetabelle!$I$9,IF(AND(D13=7,E13=Wertetabelle!$C$8),Wertetabelle!$J$9,IF(AND(D13=8,E13=Wertetabelle!$C$2),Wertetabelle!$E$10,IF(AND(D13=8,E13=Wertetabelle!$C$3),Wertetabelle!$E$10,IF(AND(D13=8,E13=Wertetabelle!$C$4),Wertetabelle!$F$10,IF(AND(D13=8,E13=Wertetabelle!$C$5),Wertetabelle!$G$10,IF(AND(D13=8,E13=Wertetabelle!$C$6),Wertetabelle!$H$10,IF(AND(D13=8,E13=Wertetabelle!$C$7),Wertetabelle!$I$10,IF(AND(D13=8,E13=Wertetabelle!$C$8),Wertetabelle!$J$10,0)))))))))))))))))))))))))))))))))))))))))))))))))))))))) -> 0 | H13: =IF(AND($D13=1,G13=Wertetabelle!$C$2),Wertetabelle!$E$3,IF(AND($D13=1,G13=Wertetabelle!$C$3),Wertetabelle!$E$3,IF(AND($D13=1,G13=Wertetabelle!$C$4),Wertetabelle!$F$3,IF(AND($D13=1,G13=Wertetabelle!$C$5),Wertetabelle!$G$3,IF(AND($D13=1,G13=Wertetabelle!$C$6),Wertetabelle!$H$3,IF(AND($D13=1,G13=Wertetabelle!$C$7),Wertetabelle!$I$3,IF(AND($D13=1,G13=Wertetabelle!$C$8),Wertetabelle!L10,IF(AND($D13=2,G13=Wertetabelle!$C$2),Wertetabelle!$E$4,IF(AND($D13=2,G13=Wertetabelle!$C$3),Wertetabelle!$E$4,IF(AND($D13=2,G13=Wertetabelle!$C$4),Wertetabelle!$F$4,IF(AND($D13=2,G13=Wertetabelle!$C$5),Wertetabelle!$G$4,IF(AND($D13=2,G13=Wertetabelle!$C$6),Wertetabelle!$H$4,IF(AND($D13=2,G13=Wertetabelle!E14),Wertetabelle!$I$4,IF(AND($D13=2,G13=Wertetabelle!$C$8),Wertetabelle!$J$4,IF(AND($D13=3,G13=Wertetabelle!$C$2),Wertetabelle!$E$5,IF(AND($D13=3,G13=Wertetabelle!$C$3),Wertetabelle!$E$5,IF(AND($D13=3,G13=Wertetabelle!$C$4),Wertetabelle!$F$5,IF(AND($D13=3,G13=Wertetabelle!$C$5),Wertetabelle!$G$5,IF(AND($D13=3,G13=Wertetabelle!$C$6),Wertetabelle!$H$5,IF(AND($D13=3,G13=Wertetabelle!$C$7),Wertetabelle!$I$5,IF(AND($D13=3,G13=Wertetabelle!$C$8),Wertetabelle!$J$5,IF(AND($D13=4,G13=Wertetabelle!$C$2),Wertetabelle!$E$6,IF(AND($D13=4,G13=Wertetabelle!$C$3),Wertetabelle!$E$6,IF(AND($D13=4,G13=Wertetabelle!$C$4),Wertetabelle!$F$6,IF(AND($D13=4,G13=Wertetabelle!$C$5),Wertetabelle!$G$6,IF(AND($D13=4,G13=Wertetabelle!$C$6),Wertetabelle!$H$6,IF(AND($D13=4,G13=Wertetabelle!$C$7),Wertetabelle!$I$6,IF(AND($D13=4,G13=Wertetabelle!$C$8),Wertetabelle!$J$6,IF(AND($D13=5,G13=Wertetabelle!$C$2),Wertetabelle!$E$7,IF(AND($D13=5,G13=Wertetabelle!$C$3),Wertetabelle!$E$7,IF(AND($D13=5,G13=Wertetabelle!$C$4),Wertetabelle!$F$7,IF(AND($D13=5,G13=Wertetabelle!$C$5),Wertetabelle!$G$7,IF(AND($D13=5,G13=Wertetabelle!$C$6),Wertetabelle!$H$7,IF(AND($D13=5,G13=Wertetabelle!$C$7),Wertetabelle!$I$7,IF(AND($D13=5,G13=Wertetabelle!$C$8),Wertetabelle!$J$7,IF(AND($D13=6,G13=Wertetabelle!$C$2),Wertetabelle!$E$8,IF(AND($D13=6,G13=Wertetabelle!$C$3),Wertetabelle!$E$8,IF(AND($D13=6,G13=Wertetabelle!$C$4),Wertetabelle!$F$8,IF(AND($D13=6,G13=Wertetabelle!$C$5),Wertetabelle!$G$8,IF(AND($D13=6,G13=Wertetabelle!$C$6),Wertetabelle!$H$8,IF(AND($D13=6,G13=Wertetabelle!$C$7),Wertetabelle!$I$8,IF(AND($D13=6,G13=Wertetabelle!$C$8),Wertetabelle!$J$8,IF(AND($D13=7,G13=Wertetabelle!$C$2),Wertetabelle!$E$9,IF(AND($D13=7,G13=Wertetabelle!$C$3),Wertetabelle!$E$9,IF(AND($D13=7,G13=Wertetabelle!$C$4),Wertetabelle!$F$9,IF(AND($D13=7,G13=Wertetabelle!$C$5),Wertetabelle!$G$9,IF(AND($D13=7,G13=Wertetabelle!$C$6),Wertetabelle!$H$9,IF(AND($D13=7,G13=Wertetabelle!$C$7),Wertetabelle!$I$9,IF(AND($D13=7,G13=Wertetabelle!$C$8),Wertetabelle!$J$9,IF(AND($D13=8,G13=Wertetabelle!$C$2),Wertetabelle!$E$10,IF(AND($D13=8,G13=Wertetabelle!$C$3),Wertetabelle!$E$10,IF(AND($D13=8,G13=Wertetabelle!$C$4),Wertetabelle!$F$10,IF(AND($D13=8,G13=Wertetabelle!$C$5),Wertetabelle!$G$10,IF(AND($D13=8,G13=Wertetabelle!$C$6),Wertetabelle!$H$10,IF(AND($D13=8,G13=Wertetabelle!$C$7),Wertetabelle!$I$10,IF(AND($D13=8,G13=Wertetabelle!$C$8),Wertetabelle!$J$10,0)))))))))))))))))))))))))))))))))))))))))))))))))))))))) -> 0 | J13: =IF(AND($D13=1,I13=Wertetabelle!$C$2),Wertetabelle!$E$3,IF(AND($D13=1,I13=Wertetabelle!$C$3),Wertetabelle!$E$3,IF(AND($D13=1,I13=Wertetabelle!$C$4),Wertetabelle!$F$3,IF(AND($D13=1,I13=Wertetabelle!$C$5),Wertetabelle!$G$3,IF(AND($D13=1,I13=Wertetabelle!$C$6),Wertetabelle!$H$3,IF(AND($D13=1,I13=Wertetabelle!$C$7),Wertetabelle!$I$3,IF(AND($D13=1,I13=Wertetabelle!$C$8),Wertetabelle!N10,IF(AND($D13=2,I13=Wertetabelle!$C$2),Wertetabelle!$E$4,IF(AND($D13=2,I13=Wertetabelle!$C$3),Wertetabelle!$E$4,IF(AND($D13=2,I13=Wertetabelle!$C$4),Wertetabelle!$F$4,IF(AND($D13=2,I13=Wertetabelle!$C$5),Wertetabelle!$G$4,IF(AND($D13=2,I13=Wertetabelle!$C$6),Wertetabelle!$H$4,IF(AND($D13=2,I13=Wertetabelle!G14),Wertetabelle!$I$4,IF(AND($D13=2,I13=Wertetabelle!$C$8),Wertetabelle!$J$4,IF(AND($D13=3,I13=Wertetabelle!$C$2),Wertetabelle!$E$5,IF(AND($D13=3,I13=Wertetabelle!$C$3),Wertetabelle!$E$5,IF(AND($D13=3,I13=Wertetabelle!$C$4),Wertetabelle!$F$5,IF(AND($D13=3,I13=Wertetabelle!$C$5),Wertetabelle!$G$5,IF(AND($D13=3,I13=Wertetabelle!$C$6),Wertetabelle!$H$5,IF(AND($D13=3,I13=Wertetabelle!$C$7),Wertetabelle!$I$5,IF(AND($D13=3,I13=Wertetabelle!$C$8),Wertetabelle!$J$5,IF(AND($D13=4,I13=Wertetabelle!$C$2),Wertetabelle!$E$6,IF(AND($D13=4,I13=Wertetabelle!$C$3),Wertetabelle!$E$6,IF(AND($D13=4,I13=Wertetabelle!$C$4),Wertetabelle!$F$6,IF(AND($D13=4,I13=Wertetabelle!$C$5),Wertetabelle!$G$6,IF(AND($D13=4,I13=Wertetabelle!$C$6),Wertetabelle!$H$6,IF(AND($D13=4,I13=Wertetabelle!$C$7),Wertetabelle!$I$6,IF(AND($D13=4,I13=Wertetabelle!$C$8),Wertetabelle!$J$6,IF(AND($D13=5,I13=Wertetabelle!$C$2),Wertetabelle!$E$7,IF(AND($D13=5,I13=Wertetabelle!$C$3),Wertetabelle!$E$7,IF(AND($D13=5,I13=Wertetabelle!$C$4),Wertetabelle!$F$7,IF(AND($D13=5,I13=Wertetabelle!$C$5),Wertetabelle!$G$7,IF(AND($D13=5,I13=Wertetabelle!$C$6),Wertetabelle!$H$7,IF(AND($D13=5,I13=Wertetabelle!$C$7),Wertetabelle!$I$7,IF(AND($D13=5,I13=Wertetabelle!$C$8),Wertetabelle!$J$7,IF(AND($D13=6,I13=Wertetabelle!$C$2),Wertetabelle!$E$8,IF(AND($D13=6,I13=Wertetabelle!$C$3),Wertetabelle!$E$8,IF(AND($D13=6,I13=Wertetabelle!$C$4),Wertetabelle!$F$8,IF(AND($D13=6,I13=Wertetabelle!$C$5),Wertetabelle!$G$8,IF(AND($D13=6,I13=Wertetabelle!$C$6),Wertetabelle!$H$8,IF(AND($D13=6,I13=Wertetabelle!$C$7),Wertetabelle!$I$8,IF(AND($D13=6,I13=Wertetabelle!$C$8),Wertetabelle!$J$8,IF(AND($D13=7,I13=Wertetabelle!$C$2),Wertetabelle!$E$9,IF(AND($D13=7,I13=Wertetabelle!$C$3),Wertetabelle!$E$9,IF(AND($D13=7,I13=Wertetabelle!$C$4),Wertetabelle!$F$9,IF(AND($D13=7,I13=Wertetabelle!$C$5),Wertetabelle!$G$9,IF(AND($D13=7,I13=Wertetabelle!$C$6),Wertetabelle!$H$9,IF(AND($D13=7,I13=Wertetabelle!$C$7),Wertetabelle!$I$9,IF(AND($D13=7,I13=Wertetabelle!$C$8),Wertetabelle!$J$9,IF(AND($D13=8,I13=Wertetabelle!$C$2),Wertetabelle!$E$10,IF(AND($D13=8,I13=Wertetabelle!$C$3),Wertetabelle!$E$10,IF(AND($D13=8,I13=Wertetabelle!$C$4),Wertetabelle!$F$10,IF(AND($D13=8,I13=Wertetabelle!$C$5),Wertetabelle!$G$10,IF(AND($D13=8,I13=Wertetabelle!$C$6),Wertetabelle!$H$10,IF(AND($D13=8,I13=Wertetabelle!$C$7),Wertetabelle!$I$10,IF(AND($D13=8,I13=Wertetabelle!$C$8),Wertetabelle!$J$10,0)))))))))))))))))))))))))))))))))))))))))))))))))))))))) -> 0
F14: =IF(AND(D14=1,E14=Wertetabelle!$C$2),Wertetabelle!$E$3,IF(AND(D14=1,E14=Wertetabelle!$C$3),Wertetabelle!$E$3,IF(AND(D14=1,E14=Wertetabelle!$C$4),Wertetabelle!$F$3,IF(AND(D14=1,E14=Wertetabelle!$C$5),Wertetabelle!$G$3,IF(AND(D14=1,E14=Wertetabelle!$C$6),Wertetabelle!$H$3,IF(AND(D14=1,E14=Wertetabelle!$C$7),Wertetabelle!$I$3,IF(AND(D14=1,E14=Wertetabelle!$C$8),Wertetabelle!J11,IF(AND(D14=2,E14=Wertetabelle!$C$2),Wertetabelle!$E$4,IF(AND(D14=2,E14=Wertetabelle!$C$3),Wertetabelle!$E$4,IF(AND(D14=2,E14=Wertetabelle!$C$4),Wertetabelle!$F$4,IF(AND(D14=2,E14=Wertetabelle!$C$5),Wertetabelle!$G$4,IF(AND(D14=2,E14=Wertetabelle!$C$6),Wertetabelle!$H$4,IF(AND(D14=2,E14=Wertetabelle!C15),Wertetabelle!$I$4,IF(AND(D14=2,E14=Wertetabelle!$C$8),Wertetabelle!$J$4,IF(AND(D14=3,E14=Wertetabelle!$C$2),Wertetabelle!$E$5,IF(AND(D14=3,E14=Wertetabelle!$C$3),Wertetabelle!$E$5,IF(AND(D14=3,E14=Wertetabelle!$C$4),Wertetabelle!$F$5,IF(AND(D14=3,E14=Wertetabelle!$C$5),Wertetabelle!$G$5,IF(AND(D14=3,E14=Wertetabelle!$C$6),Wertetabelle!$H$5,IF(AND(D14=3,E14=Wertetabelle!$C$7),Wertetabelle!$I$5,IF(AND(D14=3,E14=Wertetabelle!$C$8),Wertetabelle!$J$5,IF(AND(D14=4,E14=Wertetabelle!$C$2),Wertetabelle!$E$6,IF(AND(D14=4,E14=Wertetabelle!$C$3),Wertetabelle!$E$6,IF(AND(D14=4,E14=Wertetabelle!$C$4),Wertetabelle!$F$6,IF(AND(D14=4,E14=Wertetabelle!$C$5),Wertetabelle!$G$6,IF(AND(D14=4,E14=Wertetabelle!$C$6),Wertetabelle!$H$6,IF(AND(D14=4,E14=Wertetabelle!$C$7),Wertetabelle!$I$6,IF(AND(D14=4,E14=Wertetabelle!$C$8),Wertetabelle!$J$6,IF(AND(D14=5,E14=Wertetabelle!$C$2),Wertetabelle!$E$7,IF(AND(D14=5,E14=Wertetabelle!$C$3),Wertetabelle!$E$7,IF(AND(D14=5,E14=Wertetabelle!$C$4),Wertetabelle!$F$7,IF(AND(D14=5,E14=Wertetabelle!$C$5),Wertetabelle!$G$7,IF(AND(D14=5,E14=Wertetabelle!$C$6),Wertetabelle!$H$7,IF(AND(D14=5,E14=Wertetabelle!$C$7),Wertetabelle!$I$7,IF(AND(D14=5,E14=Wertetabelle!$C$8),Wertetabelle!$J$7,IF(AND(D14=6,E14=Wertetabelle!$C$2),Wertetabelle!$E$8,IF(AND(D14=6,E14=Wertetabelle!$C$3),Wertetabelle!$E$8,IF(AND(D14=6,E14=Wertetabelle!$C$4),Wertetabelle!$F$8,IF(AND(D14=6,E14=Wertetabelle!$C$5),Wertetabelle!$G$8,IF(AND(D14=6,E14=Wertetabelle!$C$6),Wertetabelle!$H$8,IF(AND(D14=6,E14=Wertetabelle!$C$7),Wertetabelle!$I$8,IF(AND(D14=6,E14=Wertetabelle!$C$8),Wertetabelle!$J$8,IF(AND(D14=7,E14=Wertetabelle!$C$2),Wertetabelle!$E$9,IF(AND(D14=7,E14=Wertetabelle!$C$3),Wertetabelle!$E$9,IF(AND(D14=7,E14=Wertetabelle!$C$4),Wertetabelle!$F$9,IF(AND(D14=7,E14=Wertetabelle!$C$5),Wertetabelle!$G$9,IF(AND(D14=7,E14=Wertetabelle!$C$6),Wertetabelle!$H$9,IF(AND(D14=7,E14=Wertetabelle!$C$7),Wertetabelle!$I$9,IF(AND(D14=7,E14=Wertetabelle!$C$8),Wertetabelle!$J$9,IF(AND(D14=8,E14=Wertetabelle!$C$2),Wertetabelle!$E$10,IF(AND(D14=8,E14=Wertetabelle!$C$3),Wertetabelle!$E$10,IF(AND(D14=8,E14=Wertetabelle!$C$4),Wertetabelle!$F$10,IF(AND(D14=8,E14=Wertetabelle!$C$5),Wertetabelle!$G$10,IF(AND(D14=8,E14=Wertetabelle!$C$6),Wertetabelle!$H$10,IF(AND(D14=8,E14=Wertetabelle!$C$7),Wertetabelle!$I$10,IF(AND(D14=8,E14=Wertetabelle!$C$8),Wertetabelle!$J$10,0)))))))))))))))))))))))))))))))))))))))))))))))))))))))) -> 0 | H14: =IF(AND($D14=1,G14=Wertetabelle!$C$2),Wertetabelle!$E$3,IF(AND($D14=1,G14=Wertetabelle!$C$3),Wertetabelle!$E$3,IF(AND($D14=1,G14=Wertetabelle!$C$4),Wertetabelle!$F$3,IF(AND($D14=1,G14=Wertetabelle!$C$5),Wertetabelle!$G$3,IF(AND($D14=1,G14=Wertetabelle!$C$6),Wertetabelle!$H$3,IF(AND($D14=1,G14=Wertetabelle!$C$7),Wertetabelle!$I$3,IF(AND($D14=1,G14=Wertetabelle!$C$8),Wertetabelle!L11,IF(AND($D14=2,G14=Wertetabelle!$C$2),Wertetabelle!$E$4,IF(AND($D14=2,G14=Wertetabelle!$C$3),Wertetabelle!$E$4,IF(AND($D14=2,G14=Wertetabelle!$C$4),Wertetabelle!$F$4,IF(AND($D14=2,G14=Wertetabelle!$C$5),Wertetabelle!$G$4,IF(AND($D14=2,G14=Wertetabelle!$C$6),Wertetabelle!$H$4,IF(AND($D14=2,G14=Wertetabelle!E15),Wertetabelle!$I$4,IF(AND($D14=2,G14=Wertetabelle!$C$8),Wertetabelle!$J$4,IF(AND($D14=3,G14=Wertetabelle!$C$2),Wertetabelle!$E$5,IF(AND($D14=3,G14=Wertetabelle!$C$3),Wertetabelle!$E$5,IF(AND($D14=3,G14=Wertetabelle!$C$4),Wertetabelle!$F$5,IF(AND($D14=3,G14=Wertetabelle!$C$5),Wertetabelle!$G$5,IF(AND($D14=3,G14=Wertetabelle!$C$6),Wertetabelle!$H$5,IF(AND($D14=3,G14=Wertetabelle!$C$7),Wertetabelle!$I$5,IF(AND($D14=3,G14=Wertetabelle!$C$8),Wertetabelle!$J$5,IF(AND($D14=4,G14=Wertetabelle!$C$2),Wertetabelle!$E$6,IF(AND($D14=4,G14=Wertetabelle!$C$3),Wertetabelle!$E$6,IF(AND($D14=4,G14=Wertetabelle!$C$4),Wertetabelle!$F$6,IF(AND($D14=4,G14=Wertetabelle!$C$5),Wertetabelle!$G$6,IF(AND($D14=4,G14=Wertetabelle!$C$6),Wertetabelle!$H$6,IF(AND($D14=4,G14=Wertetabelle!$C$7),Wertetabelle!$I$6,IF(AND($D14=4,G14=Wertetabelle!$C$8),Wertetabelle!$J$6,IF(AND($D14=5,G14=Wertetabelle!$C$2),Wertetabelle!$E$7,IF(AND($D14=5,G14=Wertetabelle!$C$3),Wertetabelle!$E$7,IF(AND($D14=5,G14=Wertetabelle!$C$4),Wertetabelle!$F$7,IF(AND($D14=5,G14=Wertetabelle!$C$5),Wertetabelle!$G$7,IF(AND($D14=5,G14=Wertetabelle!$C$6),Wertetabelle!$H$7,IF(AND($D14=5,G14=Wertetabelle!$C$7),Wertetabelle!$I$7,IF(AND($D14=5,G14=Wertetabelle!$C$8),Wertetabelle!$J$7,IF(AND($D14=6,G14=Wertetabelle!$C$2),Wertetabelle!$E$8,IF(AND($D14=6,G14=Wertetabelle!$C$3),Wertetabelle!$E$8,IF(AND($D14=6,G14=Wertetabelle!$C$4),Wertetabelle!$F$8,IF(AND($D14=6,G14=Wertetabelle!$C$5),Wertetabelle!$G$8,IF(AND($D14=6,G14=Wertetabelle!$C$6),Wertetabelle!$H$8,IF(AND($D14=6,G14=Wertetabelle!$C$7),Wertetabelle!$I$8,IF(AND($D14=6,G14=Wertetabelle!$C$8),Wertetabelle!$J$8,IF(AND($D14=7,G14=Wertetabelle!$C$2),Wertetabelle!$E$9,IF(AND($D14=7,G14=Wertetabelle!$C$3),Wertetabelle!$E$9,IF(AND($D14=7,G14=Wertetabelle!$C$4),Wertetabelle!$F$9,IF(AND($D14=7,G14=Wertetabelle!$C$5),Wertetabelle!$G$9,IF(AND($D14=7,G14=Wertetabelle!$C$6),Wertetabelle!$H$9,IF(AND($D14=7,G14=Wertetabelle!$C$7),Wertetabelle!$I$9,IF(AND($D14=7,G14=Wertetabelle!$C$8),Wertetabelle!$J$9,IF(AND($D14=8,G14=Wertetabelle!$C$2),Wertetabelle!$E$10,IF(AND($D14=8,G14=Wertetabelle!$C$3),Wertetabelle!$E$10,IF(AND($D14=8,G14=Wertetabelle!$C$4),Wertetabelle!$F$10,IF(AND($D14=8,G14=Wertetabelle!$C$5),Wertetabelle!$G$10,IF(AND($D14=8,G14=Wertetabelle!$C$6),Wertetabelle!$H$10,IF(AND($D14=8,G14=Wertetabelle!$C$7),Wertetabelle!$I$10,IF(AND($D14=8,G14=Wertetabelle!$C$8),Wertetabelle!$J$10,0)))))))))))))))))))))))))))))))))))))))))))))))))))))))) -> 0 | J14: =IF(AND($D14=1,I14=Wertetabelle!$C$2),Wertetabelle!$E$3,IF(AND($D14=1,I14=Wertetabelle!$C$3),Wertetabelle!$E$3,IF(AND($D14=1,I14=Wertetabelle!$C$4),Wertetabelle!$F$3,IF(AND($D14=1,I14=Wertetabelle!$C$5),Wertetabelle!$G$3,IF(AND($D14=1,I14=Wertetabelle!$C$6),Wertetabelle!$H$3,IF(AND($D14=1,I14=Wertetabelle!$C$7),Wertetabelle!$I$3,IF(AND($D14=1,I14=Wertetabelle!$C$8),Wertetabelle!N11,IF(AND($D14=2,I14=Wertetabelle!$C$2),Wertetabelle!$E$4,IF(AND($D14=2,I14=Wertetabelle!$C$3),Wertetabelle!$E$4,IF(AND($D14=2,I14=Wertetabelle!$C$4),Wertetabelle!$F$4,IF(AND($D14=2,I14=Wertetabelle!$C$5),Wertetabelle!$G$4,IF(AND($D14=2,I14=Wertetabelle!$C$6),Wertetabelle!$H$4,IF(AND($D14=2,I14=Wertetabelle!G15),Wertetabelle!$I$4,IF(AND($D14=2,I14=Wertetabelle!$C$8),Wertetabelle!$J$4,IF(AND($D14=3,I14=Wertetabelle!$C$2),Wertetabelle!$E$5,IF(AND($D14=3,I14=Wertetabelle!$C$3),Wertetabelle!$E$5,IF(AND($D14=3,I14=Wertetabelle!$C$4),Wertetabelle!$F$5,IF(AND($D14=3,I14=Wertetabelle!$C$5),Wertetabelle!$G$5,IF(AND($D14=3,I14=Wertetabelle!$C$6),Wertetabelle!$H$5,IF(AND($D14=3,I14=Wertetabelle!$C$7),Wertetabelle!$I$5,IF(AND($D14=3,I14=Wertetabelle!$C$8),Wertetabelle!$J$5,IF(AND($D14=4,I14=Wertetabelle!$C$2),Wertetabelle!$E$6,IF(AND($D14=4,I14=Wertetabelle!$C$3),Wertetabelle!$E$6,IF(AND($D14=4,I14=Wertetabelle!$C$4),Wertetabelle!$F$6,IF(AND($D14=4,I14=Wertetabelle!$C$5),Wertetabelle!$G$6,IF(AND($D14=4,I14=Wertetabelle!$C$6),Wertetabelle!$H$6,IF(AND($D14=4,I14=Wertetabelle!$C$7),Wertetabelle!$I$6,IF(AND($D14=4,I14=Wertetabelle!$C$8),Wertetabelle!$J$6,IF(AND($D14=5,I14=Wertetabelle!$C$2),Wertetabelle!$E$7,IF(AND($D14=5,I14=Wertetabelle!$C$3),Wertetabelle!$E$7,IF(AND($D14=5,I14=Wertetabelle!$C$4),Wertetabelle!$F$7,IF(AND($D14=5,I14=Wertetabelle!$C$5),Wertetabelle!$G$7,IF(AND($D14=5,I14=Wertetabelle!$C$6),Wertetabelle!$H$7,IF(AND($D14=5,I14=Wertetabelle!$C$7),Wertetabelle!$I$7,IF(AND($D14=5,I14=Wertetabelle!$C$8),Wertetabelle!$J$7,IF(AND($D14=6,I14=Wertetabelle!$C$2),Wertetabelle!$E$8,IF(AND($D14=6,I14=Wertetabelle!$C$3),Wertetabelle!$E$8,IF(AND($D14=6,I14=Wertetabelle!$C$4),Wertetabelle!$F$8,IF(AND($D14=6,I14=Wertetabelle!$C$5),Wertetabelle!$G$8,IF(AND($D14=6,I14=Wertetabelle!$C$6),Wertetabelle!$H$8,IF(AND($D14=6,I14=Wertetabelle!$C$7),Wertetabelle!$I$8,IF(AND($D14=6,I14=Wertetabelle!$C$8),Wertetabelle!$J$8,IF(AND($D14=7,I14=Wertetabelle!$C$2),Wertetabelle!$E$9,IF(AND($D14=7,I14=Wertetabelle!$C$3),Wertetabelle!$E$9,IF(AND($D14=7,I14=Wertetabelle!$C$4),Wertetabelle!$F$9,IF(AND($D14=7,I14=Wertetabelle!$C$5),Wertetabelle!$G$9,IF(AND($D14=7,I14=Wertetabelle!$C$6),Wertetabelle!$H$9,IF(AND($D14=7,I14=Wertetabelle!$C$7),Wertetabelle!$I$9,IF(AND($D14=7,I14=Wertetabelle!$C$8),Wertetabelle!$J$9,IF(AND($D14=8,I14=Wertetabelle!$C$2),Wertetabelle!$E$10,IF(AND($D14=8,I14=Wertetabelle!$C$3),Wertetabelle!$E$10,IF(AND($D14=8,I14=Wertetabelle!$C$4),Wertetabelle!$F$10,IF(AND($D14=8,I14=Wertetabelle!$C$5),Wertetabelle!$G$10,IF(AND($D14=8,I14=Wertetabelle!$C$6),Wertetabelle!$H$10,IF(AND($D14=8,I14=Wertetabelle!$C$7),Wertetabelle!$I$10,IF(AND($D14=8,I14=Wertetabelle!$C$8),Wertetabelle!$J$10,0)))))))))))))))))))))))))))))))))))))))))))))))))))))))) -> 0
F15: =IF(AND(D15=1,E15=Wertetabelle!$C$2),Wertetabelle!$E$3,IF(AND(D15=1,E15=Wertetabelle!$C$3),Wertetabelle!$E$3,IF(AND(D15=1,E15=Wertetabelle!$C$4),Wertetabelle!$F$3,IF(AND(D15=1,E15=Wertetabelle!$C$5),Wertetabelle!$G$3,IF(AND(D15=1,E15=Wertetabelle!$C$6),Wertetabelle!$H$3,IF(AND(D15=1,E15=Wertetabelle!$C$7),Wertetabelle!$I$3,IF(AND(D15=1,E15=Wertetabelle!$C$8),Wertetabelle!J12,IF(AND(D15=2,E15=Wertetabelle!$C$2),Wertetabelle!$E$4,IF(AND(D15=2,E15=Wertetabelle!$C$3),Wertetabelle!$E$4,IF(AND(D15=2,E15=Wertetabelle!$C$4),Wertetabelle!$F$4,IF(AND(D15=2,E15=Wertetabelle!$C$5),Wertetabelle!$G$4,IF(AND(D15=2,E15=Wertetabelle!$C$6),Wertetabelle!$H$4,IF(AND(D15=2,E15=Wertetabelle!C16),Wertetabelle!$I$4,IF(AND(D15=2,E15=Wertetabelle!$C$8),Wertetabelle!$J$4,IF(AND(D15=3,E15=Wertetabelle!$C$2),Wertetabelle!$E$5,IF(AND(D15=3,E15=Wertetabelle!$C$3),Wertetabelle!$E$5,IF(AND(D15=3,E15=Wertetabelle!$C$4),Wertetabelle!$F$5,IF(AND(D15=3,E15=Wertetabelle!$C$5),Wertetabelle!$G$5,IF(AND(D15=3,E15=Wertetabelle!$C$6),Wertetabelle!$H$5,IF(AND(D15=3,E15=Wertetabelle!$C$7),Wertetabelle!$I$5,IF(AND(D15=3,E15=Wertetabelle!$C$8),Wertetabelle!$J$5,IF(AND(D15=4,E15=Wertetabelle!$C$2),Wertetabelle!$E$6,IF(AND(D15=4,E15=Wertetabelle!$C$3),Wertetabelle!$E$6,IF(AND(D15=4,E15=Wertetabelle!$C$4),Wertetabelle!$F$6,IF(AND(D15=4,E15=Wertetabelle!$C$5),Wertetabelle!$G$6,IF(AND(D15=4,E15=Wertetabelle!$C$6),Wertetabelle!$H$6,IF(AND(D15=4,E15=Wertetabelle!$C$7),Wertetabelle!$I$6,IF(AND(D15=4,E15=Wertetabelle!$C$8),Wertetabelle!$J$6,IF(AND(D15=5,E15=Wertetabelle!$C$2),Wertetabelle!$E$7,IF(AND(D15=5,E15=Wertetabelle!$C$3),Wertetabelle!$E$7,IF(AND(D15=5,E15=Wertetabelle!$C$4),Wertetabelle!$F$7,IF(AND(D15=5,E15=Wertetabelle!$C$5),Wertetabelle!$G$7,IF(AND(D15=5,E15=Wertetabelle!$C$6),Wertetabelle!$H$7,IF(AND(D15=5,E15=Wertetabelle!$C$7),Wertetabelle!$I$7,IF(AND(D15=5,E15=Wertetabelle!$C$8),Wertetabelle!$J$7,IF(AND(D15=6,E15=Wertetabelle!$C$2),Wertetabelle!$E$8,IF(AND(D15=6,E15=Wertetabelle!$C$3),Wertetabelle!$E$8,IF(AND(D15=6,E15=Wertetabelle!$C$4),Wertetabelle!$F$8,IF(AND(D15=6,E15=Wertetabelle!$C$5),Wertetabelle!$G$8,IF(AND(D15=6,E15=Wertetabelle!$C$6),Wertetabelle!$H$8,IF(AND(D15=6,E15=Wertetabelle!$C$7),Wertetabelle!$I$8,IF(AND(D15=6,E15=Wertetabelle!$C$8),Wertetabelle!$J$8,IF(AND(D15=7,E15=Wertetabelle!$C$2),Wertetabelle!$E$9,IF(AND(D15=7,E15=Wertetabelle!$C$3),Wertetabelle!$E$9,IF(AND(D15=7,E15=Wertetabelle!$C$4),Wertetabelle!$F$9,IF(AND(D15=7,E15=Wertetabelle!$C$5),Wertetabelle!$G$9,IF(AND(D15=7,E15=Wertetabelle!$C$6),Wertetabelle!$H$9,IF(AND(D15=7,E15=Wertetabelle!$C$7),Wertetabelle!$I$9,IF(AND(D15=7,E15=Wertetabelle!$C$8),Wertetabelle!$J$9,IF(AND(D15=8,E15=Wertetabelle!$C$2),Wertetabelle!$E$10,IF(AND(D15=8,E15=Wertetabelle!$C$3),Wertetabelle!$E$10,IF(AND(D15=8,E15=Wertetabelle!$C$4),Wertetabelle!$F$10,IF(AND(D15=8,E15=Wertetabelle!$C$5),Wertetabelle!$G$10,IF(AND(D15=8,E15=Wertetabelle!$C$6),Wertetabelle!$H$10,IF(AND(D15=8,E15=Wertetabelle!$C$7),Wertetabelle!$I$10,IF(AND(D15=8,E15=Wertetabelle!$C$8),Wertetabelle!$J$10,0)))))))))))))))))))))))))))))))))))))))))))))))))))))))) -> 0 | H15: =IF(AND($D15=1,G15=Wertetabelle!$C$2),Wertetabelle!$E$3,IF(AND($D15=1,G15=Wertetabelle!$C$3),Wertetabelle!$E$3,IF(AND($D15=1,G15=Wertetabelle!$C$4),Wertetabelle!$F$3,IF(AND($D15=1,G15=Wertetabelle!$C$5),Wertetabelle!$G$3,IF(AND($D15=1,G15=Wertetabelle!$C$6),Wertetabelle!$H$3,IF(AND($D15=1,G15=Wertetabelle!$C$7),Wertetabelle!$I$3,IF(AND($D15=1,G15=Wertetabelle!$C$8),Wertetabelle!L12,IF(AND($D15=2,G15=Wertetabelle!$C$2),Wertetabelle!$E$4,IF(AND($D15=2,G15=Wertetabelle!$C$3),Wertetabelle!$E$4,IF(AND($D15=2,G15=Wertetabelle!$C$4),Wertetabelle!$F$4,IF(AND($D15=2,G15=Wertetabelle!$C$5),Wertetabelle!$G$4,IF(AND($D15=2,G15=Wertetabelle!$C$6),Wertetabelle!$H$4,IF(AND($D15=2,G15=Wertetabelle!E16),Wertetabelle!$I$4,IF(AND($D15=2,G15=Wertetabelle!$C$8),Wertetabelle!$J$4,IF(AND($D15=3,G15=Wertetabelle!$C$2),Wertetabelle!$E$5,IF(AND($D15=3,G15=Wertetabelle!$C$3),Wertetabelle!$E$5,IF(AND($D15=3,G15=Wertetabelle!$C$4),Wertetabelle!$F$5,IF(AND($D15=3,G15=Wertetabelle!$C$5),Wertetabelle!$G$5,IF(AND($D15=3,G15=Wertetabelle!$C$6),Wertetabelle!$H$5,IF(AND($D15=3,G15=Wertetabelle!$C$7),Wertetabelle!$I$5,IF(AND($D15=3,G15=Wertetabelle!$C$8),Wertetabelle!$J$5,IF(AND($D15=4,G15=Wertetabelle!$C$2),Wertetabelle!$E$6,IF(AND($D15=4,G15=Wertetabelle!$C$3),Wertetabelle!$E$6,IF(AND($D15=4,G15=Wertetabelle!$C$4),Wertetabelle!$F$6,IF(AND($D15=4,G15=Wertetabelle!$C$5),Wertetabelle!$G$6,IF(AND($D15=4,G15=Wertetabelle!$C$6),Wertetabelle!$H$6,IF(AND($D15=4,G15=Wertetabelle!$C$7),Wertetabelle!$I$6,IF(AND($D15=4,G15=Wertetabelle!$C$8),Wertetabelle!$J$6,IF(AND($D15=5,G15=Wertetabelle!$C$2),Wertetabelle!$E$7,IF(AND($D15=5,G15=Wertetabelle!$C$3),Wertetabelle!$E$7,IF(AND($D15=5,G15=Wertetabelle!$C$4),Wertetabelle!$F$7,IF(AND($D15=5,G15=Wertetabelle!$C$5),Wertetabelle!$G$7,IF(AND($D15=5,G15=Wertetabelle!$C$6),Wertetabelle!$H$7,IF(AND($D15=5,G15=Wertetabelle!$C$7),Wertetabelle!$I$7,IF(AND($D15=5,G15=Wertetabelle!$C$8),Wertetabelle!$J$7,IF(AND($D15=6,G15=Wertetabelle!$C$2),Wertetabelle!$E$8,IF(AND($D15=6,G15=Wertetabelle!$C$3),Wertetabelle!$E$8,IF(AND($D15=6,G15=Wertetabelle!$C$4),Wertetabelle!$F$8,IF(AND($D15=6,G15=Wertetabelle!$C$5),Wertetabelle!$G$8,IF(AND($D15=6,G15=Wertetabelle!$C$6),Wertetabelle!$H$8,IF(AND($D15=6,G15=Wertetabelle!$C$7),Wertetabelle!$I$8,IF(AND($D15=6,G15=Wertetabelle!$C$8),Wertetabelle!$J$8,IF(AND($D15=7,G15=Wertetabelle!$C$2),Wertetabelle!$E$9,IF(AND($D15=7,G15=Wertetabelle!$C$3),Wertetabelle!$E$9,IF(AND($D15=7,G15=Wertetabelle!$C$4),Wertetabelle!$F$9,IF(AND($D15=7,G15=Wertetabelle!$C$5),Wertetabelle!$G$9,IF(AND($D15=7,G15=Wertetabelle!$C$6),Wertetabelle!$H$9,IF(AND($D15=7,G15=Wertetabelle!$C$7),Wertetabelle!$I$9,IF(AND($D15=7,G15=Wertetabelle!$C$8),Wertetabelle!$J$9,IF(AND($D15=8,G15=Wertetabelle!$C$2),Wertetabelle!$E$10,IF(AND($D15=8,G15=Wertetabelle!$C$3),Wertetabelle!$E$10,IF(AND($D15=8,G15=Wertetabelle!$C$4),Wertetabelle!$F$10,IF(AND($D15=8,G15=Wertetabelle!$C$5),Wertetabelle!$G$10,IF(AND($D15=8,G15=Wertetabelle!$C$6),Wertetabelle!$H$10,IF(AND($D15=8,G15=Wertetabelle!$C$7),Wertetabelle!$I$10,IF(AND($D15=8,G15=Wertetabelle!$C$8),Wertetabelle!$J$10,0)))))))))))))))))))))))))))))))))))))))))))))))))))))))) -> 0 | J15: =IF(AND($D15=1,I15=Wertetabelle!$C$2),Wertetabelle!$E$3,IF(AND($D15=1,I15=Wertetabelle!$C$3),Wertetabelle!$E$3,IF(AND($D15=1,I15=Wertetabelle!$C$4),Wertetabelle!$F$3,IF(AND($D15=1,I15=Wertetabelle!$C$5),Wertetabelle!$G$3,IF(AND($D15=1,I15=Wertetabelle!$C$6),Wertetabelle!$H$3,IF(AND($D15=1,I15=Wertetabelle!$C$7),Wertetabelle!$I$3,IF(AND($D15=1,I15=Wertetabelle!$C$8),Wertetabelle!N12,IF(AND($D15=2,I15=Wertetabelle!$C$2),Wertetabelle!$E$4,IF(AND($D15=2,I15=Wertetabelle!$C$3),Wertetabelle!$E$4,IF(AND($D15=2,I15=Wertetabelle!$C$4),Wertetabelle!$F$4,IF(AND($D15=2,I15=Wertetabelle!$C$5),Wertetabelle!$G$4,IF(AND($D15=2,I15=Wertetabelle!$C$6),Wertetabelle!$H$4,IF(AND($D15=2,I15=Wertetabelle!G16),Wertetabelle!$I$4,IF(AND($D15=2,I15=Wertetabelle!$C$8),Wertetabelle!$J$4,IF(AND($D15=3,I15=Wertetabelle!$C$2),Wertetabelle!$E$5,IF(AND($D15=3,I15=Wertetabelle!$C$3),Wertetabelle!$E$5,IF(AND($D15=3,I15=Wertetabelle!$C$4),Wertetabelle!$F$5,IF(AND($D15=3,I15=Wertetabelle!$C$5),Wertetabelle!$G$5,IF(AND($D15=3,I15=Wertetabelle!$C$6),Wertetabelle!$H$5,IF(AND($D15=3,I15=Wertetabelle!$C$7),Wertetabelle!$I$5,IF(AND($D15=3,I15=Wertetabelle!$C$8),Wertetabelle!$J$5,IF(AND($D15=4,I15=Wertetabelle!$C$2),Wertetabelle!$E$6,IF(AND($D15=4,I15=Wertetabelle!$C$3),Wertetabelle!$E$6,IF(AND($D15=4,I15=Wertetabelle!$C$4),Wertetabelle!$F$6,IF(AND($D15=4,I15=Wertetabelle!$C$5),Wertetabelle!$G$6,IF(AND($D15=4,I15=Wertetabelle!$C$6),Wertetabelle!$H$6,IF(AND($D15=4,I15=Wertetabelle!$C$7),Wertetabelle!$I$6,IF(AND($D15=4,I15=Wertetabelle!$C$8),Wertetabelle!$J$6,IF(AND($D15=5,I15=Wertetabelle!$C$2),Wertetabelle!$E$7,IF(AND($D15=5,I15=Wertetabelle!$C$3),Wertetabelle!$E$7,IF(AND($D15=5,I15=Wertetabelle!$C$4),Wertetabelle!$F$7,IF(AND($D15=5,I15=Wertetabelle!$C$5),Wertetabelle!$G$7,IF(AND($D15=5,I15=Wertetabelle!$C$6),Wertetabelle!$H$7,IF(AND($D15=5,I15=Wertetabelle!$C$7),Wertetabelle!$I$7,IF(AND($D15=5,I15=Wertetabelle!$C$8),Wertetabelle!$J$7,IF(AND($D15=6,I15=Wertetabelle!$C$2),Wertetabelle!$E$8,IF(AND($D15=6,I15=Wertetabelle!$C$3),Wertetabelle!$E$8,IF(AND($D15=6,I15=Wertetabelle!$C$4),Wertetabelle!$F$8,IF(AND($D15=6,I15=Wertetabelle!$C$5),Wertetabelle!$G$8,IF(AND($D15=6,I15=Wertetabelle!$C$6),Wertetabelle!$H$8,IF(AND($D15=6,I15=Wertetabelle!$C$7),Wertetabelle!$I$8,IF(AND($D15=6,I15=Wertetabelle!$C$8),Wertetabelle!$J$8,IF(AND($D15=7,I15=Wertetabelle!$C$2),Wertetabelle!$E$9,IF(AND($D15=7,I15=Wertetabelle!$C$3),Wertetabelle!$E$9,IF(AND($D15=7,I15=Wertetabelle!$C$4),Wertetabelle!$F$9,IF(AND($D15=7,I15=Wertetabelle!$C$5),Wertetabelle!$G$9,IF(AND($D15=7,I15=Wertetabelle!$C$6),Wertetabelle!$H$9,IF(AND($D15=7,I15=Wertetabelle!$C$7),Wertetabelle!$I$9,IF(AND($D15=7,I15=Wertetabelle!$C$8),Wertetabelle!$J$9,IF(AND($D15=8,I15=Wertetabelle!$C$2),Wertetabelle!$E$10,IF(AND($D15=8,I15=Wertetabelle!$C$3),Wertetabelle!$E$10,IF(AND($D15=8,I15=Wertetabelle!$C$4),Wertetabelle!$F$10,IF(AND($D15=8,I15=Wertetabelle!$C$5),Wertetabelle!$G$10,IF(AND($D15=8,I15=Wertetabelle!$C$6),Wertetabelle!$H$10,IF(AND($D15=8,I15=Wertetabelle!$C$7),Wertetabelle!$I$10,IF(AND($D15=8,I15=Wertetabelle!$C$8),Wertetabelle!$J$10,0)))))))))))))))))))))))))))))))))))))))))))))))))))))))) -> 0
F16: =IF(AND(D16=1,E16=Wertetabelle!$C$2),Wertetabelle!$E$3,IF(AND(D16=1,E16=Wertetabelle!$C$3),Wertetabelle!$E$3,IF(AND(D16=1,E16=Wertetabelle!$C$4),Wertetabelle!$F$3,IF(AND(D16=1,E16=Wertetabelle!$C$5),Wertetabelle!$G$3,IF(AND(D16=1,E16=Wertetabelle!$C$6),Wertetabelle!$H$3,IF(AND(D16=1,E16=Wertetabelle!$C$7),Wertetabelle!$I$3,IF(AND(D16=1,E16=Wertetabelle!$C$8),Wertetabelle!J13,IF(AND(D16=2,E16=Wertetabelle!$C$2),Wertetabelle!$E$4,IF(AND(D16=2,E16=Wertetabelle!$C$3),Wertetabelle!$E$4,IF(AND(D16=2,E16=Wertetabelle!$C$4),Wertetabelle!$F$4,IF(AND(D16=2,E16=Wertetabelle!$C$5),Wertetabelle!$G$4,IF(AND(D16=2,E16=Wertetabelle!$C$6),Wertetabelle!$H$4,IF(AND(D16=2,E16=Wertetabelle!C17),Wertetabelle!$I$4,IF(AND(D16=2,E16=Wertetabelle!$C$8),Wertetabelle!$J$4,IF(AND(D16=3,E16=Wertetabelle!$C$2),Wertetabelle!$E$5,IF(AND(D16=3,E16=Wertetabelle!$C$3),Wertetabelle!$E$5,IF(AND(D16=3,E16=Wertetabelle!$C$4),Wertetabelle!$F$5,IF(AND(D16=3,E16=Wertetabelle!$C$5),Wertetabelle!$G$5,IF(AND(D16=3,E16=Wertetabelle!$C$6),Wertetabelle!$H$5,IF(AND(D16=3,E16=Wertetabelle!$C$7),Wertetabelle!$I$5,IF(AND(D16=3,E16=Wertetabelle!$C$8),Wertetabelle!$J$5,IF(AND(D16=4,E16=Wertetabelle!$C$2),Wertetabelle!$E$6,IF(AND(D16=4,E16=Wertetabelle!$C$3),Wertetabelle!$E$6,IF(AND(D16=4,E16=Wertetabelle!$C$4),Wertetabelle!$F$6,IF(AND(D16=4,E16=Wertetabelle!$C$5),Wertetabelle!$G$6,IF(AND(D16=4,E16=Wertetabelle!$C$6),Wertetabelle!$H$6,IF(AND(D16=4,E16=Wertetabelle!$C$7),Wertetabelle!$I$6,IF(AND(D16=4,E16=Wertetabelle!$C$8),Wertetabelle!$J$6,IF(AND(D16=5,E16=Wertetabelle!$C$2),Wertetabelle!$E$7,IF(AND(D16=5,E16=Wertetabelle!$C$3),Wertetabelle!$E$7,IF(AND(D16=5,E16=Wertetabelle!$C$4),Wertetabelle!$F$7,IF(AND(D16=5,E16=Wertetabelle!$C$5),Wertetabelle!$G$7,IF(AND(D16=5,E16=Wertetabelle!$C$6),Wertetabelle!$H$7,IF(AND(D16=5,E16=Wertetabelle!$C$7),Wertetabelle!$I$7,IF(AND(D16=5,E16=Wertetabelle!$C$8),Wertetabelle!$J$7,IF(AND(D16=6,E16=Wertetabelle!$C$2),Wertetabelle!$E$8,IF(AND(D16=6,E16=Wertetabelle!$C$3),Wertetabelle!$E$8,IF(AND(D16=6,E16=Wertetabelle!$C$4),Wertetabelle!$F$8,IF(AND(D16=6,E16=Wertetabelle!$C$5),Wertetabelle!$G$8,IF(AND(D16=6,E16=Wertetabelle!$C$6),Wertetabelle!$H$8,IF(AND(D16=6,E16=Wertetabelle!$C$7),Wertetabelle!$I$8,IF(AND(D16=6,E16=Wertetabelle!$C$8),Wertetabelle!$J$8,IF(AND(D16=7,E16=Wertetabelle!$C$2),Wertetabelle!$E$9,IF(AND(D16=7,E16=Wertetabelle!$C$3),Wertetabelle!$E$9,IF(AND(D16=7,E16=Wertetabelle!$C$4),Wertetabelle!$F$9,IF(AND(D16=7,E16=Wertetabelle!$C$5),Wertetabelle!$G$9,IF(AND(D16=7,E16=Wertetabelle!$C$6),Wertetabelle!$H$9,IF(AND(D16=7,E16=Wertetabelle!$C$7),Wertetabelle!$I$9,IF(AND(D16=7,E16=Wertetabelle!$C$8),Wertetabelle!$J$9,IF(AND(D16=8,E16=Wertetabelle!$C$2),Wertetabelle!$E$10,IF(AND(D16=8,E16=Wertetabelle!$C$3),Wertetabelle!$E$10,IF(AND(D16=8,E16=Wertetabelle!$C$4),Wertetabelle!$F$10,IF(AND(D16=8,E16=Wertetabelle!$C$5),Wertetabelle!$G$10,IF(AND(D16=8,E16=Wertetabelle!$C$6),Wertetabelle!$H$10,IF(AND(D16=8,E16=Wertetabelle!$C$7),Wertetabelle!$I$10,IF(AND(D16=8,E16=Wertetabelle!$C$8),Wertetabelle!$J$10,0)))))))))))))))))))))))))))))))))))))))))))))))))))))))) -> 0 | H16: =IF(AND($D16=1,G16=Wertetabelle!$C$2),Wertetabelle!$E$3,IF(AND($D16=1,G16=Wertetabelle!$C$3),Wertetabelle!$E$3,IF(AND($D16=1,G16=Wertetabelle!$C$4),Wertetabelle!$F$3,IF(AND($D16=1,G16=Wertetabelle!$C$5),Wertetabelle!$G$3,IF(AND($D16=1,G16=Wertetabelle!$C$6),Wertetabelle!$H$3,IF(AND($D16=1,G16=Wertetabelle!$C$7),Wertetabelle!$I$3,IF(AND($D16=1,G16=Wertetabelle!$C$8),Wertetabelle!L13,IF(AND($D16=2,G16=Wertetabelle!$C$2),Wertetabelle!$E$4,IF(AND($D16=2,G16=Wertetabelle!$C$3),Wertetabelle!$E$4,IF(AND($D16=2,G16=Wertetabelle!$C$4),Wertetabelle!$F$4,IF(AND($D16=2,G16=Wertetabelle!$C$5),Wertetabelle!$G$4,IF(AND($D16=2,G16=Wertetabelle!$C$6),Wertetabelle!$H$4,IF(AND($D16=2,G16=Wertetabelle!E17),Wertetabelle!$I$4,IF(AND($D16=2,G16=Wertetabelle!$C$8),Wertetabelle!$J$4,IF(AND($D16=3,G16=Wertetabelle!$C$2),Wertetabelle!$E$5,IF(AND($D16=3,G16=Wertetabelle!$C$3),Wertetabelle!$E$5,IF(AND($D16=3,G16=Wertetabelle!$C$4),Wertetabelle!$F$5,IF(AND($D16=3,G16=Wertetabelle!$C$5),Wertetabelle!$G$5,IF(AND($D16=3,G16=Wertetabelle!$C$6),Wertetabelle!$H$5,IF(AND($D16=3,G16=Wertetabelle!$C$7),Wertetabelle!$I$5,IF(AND($D16=3,G16=Wertetabelle!$C$8),Wertetabelle!$J$5,IF(AND($D16=4,G16=Wertetabelle!$C$2),Wertetabelle!$E$6,IF(AND($D16=4,G16=Wertetabelle!$C$3),Wertetabelle!$E$6,IF(AND($D16=4,G16=Wertetabelle!$C$4),Wertetabelle!$F$6,IF(AND($D16=4,G16=Wertetabelle!$C$5),Wertetabelle!$G$6,IF(AND($D16=4,G16=Wertetabelle!$C$6),Wertetabelle!$H$6,IF(AND($D16=4,G16=Wertetabelle!$C$7),Wertetabelle!$I$6,IF(AND($D16=4,G16=Wertetabelle!$C$8),Wertetabelle!$J$6,IF(AND($D16=5,G16=Wertetabelle!$C$2),Wertetabelle!$E$7,IF(AND($D16=5,G16=Wertetabelle!$C$3),Wertetabelle!$E$7,IF(AND($D16=5,G16=Wertetabelle!$C$4),Wertetabelle!$F$7,IF(AND($D16=5,G16=Wertetabelle!$C$5),Wertetabelle!$G$7,IF(AND($D16=5,G16=Wertetabelle!$C$6),Wertetabelle!$H$7,IF(AND($D16=5,G16=Wertetabelle!$C$7),Wertetabelle!$I$7,IF(AND($D16=5,G16=Wertetabelle!$C$8),Wertetabelle!$J$7,IF(AND($D16=6,G16=Wertetabelle!$C$2),Wertetabelle!$E$8,IF(AND($D16=6,G16=Wertetabelle!$C$3),Wertetabelle!$E$8,IF(AND($D16=6,G16=Wertetabelle!$C$4),Wertetabelle!$F$8,IF(AND($D16=6,G16=Wertetabelle!$C$5),Wertetabelle!$G$8,IF(AND($D16=6,G16=Wertetabelle!$C$6),Wertetabelle!$H$8,IF(AND($D16=6,G16=Wertetabelle!$C$7),Wertetabelle!$I$8,IF(AND($D16=6,G16=Wertetabelle!$C$8),Wertetabelle!$J$8,IF(AND($D16=7,G16=Wertetabelle!$C$2),Wertetabelle!$E$9,IF(AND($D16=7,G16=Wertetabelle!$C$3),Wertetabelle!$E$9,IF(AND($D16=7,G16=Wertetabelle!$C$4),Wertetabelle!$F$9,IF(AND($D16=7,G16=Wertetabelle!$C$5),Wertetabelle!$G$9,IF(AND($D16=7,G16=Wertetabelle!$C$6),Wertetabelle!$H$9,IF(AND($D16=7,G16=Wertetabelle!$C$7),Wertetabelle!$I$9,IF(AND($D16=7,G16=Wertetabelle!$C$8),Wertetabelle!$J$9,IF(AND($D16=8,G16=Wertetabelle!$C$2),Wertetabelle!$E$10,IF(AND($D16=8,G16=Wertetabelle!$C$3),Wertetabelle!$E$10,IF(AND($D16=8,G16=Wertetabelle!$C$4),Wertetabelle!$F$10,IF(AND($D16=8,G16=Wertetabelle!$C$5),Wertetabelle!$G$10,IF(AND($D16=8,G16=Wertetabelle!$C$6),Wertetabelle!$H$10,IF(AND($D16=8,G16=Wertetabelle!$C$7),Wertetabelle!$I$10,IF(AND($D16=8,G16=Wertetabelle!$C$8),Wertetabelle!$J$10,0)))))))))))))))))))))))))))))))))))))))))))))))))))))))) -> 0 | J16: =IF(AND($D16=1,I16=Wertetabelle!$C$2),Wertetabelle!$E$3,IF(AND($D16=1,I16=Wertetabelle!$C$3),Wertetabelle!$E$3,IF(AND($D16=1,I16=Wertetabelle!$C$4),Wertetabelle!$F$3,IF(AND($D16=1,I16=Wertetabelle!$C$5),Wertetabelle!$G$3,IF(AND($D16=1,I16=Wertetabelle!$C$6),Wertetabelle!$H$3,IF(AND($D16=1,I16=Wertetabelle!$C$7),Wertetabelle!$I$3,IF(AND($D16=1,I16=Wertetabelle!$C$8),Wertetabelle!N13,IF(AND($D16=2,I16=Wertetabelle!$C$2),Wertetabelle!$E$4,IF(AND($D16=2,I16=Wertetabelle!$C$3),Wertetabelle!$E$4,IF(AND($D16=2,I16=Wertetabelle!$C$4),Wertetabelle!$F$4,IF(AND($D16=2,I16=Wertetabelle!$C$5),Wertetabelle!$G$4,IF(AND($D16=2,I16=Wertetabelle!$C$6),Wertetabelle!$H$4,IF(AND($D16=2,I16=Wertetabelle!G17),Wertetabelle!$I$4,IF(AND($D16=2,I16=Wertetabelle!$C$8),Wertetabelle!$J$4,IF(AND($D16=3,I16=Wertetabelle!$C$2),Wertetabelle!$E$5,IF(AND($D16=3,I16=Wertetabelle!$C$3),Wertetabelle!$E$5,IF(AND($D16=3,I16=Wertetabelle!$C$4),Wertetabelle!$F$5,IF(AND($D16=3,I16=Wertetabelle!$C$5),Wertetabelle!$G$5,IF(AND($D16=3,I16=Wertetabelle!$C$6),Wertetabelle!$H$5,IF(AND($D16=3,I16=Wertetabelle!$C$7),Wertetabelle!$I$5,IF(AND($D16=3,I16=Wertetabelle!$C$8),Wertetabelle!$J$5,IF(AND($D16=4,I16=Wertetabelle!$C$2),Wertetabelle!$E$6,IF(AND($D16=4,I16=Wertetabelle!$C$3),Wertetabelle!$E$6,IF(AND($D16=4,I16=Wertetabelle!$C$4),Wertetabelle!$F$6,IF(AND($D16=4,I16=Wertetabelle!$C$5),Wertetabelle!$G$6,IF(AND($D16=4,I16=Wertetabelle!$C$6),Wertetabelle!$H$6,IF(AND($D16=4,I16=Wertetabelle!$C$7),Wertetabelle!$I$6,IF(AND($D16=4,I16=Wertetabelle!$C$8),Wertetabelle!$J$6,IF(AND($D16=5,I16=Wertetabelle!$C$2),Wertetabelle!$E$7,IF(AND($D16=5,I16=Wertetabelle!$C$3),Wertetabelle!$E$7,IF(AND($D16=5,I16=Wertetabelle!$C$4),Wertetabelle!$F$7,IF(AND($D16=5,I16=Wertetabelle!$C$5),Wertetabelle!$G$7,IF(AND($D16=5,I16=Wertetabelle!$C$6),Wertetabelle!$H$7,IF(AND($D16=5,I16=Wertetabelle!$C$7),Wertetabelle!$I$7,IF(AND($D16=5,I16=Wertetabelle!$C$8),Wertetabelle!$J$7,IF(AND($D16=6,I16=Wertetabelle!$C$2),Wertetabelle!$E$8,IF(AND($D16=6,I16=Wertetabelle!$C$3),Wertetabelle!$E$8,IF(AND($D16=6,I16=Wertetabelle!$C$4),Wertetabelle!$F$8,IF(AND($D16=6,I16=Wertetabelle!$C$5),Wertetabelle!$G$8,IF(AND($D16=6,I16=Wertetabelle!$C$6),Wertetabelle!$H$8,IF(AND($D16=6,I16=Wertetabelle!$C$7),Wertetabelle!$I$8,IF(AND($D16=6,I16=Wertetabelle!$C$8),Wertetabelle!$J$8,IF(AND($D16=7,I16=Wertetabelle!$C$2),Wertetabelle!$E$9,IF(AND($D16=7,I16=Wertetabelle!$C$3),Wertetabelle!$E$9,IF(AND($D16=7,I16=Wertetabelle!$C$4),Wertetabelle!$F$9,IF(AND($D16=7,I16=Wertetabelle!$C$5),Wertetabelle!$G$9,IF(AND($D16=7,I16=Wertetabelle!$C$6),Wertetabelle!$H$9,IF(AND($D16=7,I16=Wertetabelle!$C$7),Wertetabelle!$I$9,IF(AND($D16=7,I16=Wertetabelle!$C$8),Wertetabelle!$J$9,IF(AND($D16=8,I16=Wertetabelle!$C$2),Wertetabelle!$E$10,IF(AND($D16=8,I16=Wertetabelle!$C$3),Wertetabelle!$E$10,IF(AND($D16=8,I16=Wertetabelle!$C$4),Wertetabelle!$F$10,IF(AND($D16=8,I16=Wertetabelle!$C$5),Wertetabelle!$G$10,IF(AND($D16=8,I16=Wertetabelle!$C$6),Wertetabelle!$H$10,IF(AND($D16=8,I16=Wertetabelle!$C$7),Wertetabelle!$I$10,IF(AND($D16=8,I16=Wertetabelle!$C$8),Wertetabelle!$J$10,0)))))))))))))))))))))))))))))))))))))))))))))))))))))))) -> 0
F17: =IF(AND(D17=1,E17=Wertetabelle!$C$2),Wertetabelle!$E$3,IF(AND(D17=1,E17=Wertetabelle!$C$3),Wertetabelle!$E$3,IF(AND(D17=1,E17=Wertetabelle!$C$4),Wertetabelle!$F$3,IF(AND(D17=1,E17=Wertetabelle!$C$5),Wertetabelle!$G$3,IF(AND(D17=1,E17=Wertetabelle!$C$6),Wertetabelle!$H$3,IF(AND(D17=1,E17=Wertetabelle!$C$7),Wertetabelle!$I$3,IF(AND(D17=1,E17=Wertetabelle!$C$8),Wertetabelle!J14,IF(AND(D17=2,E17=Wertetabelle!$C$2),Wertetabelle!$E$4,IF(AND(D17=2,E17=Wertetabelle!$C$3),Wertetabelle!$E$4,IF(AND(D17=2,E17=Wertetabelle!$C$4),Wertetabelle!$F$4,IF(AND(D17=2,E17=Wertetabelle!$C$5),Wertetabelle!$G$4,IF(AND(D17=2,E17=Wertetabelle!$C$6),Wertetabelle!$H$4,IF(AND(D17=2,E17=Wertetabelle!C18),Wertetabelle!$I$4,IF(AND(D17=2,E17=Wertetabelle!$C$8),Wertetabelle!$J$4,IF(AND(D17=3,E17=Wertetabelle!$C$2),Wertetabelle!$E$5,IF(AND(D17=3,E17=Wertetabelle!$C$3),Wertetabelle!$E$5,IF(AND(D17=3,E17=Wertetabelle!$C$4),Wertetabelle!$F$5,IF(AND(D17=3,E17=Wertetabelle!$C$5),Wertetabelle!$G$5,IF(AND(D17=3,E17=Wertetabelle!$C$6),Wertetabelle!$H$5,IF(AND(D17=3,E17=Wertetabelle!$C$7),Wertetabelle!$I$5,IF(AND(D17=3,E17=Wertetabelle!$C$8),Wertetabelle!$J$5,IF(AND(D17=4,E17=Wertetabelle!$C$2),Wertetabelle!$E$6,IF(AND(D17=4,E17=Wertetabelle!$C$3),Wertetabelle!$E$6,IF(AND(D17=4,E17=Wertetabelle!$C$4),Wertetabelle!$F$6,IF(AND(D17=4,E17=Wertetabelle!$C$5),Wertetabelle!$G$6,IF(AND(D17=4,E17=Wertetabelle!$C$6),Wertetabelle!$H$6,IF(AND(D17=4,E17=Wertetabelle!$C$7),Wertetabelle!$I$6,IF(AND(D17=4,E17=Wertetabelle!$C$8),Wertetabelle!$J$6,IF(AND(D17=5,E17=Wertetabelle!$C$2),Wertetabelle!$E$7,IF(AND(D17=5,E17=Wertetabelle!$C$3),Wertetabelle!$E$7,IF(AND(D17=5,E17=Wertetabelle!$C$4),Wertetabelle!$F$7,IF(AND(D17=5,E17=Wertetabelle!$C$5),Wertetabelle!$G$7,IF(AND(D17=5,E17=Wertetabelle!$C$6),Wertetabelle!$H$7,IF(AND(D17=5,E17=Wertetabelle!$C$7),Wertetabelle!$I$7,IF(AND(D17=5,E17=Wertetabelle!$C$8),Wertetabelle!$J$7,IF(AND(D17=6,E17=Wertetabelle!$C$2),Wertetabelle!$E$8,IF(AND(D17=6,E17=Wertetabelle!$C$3),Wertetabelle!$E$8,IF(AND(D17=6,E17=Wertetabelle!$C$4),Wertetabelle!$F$8,IF(AND(D17=6,E17=Wertetabelle!$C$5),Wertetabelle!$G$8,IF(AND(D17=6,E17=Wertetabelle!$C$6),Wertetabelle!$H$8,IF(AND(D17=6,E17=Wertetabelle!$C$7),Wertetabelle!$I$8,IF(AND(D17=6,E17=Wertetabelle!$C$8),Wertetabelle!$J$8,IF(AND(D17=7,E17=Wertetabelle!$C$2),Wertetabelle!$E$9,IF(AND(D17=7,E17=Wertetabelle!$C$3),Wertetabelle!$E$9,IF(AND(D17=7,E17=Wertetabelle!$C$4),Wertetabelle!$F$9,IF(AND(D17=7,E17=Wertetabelle!$C$5),Wertetabelle!$G$9,IF(AND(D17=7,E17=Wertetabelle!$C$6),Wertetabelle!$H$9,IF(AND(D17=7,E17=Wertetabelle!$C$7),Wertetabelle!$I$9,IF(AND(D17=7,E17=Wertetabelle!$C$8),Wertetabelle!$J$9,IF(AND(D17=8,E17=Wertetabelle!$C$2),Wertetabelle!$E$10,IF(AND(D17=8,E17=Wertetabelle!$C$3),Wertetabelle!$E$10,IF(AND(D17=8,E17=Wertetabelle!$C$4),Wertetabelle!$F$10,IF(AND(D17=8,E17=Wertetabelle!$C$5),Wertetabelle!$G$10,IF(AND(D17=8,E17=Wertetabelle!$C$6),Wertetabelle!$H$10,IF(AND(D17=8,E17=Wertetabelle!$C$7),Wertetabelle!$I$10,IF(AND(D17=8,E17=Wertetabelle!$C$8),Wertetabelle!$J$10,0)))))))))))))))))))))))))))))))))))))))))))))))))))))))) -> 0 | H17: =IF(AND($D17=1,G17=Wertetabelle!$C$2),Wertetabelle!$E$3,IF(AND($D17=1,G17=Wertetabelle!$C$3),Wertetabelle!$E$3,IF(AND($D17=1,G17=Wertetabelle!$C$4),Wertetabelle!$F$3,IF(AND($D17=1,G17=Wertetabelle!$C$5),Wertetabelle!$G$3,IF(AND($D17=1,G17=Wertetabelle!$C$6),Wertetabelle!$H$3,IF(AND($D17=1,G17=Wertetabelle!$C$7),Wertetabelle!$I$3,IF(AND($D17=1,G17=Wertetabelle!$C$8),Wertetabelle!L14,IF(AND($D17=2,G17=Wertetabelle!$C$2),Wertetabelle!$E$4,IF(AND($D17=2,G17=Wertetabelle!$C$3),Wertetabelle!$E$4,IF(AND($D17=2,G17=Wertetabelle!$C$4),Wertetabelle!$F$4,IF(AND($D17=2,G17=Wertetabelle!$C$5),Wertetabelle!$G$4,IF(AND($D17=2,G17=Wertetabelle!$C$6),Wertetabelle!$H$4,IF(AND($D17=2,G17=Wertetabelle!E18),Wertetabelle!$I$4,IF(AND($D17=2,G17=Wertetabelle!$C$8),Wertetabelle!$J$4,IF(AND($D17=3,G17=Wertetabelle!$C$2),Wertetabelle!$E$5,IF(AND($D17=3,G17=Wertetabelle!$C$3),Wertetabelle!$E$5,IF(AND($D17=3,G17=Wertetabelle!$C$4),Wertetabelle!$F$5,IF(AND($D17=3,G17=Wertetabelle!$C$5),Wertetabelle!$G$5,IF(AND($D17=3,G17=Wertetabelle!$C$6),Wertetabelle!$H$5,IF(AND($D17=3,G17=Wertetabelle!$C$7),Wertetabelle!$I$5,IF(AND($D17=3,G17=Wertetabelle!$C$8),Wertetabelle!$J$5,IF(AND($D17=4,G17=Wertetabelle!$C$2),Wertetabelle!$E$6,IF(AND($D17=4,G17=Wertetabelle!$C$3),Wertetabelle!$E$6,IF(AND($D17=4,G17=Wertetabelle!$C$4),Wertetabelle!$F$6,IF(AND($D17=4,G17=Wertetabelle!$C$5),Wertetabelle!$G$6,IF(AND($D17=4,G17=Wertetabelle!$C$6),Wertetabelle!$H$6,IF(AND($D17=4,G17=Wertetabelle!$C$7),Wertetabelle!$I$6,IF(AND($D17=4,G17=Wertetabelle!$C$8),Wertetabelle!$J$6,IF(AND($D17=5,G17=Wertetabelle!$C$2),Wertetabelle!$E$7,IF(AND($D17=5,G17=Wertetabelle!$C$3),Wertetabelle!$E$7,IF(AND($D17=5,G17=Wertetabelle!$C$4),Wertetabelle!$F$7,IF(AND($D17=5,G17=Wertetabelle!$C$5),Wertetabelle!$G$7,IF(AND($D17=5,G17=Wertetabelle!$C$6),Wertetabelle!$H$7,IF(AND($D17=5,G17=Wertetabelle!$C$7),Wertetabelle!$I$7,IF(AND($D17=5,G17=Wertetabelle!$C$8),Wertetabelle!$J$7,IF(AND($D17=6,G17=Wertetabelle!$C$2),Wertetabelle!$E$8,IF(AND($D17=6,G17=Wertetabelle!$C$3),Wertetabelle!$E$8,IF(AND($D17=6,G17=Wertetabelle!$C$4),Wertetabelle!$F$8,IF(AND($D17=6,G17=Wertetabelle!$C$5),Wertetabelle!$G$8,IF(AND($D17=6,G17=Wertetabelle!$C$6),Wertetabelle!$H$8,IF(AND($D17=6,G17=Wertetabelle!$C$7),Wertetabelle!$I$8,IF(AND($D17=6,G17=Wertetabelle!$C$8),Wertetabelle!$J$8,IF(AND($D17=7,G17=Wertetabelle!$C$2),Wertetabelle!$E$9,IF(AND($D17=7,G17=Wertetabelle!$C$3),Wertetabelle!$E$9,IF(AND($D17=7,G17=Wertetabelle!$C$4),Wertetabelle!$F$9,IF(AND($D17=7,G17=Wertetabelle!$C$5),Wertetabelle!$G$9,IF(AND($D17=7,G17=Wertetabelle!$C$6),Wertetabelle!$H$9,IF(AND($D17=7,G17=Wertetabelle!$C$7),Wertetabelle!$I$9,IF(AND($D17=7,G17=Wertetabelle!$C$8),Wertetabelle!$J$9,IF(AND($D17=8,G17=Wertetabelle!$C$2),Wertetabelle!$E$10,IF(AND($D17=8,G17=Wertetabelle!$C$3),Wertetabelle!$E$10,IF(AND($D17=8,G17=Wertetabelle!$C$4),Wertetabelle!$F$10,IF(AND($D17=8,G17=Wertetabelle!$C$5),Wertetabelle!$G$10,IF(AND($D17=8,G17=Wertetabelle!$C$6),Wertetabelle!$H$10,IF(AND($D17=8,G17=Wertetabelle!$C$7),Wertetabelle!$I$10,IF(AND($D17=8,G17=Wertetabelle!$C$8),Wertetabelle!$J$10,0)))))))))))))))))))))))))))))))))))))))))))))))))))))))) -> 0 | J17: =IF(AND($D17=1,I17=Wertetabelle!$C$2),Wertetabelle!$E$3,IF(AND($D17=1,I17=Wertetabelle!$C$3),Wertetabelle!$E$3,IF(AND($D17=1,I17=Wertetabelle!$C$4),Wertetabelle!$F$3,IF(AND($D17=1,I17=Wertetabelle!$C$5),Wertetabelle!$G$3,IF(AND($D17=1,I17=Wertetabelle!$C$6),Wertetabelle!$H$3,IF(AND($D17=1,I17=Wertetabelle!$C$7),Wertetabelle!$I$3,IF(AND($D17=1,I17=Wertetabelle!$C$8),Wertetabelle!N14,IF(AND($D17=2,I17=Wertetabelle!$C$2),Wertetabelle!$E$4,IF(AND($D17=2,I17=Wertetabelle!$C$3),Wertetabelle!$E$4,IF(AND($D17=2,I17=Wertetabelle!$C$4),Wertetabelle!$F$4,IF(AND($D17=2,I17=Wertetabelle!$C$5),Wertetabelle!$G$4,IF(AND($D17=2,I17=Wertetabelle!$C$6),Wertetabelle!$H$4,IF(AND($D17=2,I17=Wertetabelle!G18),Wertetabelle!$I$4,IF(AND($D17=2,I17=Wertetabelle!$C$8),Wertetabelle!$J$4,IF(AND($D17=3,I17=Wertetabelle!$C$2),Wertetabelle!$E$5,IF(AND($D17=3,I17=Wertetabelle!$C$3),Wertetabelle!$E$5,IF(AND($D17=3,I17=Wertetabelle!$C$4),Wertetabelle!$F$5,IF(AND($D17=3,I17=Wertetabelle!$C$5),Wertetabelle!$G$5,IF(AND($D17=3,I17=Wertetabelle!$C$6),Wertetabelle!$H$5,IF(AND($D17=3,I17=Wertetabelle!$C$7),Wertetabelle!$I$5,IF(AND($D17=3,I17=Wertetabelle!$C$8),Wertetabelle!$J$5,IF(AND($D17=4,I17=Wertetabelle!$C$2),Wertetabelle!$E$6,IF(AND($D17=4,I17=Wertetabelle!$C$3),Wertetabelle!$E$6,IF(AND($D17=4,I17=Wertetabelle!$C$4),Wertetabelle!$F$6,IF(AND($D17=4,I17=Wertetabelle!$C$5),Wertetabelle!$G$6,IF(AND($D17=4,I17=Wertetabelle!$C$6),Wertetabelle!$H$6,IF(AND($D17=4,I17=Wertetabelle!$C$7),Wertetabelle!$I$6,IF(AND($D17=4,I17=Wertetabelle!$C$8),Wertetabelle!$J$6,IF(AND($D17=5,I17=Wertetabelle!$C$2),Wertetabelle!$E$7,IF(AND($D17=5,I17=Wertetabelle!$C$3),Wertetabelle!$E$7,IF(AND($D17=5,I17=Wertetabelle!$C$4),Wertetabelle!$F$7,IF(AND($D17=5,I17=Wertetabelle!$C$5),Wertetabelle!$G$7,IF(AND($D17=5,I17=Wertetabelle!$C$6),Wertetabelle!$H$7,IF(AND($D17=5,I17=Wertetabelle!$C$7),Wertetabelle!$I$7,IF(AND($D17=5,I17=Wertetabelle!$C$8),Wertetabelle!$J$7,IF(AND($D17=6,I17=Wertetabelle!$C$2),Wertetabelle!$E$8,IF(AND($D17=6,I17=Wertetabelle!$C$3),Wertetabelle!$E$8,IF(AND($D17=6,I17=Wertetabelle!$C$4),Wertetabelle!$F$8,IF(AND($D17=6,I17=Wertetabelle!$C$5),Wertetabelle!$G$8,IF(AND($D17=6,I17=Wertetabelle!$C$6),Wertetabelle!$H$8,IF(AND($D17=6,I17=Wertetabelle!$C$7),Wertetabelle!$I$8,IF(AND($D17=6,I17=Wertetabelle!$C$8),Wertetabelle!$J$8,IF(AND($D17=7,I17=Wertetabelle!$C$2),Wertetabelle!$E$9,IF(AND($D17=7,I17=Wertetabelle!$C$3),Wertetabelle!$E$9,IF(AND($D17=7,I17=Wertetabelle!$C$4),Wertetabelle!$F$9,IF(AND($D17=7,I17=Wertetabelle!$C$5),Wertetabelle!$G$9,IF(AND($D17=7,I17=Wertetabelle!$C$6),Wertetabelle!$H$9,IF(AND($D17=7,I17=Wertetabelle!$C$7),Wertetabelle!$I$9,IF(AND($D17=7,I17=Wertetabelle!$C$8),Wertetabelle!$J$9,IF(AND($D17=8,I17=Wertetabelle!$C$2),Wertetabelle!$E$10,IF(AND($D17=8,I17=Wertetabelle!$C$3),Wertetabelle!$E$10,IF(AND($D17=8,I17=Wertetabelle!$C$4),Wertetabelle!$F$10,IF(AND($D17=8,I17=Wertetabelle!$C$5),Wertetabelle!$G$10,IF(AND($D17=8,I17=Wertetabelle!$C$6),Wertetabelle!$H$10,IF(AND($D17=8,I17=Wertetabelle!$C$7),Wertetabelle!$I$10,IF(AND($D17=8,I17=Wertetabelle!$C$8),Wertetabelle!$J$10,0)))))))))))))))))))))))))))))))))))))))))))))))))))))))) -> 0
F18: =IF(AND(D18=1,E18=Wertetabelle!$C$2),Wertetabelle!$E$3,IF(AND(D18=1,E18=Wertetabelle!$C$3),Wertetabelle!$E$3,IF(AND(D18=1,E18=Wertetabelle!$C$4),Wertetabelle!$F$3,IF(AND(D18=1,E18=Wertetabelle!$C$5),Wertetabelle!$G$3,IF(AND(D18=1,E18=Wertetabelle!$C$6),Wertetabelle!$H$3,IF(AND(D18=1,E18=Wertetabelle!$C$7),Wertetabelle!$I$3,IF(AND(D18=1,E18=Wertetabelle!$C$8),Wertetabelle!J15,IF(AND(D18=2,E18=Wertetabelle!$C$2),Wertetabelle!$E$4,IF(AND(D18=2,E18=Wertetabelle!$C$3),Wertetabelle!$E$4,IF(AND(D18=2,E18=Wertetabelle!$C$4),Wertetabelle!$F$4,IF(AND(D18=2,E18=Wertetabelle!$C$5),Wertetabelle!$G$4,IF(AND(D18=2,E18=Wertetabelle!$C$6),Wertetabelle!$H$4,IF(AND(D18=2,E18=Wertetabelle!C19),Wertetabelle!$I$4,IF(AND(D18=2,E18=Wertetabelle!$C$8),Wertetabelle!$J$4,IF(AND(D18=3,E18=Wertetabelle!$C$2),Wertetabelle!$E$5,IF(AND(D18=3,E18=Wertetabelle!$C$3),Wertetabelle!$E$5,IF(AND(D18=3,E18=Wertetabelle!$C$4),Wertetabelle!$F$5,IF(AND(D18=3,E18=Wertetabelle!$C$5),Wertetabelle!$G$5,IF(AND(D18=3,E18=Wertetabelle!$C$6),Wertetabelle!$H$5,IF(AND(D18=3,E18=Wertetabelle!$C$7),Wertetabelle!$I$5,IF(AND(D18=3,E18=Wertetabelle!$C$8),Wertetabelle!$J$5,IF(AND(D18=4,E18=Wertetabelle!$C$2),Wertetabelle!$E$6,IF(AND(D18=4,E18=Wertetabelle!$C$3),Wertetabelle!$E$6,IF(AND(D18=4,E18=Wertetabelle!$C$4),Wertetabelle!$F$6,IF(AND(D18=4,E18=Wertetabelle!$C$5),Wertetabelle!$G$6,IF(AND(D18=4,E18=Wertetabelle!$C$6),Wertetabelle!$H$6,IF(AND(D18=4,E18=Wertetabelle!$C$7),Wertetabelle!$I$6,IF(AND(D18=4,E18=Wertetabelle!$C$8),Wertetabelle!$J$6,IF(AND(D18=5,E18=Wertetabelle!$C$2),Wertetabelle!$E$7,IF(AND(D18=5,E18=Wertetabelle!$C$3),Wertetabelle!$E$7,IF(AND(D18=5,E18=Wertetabelle!$C$4),Wertetabelle!$F$7,IF(AND(D18=5,E18=Wertetabelle!$C$5),Wertetabelle!$G$7,IF(AND(D18=5,E18=Wertetabelle!$C$6),Wertetabelle!$H$7,IF(AND(D18=5,E18=Wertetabelle!$C$7),Wertetabelle!$I$7,IF(AND(D18=5,E18=Wertetabelle!$C$8),Wertetabelle!$J$7,IF(AND(D18=6,E18=Wertetabelle!$C$2),Wertetabelle!$E$8,IF(AND(D18=6,E18=Wertetabelle!$C$3),Wertetabelle!$E$8,IF(AND(D18=6,E18=Wertetabelle!$C$4),Wertetabelle!$F$8,IF(AND(D18=6,E18=Wertetabelle!$C$5),Wertetabelle!$G$8,IF(AND(D18=6,E18=Wertetabelle!$C$6),Wertetabelle!$H$8,IF(AND(D18=6,E18=Wertetabelle!$C$7),Wertetabelle!$I$8,IF(AND(D18=6,E18=Wertetabelle!$C$8),Wertetabelle!$J$8,IF(AND(D18=7,E18=Wertetabelle!$C$2),Wertetabelle!$E$9,IF(AND(D18=7,E18=Wertetabelle!$C$3),Wertetabelle!$E$9,IF(AND(D18=7,E18=Wertetabelle!$C$4),Wertetabelle!$F$9,IF(AND(D18=7,E18=Wertetabelle!$C$5),Wertetabelle!$G$9,IF(AND(D18=7,E18=Wertetabelle!$C$6),Wertetabelle!$H$9,IF(AND(D18=7,E18=Wertetabelle!$C$7),Wertetabelle!$I$9,IF(AND(D18=7,E18=Wertetabelle!$C$8),Wertetabelle!$J$9,IF(AND(D18=8,E18=Wertetabelle!$C$2),Wertetabelle!$E$10,IF(AND(D18=8,E18=Wertetabelle!$C$3),Wertetabelle!$E$10,IF(AND(D18=8,E18=Wertetabelle!$C$4),Wertetabelle!$F$10,IF(AND(D18=8,E18=Wertetabelle!$C$5),Wertetabelle!$G$10,IF(AND(D18=8,E18=Wertetabelle!$C$6),Wertetabelle!$H$10,IF(AND(D18=8,E18=Wertetabelle!$C$7),Wertetabelle!$I$10,IF(AND(D18=8,E18=Wertetabelle!$C$8),Wertetabelle!$J$10,0)))))))))))))))))))))))))))))))))))))))))))))))))))))))) -> 0 | H18: =IF(AND($D18=1,G18=Wertetabelle!$C$2),Wertetabelle!$E$3,IF(AND($D18=1,G18=Wertetabelle!$C$3),Wertetabelle!$E$3,IF(AND($D18=1,G18=Wertetabelle!$C$4),Wertetabelle!$F$3,IF(AND($D18=1,G18=Wertetabelle!$C$5),Wertetabelle!$G$3,IF(AND($D18=1,G18=Wertetabelle!$C$6),Wertetabelle!$H$3,IF(AND($D18=1,G18=Wertetabelle!$C$7),Wertetabelle!$I$3,IF(AND($D18=1,G18=Wertetabelle!$C$8),Wertetabelle!L15,IF(AND($D18=2,G18=Wertetabelle!$C$2),Wertetabelle!$E$4,IF(AND($D18=2,G18=Wertetabelle!$C$3),Wertetabelle!$E$4,IF(AND($D18=2,G18=Wertetabelle!$C$4),Wertetabelle!$F$4,IF(AND($D18=2,G18=Wertetabelle!$C$5),Wertetabelle!$G$4,IF(AND($D18=2,G18=Wertetabelle!$C$6),Wertetabelle!$H$4,IF(AND($D18=2,G18=Wertetabelle!E19),Wertetabelle!$I$4,IF(AND($D18=2,G18=Wertetabelle!$C$8),Wertetabelle!$J$4,IF(AND($D18=3,G18=Wertetabelle!$C$2),Wertetabelle!$E$5,IF(AND($D18=3,G18=Wertetabelle!$C$3),Wertetabelle!$E$5,IF(AND($D18=3,G18=Wertetabelle!$C$4),Wertetabelle!$F$5,IF(AND($D18=3,G18=Wertetabelle!$C$5),Wertetabelle!$G$5,IF(AND($D18=3,G18=Wertetabelle!$C$6),Wertetabelle!$H$5,IF(AND($D18=3,G18=Wertetabelle!$C$7),Wertetabelle!$I$5,IF(AND($D18=3,G18=Wertetabelle!$C$8),Wertetabelle!$J$5,IF(AND($D18=4,G18=Wertetabelle!$C$2),Wertetabelle!$E$6,IF(AND($D18=4,G18=Wertetabelle!$C$3),Wertetabelle!$E$6,IF(AND($D18=4,G18=Wertetabelle!$C$4),Wertetabelle!$F$6,IF(AND($D18=4,G18=Wertetabelle!$C$5),Wertetabelle!$G$6,IF(AND($D18=4,G18=Wertetabelle!$C$6),Wertetabelle!$H$6,IF(AND($D18=4,G18=Wertetabelle!$C$7),Wertetabelle!$I$6,IF(AND($D18=4,G18=Wertetabelle!$C$8),Wertetabelle!$J$6,IF(AND($D18=5,G18=Wertetabelle!$C$2),Wertetabelle!$E$7,IF(AND($D18=5,G18=Wertetabelle!$C$3),Wertetabelle!$E$7,IF(AND($D18=5,G18=Wertetabelle!$C$4),Wertetabelle!$F$7,IF(AND($D18=5,G18=Wertetabelle!$C$5),Wertetabelle!$G$7,IF(AND($D18=5,G18=Wertetabelle!$C$6),Wertetabelle!$H$7,IF(AND($D18=5,G18=Wertetabelle!$C$7),Wertetabelle!$I$7,IF(AND($D18=5,G18=Wertetabelle!$C$8),Wertetabelle!$J$7,IF(AND($D18=6,G18=Wertetabelle!$C$2),Wertetabelle!$E$8,IF(AND($D18=6,G18=Wertetabelle!$C$3),Wertetabelle!$E$8,IF(AND($D18=6,G18=Wertetabelle!$C$4),Wertetabelle!$F$8,IF(AND($D18=6,G18=Wertetabelle!$C$5),Wertetabelle!$G$8,IF(AND($D18=6,G18=Wertetabelle!$C$6),Wertetabelle!$H$8,IF(AND($D18=6,G18=Wertetabelle!$C$7),Wertetabelle!$I$8,IF(AND($D18=6,G18=Wertetabelle!$C$8),Wertetabelle!$J$8,IF(AND($D18=7,G18=Wertetabelle!$C$2),Wertetabelle!$E$9,IF(AND($D18=7,G18=Wertetabelle!$C$3),Wertetabelle!$E$9,IF(AND($D18=7,G18=Wertetabelle!$C$4),Wertetabelle!$F$9,IF(AND($D18=7,G18=Wertetabelle!$C$5),Wertetabelle!$G$9,IF(AND($D18=7,G18=Wertetabelle!$C$6),Wertetabelle!$H$9,IF(AND($D18=7,G18=Wertetabelle!$C$7),Wertetabelle!$I$9,IF(AND($D18=7,G18=Wertetabelle!$C$8),Wertetabelle!$J$9,IF(AND($D18=8,G18=Wertetabelle!$C$2),Wertetabelle!$E$10,IF(AND($D18=8,G18=Wertetabelle!$C$3),Wertetabelle!$E$10,IF(AND($D18=8,G18=Wertetabelle!$C$4),Wertetabelle!$F$10,IF(AND($D18=8,G18=Wertetabelle!$C$5),Wertetabelle!$G$10,IF(AND($D18=8,G18=Wertetabelle!$C$6),Wertetabelle!$H$10,IF(AND($D18=8,G18=Wertetabelle!$C$7),Wertetabelle!$I$10,IF(AND($D18=8,G18=Wertetabelle!$C$8),Wertetabelle!$J$10,0)))))))))))))))))))))))))))))))))))))))))))))))))))))))) -> 0 | J18: =IF(AND($D18=1,I18=Wertetabelle!$C$2),Wertetabelle!$E$3,IF(AND($D18=1,I18=Wertetabelle!$C$3),Wertetabelle!$E$3,IF(AND($D18=1,I18=Wertetabelle!$C$4),Wertetabelle!$F$3,IF(AND($D18=1,I18=Wertetabelle!$C$5),Wertetabelle!$G$3,IF(AND($D18=1,I18=Wertetabelle!$C$6),Wertetabelle!$H$3,IF(AND($D18=1,I18=Wertetabelle!$C$7),Wertetabelle!$I$3,IF(AND($D18=1,I18=Wertetabelle!$C$8),Wertetabelle!N15,IF(AND($D18=2,I18=Wertetabelle!$C$2),Wertetabelle!$E$4,IF(AND($D18=2,I18=Wertetabelle!$C$3),Wertetabelle!$E$4,IF(AND($D18=2,I18=Wertetabelle!$C$4),Wertetabelle!$F$4,IF(AND($D18=2,I18=Wertetabelle!$C$5),Wertetabelle!$G$4,IF(AND($D18=2,I18=Wertetabelle!$C$6),Wertetabelle!$H$4,IF(AND($D18=2,I18=Wertetabelle!G19),Wertetabelle!$I$4,IF(AND($D18=2,I18=Wertetabelle!$C$8),Wertetabelle!$J$4,IF(AND($D18=3,I18=Wertetabelle!$C$2),Wertetabelle!$E$5,IF(AND($D18=3,I18=Wertetabelle!$C$3),Wertetabelle!$E$5,IF(AND($D18=3,I18=Wertetabelle!$C$4),Wertetabelle!$F$5,IF(AND($D18=3,I18=Wertetabelle!$C$5),Wertetabelle!$G$5,IF(AND($D18=3,I18=Wertetabelle!$C$6),Wertetabelle!$H$5,IF(AND($D18=3,I18=Wertetabelle!$C$7),Wertetabelle!$I$5,IF(AND($D18=3,I18=Wertetabelle!$C$8),Wertetabelle!$J$5,IF(AND($D18=4,I18=Wertetabelle!$C$2),Wertetabelle!$E$6,IF(AND($D18=4,I18=Wertetabelle!$C$3),Wertetabelle!$E$6,IF(AND($D18=4,I18=Wertetabelle!$C$4),Wertetabelle!$F$6,IF(AND($D18=4,I18=Wertetabelle!$C$5),Wertetabelle!$G$6,IF(AND($D18=4,I18=Wertetabelle!$C$6),Wertetabelle!$H$6,IF(AND($D18=4,I18=Wertetabelle!$C$7),Wertetabelle!$I$6,IF(AND($D18=4,I18=Wertetabelle!$C$8),Wertetabelle!$J$6,IF(AND($D18=5,I18=Wertetabelle!$C$2),Wertetabelle!$E$7,IF(AND($D18=5,I18=Wertetabelle!$C$3),Wertetabelle!$E$7,IF(AND($D18=5,I18=Wertetabelle!$C$4),Wertetabelle!$F$7,IF(AND($D18=5,I18=Wertetabelle!$C$5),Wertetabelle!$G$7,IF(AND($D18=5,I18=Wertetabelle!$C$6),Wertetabelle!$H$7,IF(AND($D18=5,I18=Wertetabelle!$C$7),Wertetabelle!$I$7,IF(AND($D18=5,I18=Wertetabelle!$C$8),Wertetabelle!$J$7,IF(AND($D18=6,I18=Wertetabelle!$C$2),Wertetabelle!$E$8,IF(AND($D18=6,I18=Wertetabelle!$C$3),Wertetabelle!$E$8,IF(AND($D18=6,I18=Wertetabelle!$C$4),Wertetabelle!$F$8,IF(AND($D18=6,I18=Wertetabelle!$C$5),Wertetabelle!$G$8,IF(AND($D18=6,I18=Wertetabelle!$C$6),Wertetabelle!$H$8,IF(AND($D18=6,I18=Wertetabelle!$C$7),Wertetabelle!$I$8,IF(AND($D18=6,I18=Wertetabelle!$C$8),Wertetabelle!$J$8,IF(AND($D18=7,I18=Wertetabelle!$C$2),Wertetabelle!$E$9,IF(AND($D18=7,I18=Wertetabelle!$C$3),Wertetabelle!$E$9,IF(AND($D18=7,I18=Wertetabelle!$C$4),Wertetabelle!$F$9,IF(AND($D18=7,I18=Wertetabelle!$C$5),Wertetabelle!$G$9,IF(AND($D18=7,I18=Wertetabelle!$C$6),Wertetabelle!$H$9,IF(AND($D18=7,I18=Wertetabelle!$C$7),Wertetabelle!$I$9,IF(AND($D18=7,I18=Wertetabelle!$C$8),Wertetabelle!$J$9,IF(AND($D18=8,I18=Wertetabelle!$C$2),Wertetabelle!$E$10,IF(AND($D18=8,I18=Wertetabelle!$C$3),Wertetabelle!$E$10,IF(AND($D18=8,I18=Wertetabelle!$C$4),Wertetabelle!$F$10,IF(AND($D18=8,I18=Wertetabelle!$C$5),Wertetabelle!$G$10,IF(AND($D18=8,I18=Wertetabelle!$C$6),Wertetabelle!$H$10,IF(AND($D18=8,I18=Wertetabelle!$C$7),Wertetabelle!$I$10,IF(AND($D18=8,I18=Wertetabelle!$C$8),Wertetabelle!$J$10,0)))))))))))))))))))))))))))))))))))))))))))))))))))))))) -> 0
... F40: =IF(AND(D40=1,E40=Wertetabelle!$C$2),Wertetabelle!$E$3,IF(AND(D40=1,E40=Wertetabelle!$C$3),Wertetabelle!$E$3,IF(AND(D40=1,E40=Wertetabelle!$C$4),Wertetabelle!$F$3,IF(AND(D40=1,E40=Wertetabelle!$C$5),Wertetabelle!$G$3,IF(AND(D40=1,E40=Wertetabelle!$C$6),Wertetabelle!$H$3,IF(AND(D40=1,E40=Wertetabelle!$C$7),Wertetabelle!$I$3,IF(AND(D40=1,E40=Wertetabelle!$C$8),Wertetabelle!J37,IF(AND(D40=2,E40=Wertetabelle!$C$2),Wertetabelle!$E$4,IF(AND(D40=2,E40=Wertetabelle!$C$3),Wertetabelle!$E$4,IF(AND(D40=2,E40=Wertetabelle!$C$4),Wertetabelle!$F$4,IF(AND(D40=2,E40=Wertetabelle!$C$5),Wertetabelle!$G$4,IF(AND(D40=2,E40=Wertetabelle!$C$6),Wertetabelle!$H$4,IF(AND(D40=2,E40=Wertetabelle!C41),Wertetabelle!$I$4,IF(AND(D40=2,E40=Wertetabelle!$C$8),Wertetabelle!$J$4,IF(AND(D40=3,E40=Wertetabelle!$C$2),Wertetabelle!$E$5,IF(AND(D40=3,E40=Wertetabelle!$C$3),Wertetabelle!$E$5,IF(AND(D40=3,E40=Wertetabelle!$C$4),Wertetabelle!$F$5,IF(AND(D40=3,E40=Wertetabelle!$C$5),Wertetabelle!$G$5,IF(AND(D40=3,E40=Wertetabelle!$C$6),Wertetabelle!$H$5,IF(AND(D40=3,E40=Wertetabelle!$C$7),Wertetabelle!$I$5,IF(AND(D40=3,E40=Wertetabelle!$C$8),Wertetabelle!$J$5,IF(AND(D40=4,E40=Wertetabelle!$C$2),Wertetabelle!$E$6,IF(AND(D40=4,E40=Wertetabelle!$C$3),Wertetabelle!$E$6,IF(AND(D40=4,E40=Wertetabelle!$C$4),Wertetabelle!$F$6,IF(AND(D40=4,E40=Wertetabelle!$C$5),Wertetabelle!$G$6,IF(AND(D40=4,E40=Wertetabelle!$C$6),Wertetabelle!$H$6,IF(AND(D40=4,E40=Wertetabelle!$C$7),Wertetabelle!$I$6,IF(AND(D40=4,E40=Wertetabelle!$C$8),Wertetabelle!$J$6,IF(AND(D40=5,E40=Wertetabelle!$C$2),Wertetabelle!$E$7,IF(AND(D40=5,E40=Wertetabelle!$C$3),Wertetabelle!$E$7,IF(AND(D40=5,E40=Wertetabelle!$C$4),Wertetabelle!$F$7,IF(AND(D40=5,E40=Wertetabelle!$C$5),Wertetabelle!$G$7,IF(AND(D40=5,E40=Wertetabelle!$C$6),Wertetabelle!$H$7,IF(AND(D40=5,E40=Wertetabelle!$C$7),Wertetabelle!$I$7,IF(AND(D40=5,E40=Wertetabelle!$C$8),Wertetabelle!$J$7,IF(AND(D40=6,E40=Wertetabelle!$C$2),Wertetabelle!$E$8,IF(AND(D40=6,E40=Wertetabelle!$C$3),Wertetabelle!$E$8,IF(AND(D40=6,E40=Wertetabelle!$C$4),Wertetabelle!$F$8,IF(AND(D40=6,E40=Wertetabelle!$C$5),Wertetabelle!$G$8,IF(AND(D40=6,E40=Wertetabelle!$C$6),Wertetabelle!$H$8,IF(AND(D40=6,E40=Wertetabelle!$C$7),Wertetabelle!$I$8,IF(AND(D40=6,E40=Wertetabelle!$C$8),Wertetabelle!$J$8,IF(AND(D40=7,E40=Wertetabelle!$C$2),Wertetabelle!$E$9,IF(AND(D40=7,E40=Wertetabelle!$C$3),Wertetabelle!$E$9,IF(AND(D40=7,E40=Wertetabelle!$C$4),Wertetabelle!$F$9,IF(AND(D40=7,E40=Wertetabelle!$C$5),Wertetabelle!$G$9,IF(AND(D40=7,E40=Wertetabelle!$C$6),Wertetabelle!$H$9,IF(AND(D40=7,E40=Wertetabelle!$C$7),Wertetabelle!$I$9,IF(AND(D40=7,E40=Wertetabelle!$C$8),Wertetabelle!$J$9,IF(AND(D40=8,E40=Wertetabelle!$C$2),Wertetabelle!$E$10,IF(AND(D40=8,E40=Wertetabelle!$C$3),Wertetabelle!$E$10,IF(AND(D40=8,E40=Wertetabelle!$C$4),Wertetabelle!$F$10,IF(AND(D40=8,E40=Wertetabelle!$C$5),Wertetabelle!$G$10,IF(AND(D40=8,E40=Wertetabelle!$C$6),Wertetabelle!$H$10,IF(AND(D40=8,E40=Wertetabelle!$C$7),Wertetabelle!$I$10,IF(AND(D40=8,E40=Wertetabelle!$C$8),Wertetabelle!$J$10,0)))))))))))))))))))))))))))))))))))))))))))))))))))))))) -> 0 | H40: =IF(AND($D40=1,G40=Wertetabelle!$C$2),Wertetabelle!$E$3,IF(AND($D40=1,G40=Wertetabelle!$C$3),Wertetabelle!$E$3,IF(AND($D40=1,G40=Wertetabelle!$C$4),Wertetabelle!$F$3,IF(AND($D40=1,G40=Wertetabelle!$C$5),Wertetabelle!$G$3,IF(AND($D40=1,G40=Wertetabelle!$C$6),Wertetabelle!$H$3,IF(AND($D40=1,G40=Wertetabelle!$C$7),Wertetabelle!$I$3,IF(AND($D40=1,G40=Wertetabelle!$C$8),Wertetabelle!L37,IF(AND($D40=2,G40=Wertetabelle!$C$2),Wertetabelle!$E$4,IF(AND($D40=2,G40=Wertetabelle!$C$3),Wertetabelle!$E$4,IF(AND($D40=2,G40=Wertetabelle!$C$4),Wertetabelle!$F$4,IF(AND($D40=2,G40=Wertetabelle!$C$5),Wertetabelle!$G$4,IF(AND($D40=2,G40=Wertetabelle!$C$6),Wertetabelle!$H$4,IF(AND($D40=2,G40=Wertetabelle!E41),Wertetabelle!$I$4,IF(AND($D40=2,G40=Wertetabelle!$C$8),Wertetabelle!$J$4,IF(AND($D40=3,G40=Wertetabelle!$C$2),Wertetabelle!$E$5,IF(AND($D40=3,G40=Wertetabelle!$C$3),Wertetabelle!$E$5,IF(AND($D40=3,G40=Wertetabelle!$C$4),Wertetabelle!$F$5,IF(AND($D40=3,G40=Wertetabelle!$C$5),Wertetabelle!$G$5,IF(AND($D40=3,G40=Wertetabelle!$C$6),Wertetabelle!$H$5,IF(AND($D40=3,G40=Wertetabelle!$C$7),Wertetabelle!$I$5,IF(AND($D40=3,G40=Wertetabelle!$C$8),Wertetabelle!$J$5,IF(AND($D40=4,G40=Wertetabelle!$C$2),Wertetabelle!$E$6,IF(AND($D40=4,G40=Wertetabelle!$C$3),Wertetabelle!$E$6,IF(AND($D40=4,G40=Wertetabelle!$C$4),Wertetabelle!$F$6,IF(AND($D40=4,G40=Wertetabelle!$C$5),Wertetabelle!$G$6,IF(AND($D40=4,G40=Wertetabelle!$C$6),Wertetabelle!$H$6,IF(AND($D40=4,G40=Wertetabelle!$C$7),Wertetabelle!$I$6,IF(AND($D40=4,G40=Wertetabelle!$C$8),Wertetabelle!$J$6,IF(AND($D40=5,G40=Wertetabelle!$C$2),Wertetabelle!$E$7,IF(AND($D40=5,G40=Wertetabelle!$C$3),Wertetabelle!$E$7,IF(AND($D40=5,G40=Wertetabelle!$C$4),Wertetabelle!$F$7,IF(AND($D40=5,G40=Wertetabelle!$C$5),Wertetabelle!$G$7,IF(AND($D40=5,G40=Wertetabelle!$C$6),Wertetabelle!$H$7,IF(AND($D40=5,G40=Wertetabelle!$C$7),Wertetabelle!$I$7,IF(AND($D40=5,G40=Wertetabelle!$C$8),Wertetabelle!$J$7,IF(AND($D40=6,G40=Wertetabelle!$C$2),Wertetabelle!$E$8,IF(AND($D40=6,G40=Wertetabelle!$C$3),Wertetabelle!$E$8,IF(AND($D40=6,G40=Wertetabelle!$C$4),Wertetabelle!$F$8,IF(AND($D40=6,G40=Wertetabelle!$C$5),Wertetabelle!$G$8,IF(AND($D40=6,G40=Wertetabelle!$C$6),Wertetabelle!$H$8,IF(AND($D40=6,G40=Wertetabelle!$C$7),Wertetabelle!$I$8,IF(AND($D40=6,G40=Wertetabelle!$C$8),Wertetabelle!$J$8,IF(AND($D40=7,G40=Wertetabelle!$C$2),Wertetabelle!$E$9,IF(AND($D40=7,G40=Wertetabelle!$C$3),Wertetabelle!$E$9,IF(AND($D40=7,G40=Wertetabelle!$C$4),Wertetabelle!$F$9,IF(AND($D40=7,G40=Wertetabelle!$C$5),Wertetabelle!$G$9,IF(AND($D40=7,G40=Wertetabelle!$C$6),Wertetabelle!$H$9,IF(AND($D40=7,G40=Wertetabelle!$C$7),Wertetabelle!$I$9,IF(AND($D40=7,G40=Wertetabelle!$C$8),Wertetabelle!$J$9,IF(AND($D40=8,G40=Wertetabelle!$C$2),Wertetabelle!$E$10,IF(AND($D40=8,G40=Wertetabelle!$C$3),Wertetabelle!$E$10,IF(AND($D40=8,G40=Wertetabelle!$C$4),Wertetabelle!$F$10,IF(AND($D40=8,G40=Wertetabelle!$C$5),Wertetabelle!$G$10,IF(AND($D40=8,G40=Wertetabelle!$C$6),Wertetabelle!$H$10,IF(AND($D40=8,G40=Wertetabelle!$C$7),Wertetabelle!$I$10,IF(AND($D40=8,G40=Wertetabelle!$C$8),Wertetabelle!$J$10,0)))))))))))))))))))))))))))))))))))))))))))))))))))))))) -> 0 | J40: =IF(AND($D40=1,I40=Wertetabelle!$C$2),Wertetabelle!$E$3,IF(AND($D40=1,I40=Wertetabelle!$C$3),Wertetabelle!$E$3,IF(AND($D40=1,I40=Wertetabelle!$C$4),Wertetabelle!$F$3,IF(AND($D40=1,I40=Wertetabelle!$C$5),Wertetabelle!$G$3,IF(AND($D40=1,I40=Wertetabelle!$C$6),Wertetabelle!$H$3,IF(AND($D40=1,I40=Wertetabelle!$C$7),Wertetabelle!$I$3,IF(AND($D40=1,I40=Wertetabelle!$C$8),Wertetabelle!N37,IF(AND($D40=2,I40=Wertetabelle!$C$2),Wertetabelle!$E$4,IF(AND($D40=2,I40=Wertetabelle!$C$3),Wertetabelle!$E$4,IF(AND($D40=2,I40=Wertetabelle!$C$4),Wertetabelle!$F$4,IF(AND($D40=2,I40=Wertetabelle!$C$5),Wertetabelle!$G$4,IF(AND($D40=2,I40=Wertetabelle!$C$6),Wertetabelle!$H$4,IF(AND($D40=2,I40=Wertetabelle!G41),Wertetabelle!$I$4,IF(AND($D40=2,I40=Wertetabelle!$C$8),Wertetabelle!$J$4,IF(AND($D40=3,I40=Wertetabelle!$C$2),Wertetabelle!$E$5,IF(AND($D40=3,I40=Wertetabelle!$C$3),Wertetabelle!$E$5,IF(AND($D40=3,I40=Wertetabelle!$C$4),Wertetabelle!$F$5,IF(AND($D40=3,I40=Wertetabelle!$C$5),Wertetabelle!$G$5,IF(AND($D40=3,I40=Wertetabelle!$C$6),Wertetabelle!$H$5,IF(AND($D40=3,I40=Wertetabelle!$C$7),Wertetabelle!$I$5,IF(AND($D40=3,I40=Wertetabelle!$C$8),Wertetabelle!$J$5,IF(AND($D40=4,I40=Wertetabelle!$C$2),Wertetabelle!$E$6,IF(AND($D40=4,I40=Wertetabelle!$C$3),Wertetabelle!$E$6,IF(AND($D40=4,I40=Wertetabelle!$C$4),Wertetabelle!$F$6,IF(AND($D40=4,I40=Wertetabelle!$C$5),Wertetabelle!$G$6,IF(AND($D40=4,I40=Wertetabelle!$C$6),Wertetabelle!$H$6,IF(AND($D40=4,I40=Wertetabelle!$C$7),Wertetabelle!$I$6,IF(AND($D40=4,I40=Wertetabelle!$C$8),Wertetabelle!$J$6,IF(AND($D40=5,I40=Wertetabelle!$C$2),Wertetabelle!$E$7,IF(AND($D40=5,I40=Wertetabelle!$C$3),Wertetabelle!$E$7,IF(AND($D40=5,I40=Wertetabelle!$C$4),Wertetabelle!$F$7,IF(AND($D40=5,I40=Wertetabelle!$C$5),Wertetabelle!$G$7,IF(AND($D40=5,I40=Wertetabelle!$C$6),Wertetabelle!$H$7,IF(AND($D40=5,I40=Wertetabelle!$C$7),Wertetabelle!$I$7,IF(AND($D40=5,I40=Wertetabelle!$C$8),Wertetabelle!$J$7,IF(AND($D40=6,I40=Wertetabelle!$C$2),Wertetabelle!$E$8,IF(AND($D40=6,I40=Wertetabelle!$C$3),Wertetabelle!$E$8,IF(AND($D40=6,I40=Wertetabelle!$C$4),Wertetabelle!$F$8,IF(AND($D40=6,I40=Wertetabelle!$C$5),Wertetabelle!$G$8,IF(AND($D40=6,I40=Wertetabelle!$C$6),Wertetabelle!$H$8,IF(AND($D40=6,I40=Wertetabelle!$C$7),Wertetabelle!$I$8,IF(AND($D40=6,I40=Wertetabelle!$C$8),Wertetabelle!$J$8,IF(AND($D40=7,I40=Wertetabelle!$C$2),Wertetabelle!$E$9,IF(AND($D40=7,I40=Wertetabelle!$C$3),Wertetabelle!$E$9,IF(AND($D40=7,I40=Wertetabelle!$C$4),Wertetabelle!$F$9,IF(AND($D40=7,I40=Wertetabelle!$C$5),Wertetabelle!$G$9,IF(AND($D40=7,I40=Wertetabelle!$C$6),Wertetabelle!$H$9,IF(AND($D40=7,I40=Wertetabelle!$C$7),Wertetabelle!$I$9,IF(AND($D40=7,I40=Wertetabelle!$C$8),Wertetabelle!$J$9,IF(AND($D40=8,I40=Wertetabelle!$C$2),Wertetabelle!$E$10,IF(AND($D40=8,I40=Wertetabelle!$C$3),Wertetabelle!$E$10,IF(AND($D40=8,I40=Wertetabelle!$C$4),Wertetabelle!$F$10,IF(AND($D40=8,I40=Wertetabelle!$C$5),Wertetabelle!$G$10,IF(AND($D40=8,I40=Wertetabelle!$C$6),Wertetabelle!$H$10,IF(AND($D40=8,I40=Wertetabelle!$C$7),Wertetabelle!$I$10,IF(AND($D40=8,I40=Wertetabelle!$C$8),Wertetabelle!$J$10,0)))))))))))))))))))))))))))))))))))))))))))))))))))))))) -> 0
A41: Punktedurchschnitt der fünf besten Resultate. Bei weniger Resultaten gibt es 0 Punkte. | F41: {=IF(COUNTIF(E$6:E$40,"<>")>4,AVERAGE(LARGE(F$6:F$40,{1;2;3;4;5})),0)} -> 0 | H41: {=IF(COUNTIF(G$6:G$40,"<>")>4,AVERAGE(LARGE(H$6:H$40,{1;2;3;4;5})),0)} -> 0 | J41: {=IF(COUNTIF(I$6:I$40,"<>")>4,AVERAGE(LARGE(J$6:J$40,{1;2;3;4;5})),0)} -> 0
A42: Es zählen alle Turniere im Zeitraum 1. Oktober 2025 - 30. September 2026
A44: Werte gemäss Auswahllisten eintragen
A45: Turnierliste (nicht abschliessend)
A46: Die Punkte werden automatisch berechnet
A47: Der Punktedurchschnitt wird automatisch berechnet
A49: * Interclub zählt nicht
A50: * BST und andere Turniere für Erwachsene zählen nicht
A51: * Teamturniere zählen nicht

Sheet Turnierliste
A1: Turniername | B1: Teilnehmerfeld | C1: Turnierkategorie
A2: 8-Nations U15 | B2: International | C2: 1
A3: Adria U17 International | B3: International | C3: 4
A4: Adria Youth International | B4: International | C4: 4
A5: All England Junior Badminton Championships | B5: International | C5: 4
A6: Armenian Youth Open 2024 | B6: International | C6: 4
A7: Austrian U17 International | B7: International | C7: 4
A8: Austrian U17 Open | B8: International | C8: 4
A9: Babolat – French International Borders | B9: International | C9: 4
A10: BABOLAT German U17 Open | B10: International | C10: 4
A11: Bozner Frühling | B11: International | C11: 6
A12: Bulgaria U17 International | B12: International | C12: 4
A13: Bulgaria Youth International | B13: International | C13: 4
... A21: CJ - Masters romand | B21: Regional | C21: 8
A22: Coupe l'Avenir | B22: Regional | C22: zählt nicht
A23: Croatia VALAMAR Junior Open | B23: International | C23: 4
A24: Cyprus Junior | B24: International | C24: 4
A25: Cyprus U17 International | B25: International | C25: 4
A26: Cyprus Youth International | B26: International | C26: 4
A27: Czech Junior International Orlová | B27: International | C27: 4
A28: Danish Junior Cup | B28: International | C28: 3
A29: Danish Junior Cup U17 | B29: International | C29: 4
A30: Danish Junior Open | B30: International | C30: 4
A31: ENEA Polish U19 Open presented by VICTOR | B31: International | C31: 4
A32: European Junior Championships | B32: International | C32: 1
A33: European U15 Championships | B33: International | C33: 1
A34: European U17 Championships | B34: International | C34: 1
... A58: OLIVER Czech U17 International | B58: International | C58: 4
A59: Piccolo-Interclub-Meisterschaft PIC 2024 / Aargauer Schülermeisterschaft ASM | B59: Regional | C59: zählt nicht
A60: Polish Open U15 | B60: International | C60: 4
A61: Polish U17 Masters | B61: International | C61: 4
A62: RSL Lithuanian Junior | B62: International | C62: 4
A63: RTJ - Argovia Junior Cup | B63: Regional | C63: 8
A64: RTJ - AVcB Tournoi de Combremont | B64: Regional | C64: 8
A65: RTJ - Bahiko-Cup | B65: Regional | C65: 8
A66: RTJ - BC Bülach | B66: Regional | C66: 8
A67: RTJ - BC Nürensdorf | B67: Regional | C67: 8
A68: RTJ - BC Rapperswil Jona | B68: Regional | C68: 8
A69: RTJ - Berner Badminton Junioren Meisterschaften | B69: Regional | C69: 8
A70: RTJ - BRB (alle Turniere dieser Art) | B70: Regional | C70: 8
A71: RTJ - BVN Junior Tour (alle Turniere dieser Art) | B71: Regional | C71: 8
... A116: Swedish Youth Games | B116: International | C116: 4
A117: Swiss Badminton Kids Trophy | B117: Regional | C117: zählt nicht
A118: Swiss Kids Aargau | B118: Regional | C118: zählt nicht
A119: TEM Slovenia Mirna U17 International | B119: International | C119: 4
A120: Victor - International Jeunes Nouvelle - Aquitaine, Telence | B120: International | C120: 4
A121: VICTOR Denmark Junior | B121: International | C121: 4
A122: VICTOR Denmark Junior (U17) | B122: International | C122: 4
A123: Victor Hofsteig Youth International | B123: International | C123: 4
A124: VICTOR International Jeunes Nouvelle-Aquitaine 2024 | B124: International | C124: 4
A125: VICTOR JOT Tournament U17 | B125: International | C125: 4
A126: VICTOR JOT U11-U15 | B126: International | C126: 4
A127: VICTOR JOT U17 | B127: International | C127: 4
A128: VICTOR Latvia U17 | B128: International | C128: 4
A129: VICTOR U19 Irish Open | B129: International | C129: 4
A130: XV Portugal Junior International | B130: International | C130: 4
... A149: Youth Olympic Games (YOG) | B149: International | C149: 1

Sheet Wertetabelle
A1: Teilnehmerfelder | B1: Turnierkategorien | C1: Resultate | D1: Punkte
A2: Regional | B2: 1 | C2: 1. Rang | D2: Turnierkategorie | E2: Finalteilnahme (Top 2) | F2: Halbfinalteilnahme (Top 4) | G2: Viertelfinalteilnahme (Top 8) | H2: Top 16 | I2: Top 32 | J2: Weniger gut als 32
A3: National | B3: 2 | C3: 2. Rang | D3: 1 = Repräsentative Events (JWM, JEM, YOG, U17-EM, EYOF, U15-EM) | E3: 5 | F3: 5 | G3: 5 | H3: 4.5 | I3: 4.5 | J3: 0
A4: International | B4: 3 | C4: Halbfinalteilnahme (Top 4) | D4: 2 = SME Final | E4: 4.5 | F4: 4.5 | G4: 4 | H4: 4 | J4: 0
B5: 4 | C5: Viertelfinalteilnahme (Top 8) | D5: 3 = Junior Int. Grand Prix Turniere + Danish Junior Cup | E5: 4.5 | F5: 4.5 | G5: 4 | H5: 4 | I5: 3 | J5: 0
B6: 5 | C6: Top 16 | D6: 4 = Junior Int. Series / Junior Future Series / Junior Int. Challenge BEC -U17 / U13 - U15 | E6: 4.5 | F6: 4 | G6: 4 | H6: 3.5 | I6: 3 | J6: 0
B7: 6 | C7: Top 32 | D7: 5 = SMJ | E7: 3.5 | F7: 3 | G7: 2.5 | H7: 2.5 | J7: 0
B8: 7 | C8: Weniger gut als Top 32 | D8: 6 = Internationale Turniere, die nicht über BEC oder BWF laufen (z.B. Bodensee-Jugendturnier, Luxembourg Youngsters, Waghäusel, etc.) | E8: 3 | F8: 2.5 | G8: 2 | H8: 1.5 | I8: 1.5 | J8: 0
B9: 8 | D9: 7 = SBJS | E9: 2.5 | F9: 2 | G9: 2 | H9: 1.5 | I9: 1.5 | J9: 0
D10: 8 = RTJ Regional / CJ Circuit Juniors | E10: 1 | F10: 1 | G10: 0.5 | H10: 0.5 | I10: 0 | J10: 0
B11: 1 = Repräsentativer Event (JWM, JEM, YOG, U17-EM, EYOF, U15-EM) | D11: * werden die Top 32 nicht erreicht, gibt es keine Punkte
B12: 2 = SME Final
B13: 3 = Junior Int. Grand Prix Turniere & Danish Junior Cup
B14: 4 = Junior Int. Series / Junior Future Series / Junior Int. Challenge / BEC-U17 / U13 - U15
B15: 5 = Schweizermeisterschaften Junioren (SMJ)
B16: 6 = Internationales Juniorenturnier, welches nicht über BWF/BEC läuft (z.B. Bodensee-Jugendturnier, Luxembourg Youngsters, Globus-Oliver-Cup, Bozner Frühling)
B17: 7 = Swiss Badminton Junior Series (SBJS)
B18: 8 = RTJ Regional
